Workbook

Sheet 麻しん風しん (採用) (5)
L1: 令和 年 月 日
A2: （あて先） 前橋市長
A3: 麻しん・風しん抗体検査受診券 交付申請書
A4: 下記のとおり、抗体検査を受けるため申請します。
A5: ふりがな | J5: 生年月日 | L5: 昭和 / 平成 年
A6: 氏名 | L6: 月 日（ 歳）
A7: 住民票上 の住所 | C7: 〒
C8: 前橋市
A9: 電話番号
A11: 希望する検査 | C11: 対象区分 | L11: 必要書類
A12: □麻しん 抗体検査 | C12: □ | D12: 妊娠を希望の女性 | L12: 抗体検査結果※
C13: □ | D13: 【妊娠を希望する女性】の配偶者又は同居者 | L13: 抗体検査結果※
C14: □ | D14: 【妊婦】の配偶者又は同居者 | L14: 母子健康手帳、抗体検査結果※
C15: □ | D15: ０歳児の同居者 | L15: 母子健康手帳、抗体検査結果※
A18: □風しん 抗体検査 | C18: □ | D18: 妊娠を希望の女性 | L18: 抗体検査結果※
C19: □ | D19: 【妊娠を希望する女性】の配偶者又は同居者 | L19: 抗体検査結果※
C20: □ | D20: 【妊婦】の配偶者又は同居者 | L20: 母子健康手帳、抗体検査結果※
A21: ※抗体検査結果は、過去に検査歴がある場合に限ります。 なお、配偶者又は同居者の方は、【妊娠を希望する女性】又は【妊婦】の方の検査結果もご確認ください。
A22: 確認事項 | C22: □ | D22: 過去に、本事業の助成を受けたことがない。
C23: 検査歴 | D23: 麻しん | E23: □ | F23: 過去に検査を受けたことはない又は、検査結果が不明
E24: □ | F24: 過去に検査を受け十分な風しん抗体価がない
F25: 検査結果(抗体価)：EIA法16倍未満
D26: 風しん | E26: □ | F26: 過去に検査を受けたことはない又は、検査結果が不明
E27: □ | F27: 過去に検査を受け十分な風しん抗体価がない
F28: 検査結果(抗体価)：HI法16倍以下、 HI抗体価「1：16以下」に相当する抗体価
C29: 接種歴 | D29: 麻しん風しん混合： □２回 □１回 □０回 □分からない
D30: 麻しん単独 ： □２回 □１回 □０回 □分からない
D31: 風しん単独 ： □２回 □１回 □０回 □分からない
A32: 同意事項 | C32: □ | D32: 検査の結果、抗体価が低いことが判明した場合、予防接種を受けることを同意します。 ※平成２年４月１日以前に生まれた方は、予防接種の助成があります。
C34: □ | D34: 本事業の対象者であることの確認が必要な場合、市が保有する個人情報を調査および確認することに同意します。 なお、配偶者又は同居者は、原則、妊娠を希望する女性と同時に申請してください。
A36: 収集した個人情報は本事業の目的以外に使用しません。個人情報の保護に関する法律に基づき、適正に管理します。
A38: 市確認欄
A39: 受付日 | C39: 対応者 | F39: 申請方法 | G39: ☐ 窓口 | H39: ☐ 郵送 | I39: ☐オンライン
A40: 分類 | B40: ☐ 妊婦 | F40: 検査歴 | G40: 麻しん | H40: ない | K40: 風しん | L40: ない
B41: ☐ 妊娠希望の女性 | H41: ある | I41: 抗体価 | L41: ある | M41: 抗体価
A42: 過去の接種歴 | C42: 麻しん風しん混合： □１回 □０回 □分からない
C43: 麻しん単独 ： □１回 □０回 □分からない
C44: 風しん単独 ： □１回 □０回 □分からない
A45: 受検者の生年月日 | C45: □平成2年4月2日以降 | G45: □平成2年4月1日以前

Sheet 申請書
A1: 様式１ | L1: 令和 年 月 日
A2: （あて先） 前橋市長
A3: 麻しん・風しん抗体検査受診券 交付申請書
A4: 下記のとおり、抗体検査を受けるため申請します。
A5: フリガナ | J5: 生年月日 | L5: 昭和 / 平成 年
A6: 氏名 | L6: 月 日（ 歳）
A7: 住民票上 の住所 | C7: 〒
C8: 前橋市
A9: 電話番号
A11: 希望する検査 | C11: 対象区分 | L11: 必要書類
A12: □麻しん 抗体検査 | C12: □ | D12: 妊娠を希望の女性 | L12: 抗体検査結果※
C13: □ | D13: 【妊娠を希望する女性】の配偶者又は同居者 | L13: 抗体検査結果※
C14: □ | D14: 【妊婦】の配偶者又は同居者 | L14: 母子健康手帳、抗体検査結果※
C15: □ | D15: ０歳児の同居者 | L15: 母子健康手帳、抗体検査結果※
A16: □風しん 抗体検査 | C16: □ | D16: 妊娠を希望の女性 | L16: 抗体検査結果※
C17: □ | D17: 【妊娠を希望する女性】の配偶者又は同居者 | L17: 抗体検査結果※
C18: □ | D18: 【妊婦】の配偶者又は同居者 | L18: 母子健康手帳、抗体検査結果※
A19: ※抗体検査結果は、過去に検査歴がある場合に限ります。なお、妊娠を希望する女性の配偶者や同居者は、当該女性と同時に申請してください。
A20: 0歳児、妊娠希望の女性または妊婦 | D20: 氏名 | F20: □同上 | J20: 生年月日 | L20: □同上
L21: 年 月 日
A23: 確認事項 | C23: □ | D23: 過去に、本事業の助成を受けたことがない。
C24: 検査歴 | D24: 麻しん | E24: □ | F24: 過去に検査を受けたことはない又は、検査結果が不明
E25: □ | F25: 過去に検査を受け十分な麻しん抗体価がない
F26: 検査結果(抗体価)：EIA価16.0未満
D27: 風しん | E27: □ | F27: 過去に検査を受けたことはない又は、検査結果が不明
E28: □ | F28: 過去に検査を受け十分な風しん抗体価がない
F29: 検査結果(抗体価)：HI法16倍以下、EIA価8.0未満等
C30: 接種歴 | D30: 麻しん風しん混合： □２回 □１回 □０回 □分からない
D31: 麻しん単独 ： □２回 □１回 □０回 □分からない
D32: 風しん単独 ： □２回 □１回 □０回 □分からない
A33: 同意事項 | C33: □ | D33: （平成２年４月１日以前生まれの方のみ）検査の結果、抗体価が低いことが判明した場合、予防接種を受けることを希望します。【予診票を交付】
C35: □ | D35: 本事業の実施に必要な範囲で、市が保有する個人情報を確認することに同意します。
A37: 収集した個人情報は本事業の目的にのみ利用し、個人情報の保護に関する法律に基づき、適正に管理します。

Sheet 麻しん風しん (採用) (3)
K1: 令和 年 月 日
A2: （あて先） 前橋市長
C3: 麻しん・風しん抗体検査受診券 交付申請書
A4: 下記のとおり、抗体検査を受けるため申請します。
A5: ふりがな | I5: 生年月日 | K5: 昭和 / 平成
A6: 氏名 | K6: 年 月 日（ 歳）
A7: 住民票上 の住所 | C7: 〒
C8: 前橋市
A9: 電話番号
A11: 対象区分 | B11: 麻しん抗体検査 | I11: 風しん抗体検査
B12: □ | C12: 妊娠を希望の女性 | I12: □ | J12: 妊娠を希望の女性
B13: □ | C13: 【妊娠を希望する女性】の配偶者又は同居者 | I13: □ | J13: 【妊娠を希望する女性】の配偶者又は同居者
B14: □ | C14: 【妊婦】の配偶者又は同居者 | I14: □ | J14: 【妊婦】の配偶者又は同居者
B15: □ | C15: ０歳児の同居者
A16: 確認事項 | C16: ☐ | D16: 過去に麻しん・風しんに係る抗体検査を受けた結果、十分な麻しん・風しんの抗体があることが判明していない。
C18: □ | D18: 麻しん・風しん含有ワクチンを２回接種していない。
C19: □ | D19: 過去に、本事業の助成を受けたことがない。
A20: 同意事項 | C20: □ | D20: 検査の結果、抗体価が低いことが判明した場合、予防接種を受けることを同意します。 ※平成２年４月１日以前に生まれた方は、予防接種の助成があります。
C22: □ | D22: 本事業の対象者であることの確認が必要な場合、市が保有する個人情報を調査および確認することに同意します。 なお、配偶者又は同居者は、原則、妊娠を希望する女性と同時に申請してください。
A24: 収集した個人情報は本事業の目的以外に使用しません。個人情報の保護に関する法律に基づき、適正に管理します。

Sheet 申請書 (ボツ)
L1: 令和 年 月 日
A2: （あて先） 前橋市長
A3: 麻しん・風しん抗体検査受診券 交付申請書
A4: 下記のとおり、抗体検査を受けるため申請します。
A5: ふりがな | J5: 生年月日 | L5: 昭和 / 平成 年
A6: 氏名 | L6: 月 日（ 歳）
A7: 住民票上 の住所 | C7: 〒
C8: 前橋市
A9: 電話番号
A11: 希望する検査 | C11: 対象区分 | L11: 必要書類
A12: □麻しん 抗体検査 | C12: □ | D12: 妊娠を希望の女性 | L12: 抗体検査結果※
C13: □ | D13: 【妊娠を希望する女性】の配偶者又は同居者 | L13: 抗体検査結果※
C14: □ | D14: 【妊婦】の配偶者又は同居者 | L14: 母子健康手帳、抗体検査結果※
C15: □ | D15: ０歳児の同居者 | L15: 母子健康手帳、抗体検査結果※
A16: □風しん 抗体検査 | C16: □ | D16: 妊娠を希望の女性 | L16: 抗体検査結果※
C17: □ | D17: 【妊娠を希望する女性】の配偶者又は同居者 | L17: 抗体検査結果※
C18: □ | D18: 【妊婦】の配偶者又は同居者 | L18: 母子健康手帳、抗体検査結果※
A19: ※抗体検査結果は、過去に検査歴がある場合に限ります。なお、配偶者又は同居者の方は、【妊娠を希望する女性】又は【妊婦】の方の検査結果もご確認ください。妊娠を希望する女性と同時に申請してください。 | Q19: ←同意事項にあった文章をこちらに移動した
A20: 0歳児、妊娠希望の女性または妊婦 | D20: 氏名 | F20: □同上 | J20: 生年月日 | L20: □同上 | Q20: なお、妊娠を希望する女性の配偶者または同居者は当該女性と同時に申請してください
L21: 年 月 日
A23: 確認事項 | C23: □ | D23: 過去に、本事業の助成を受けたことがない。
C24: 検査歴 | D24: 麻しん | E24: □ | F24: 過去に検査を受けたことはない又は、検査結果が不明
E25: □ | F25: 過去に検査を受け十分な風しん抗体価がない
F26: 検査結果(抗体価)：EIA法16倍未満
D27: 風しん | E27: □ | F27: 過去に検査を受けたことはない又は、検査結果が不明
E28: □ | F28: 過去に検査を受け十分な風しん抗体価がない
F29: 検査結果(抗体価)：HI法16倍以下、 HI抗体価「1：16以下」に相当する抗体価
C30: 接種歴 | D30: 麻しん風しん混合： □２回 □１回 □０回 □分からない
D31: 麻しん単独 ： □２回 □１回 □０回 □分からない
D32: 風しん単独 ： □２回 □１回 □０回 □分からない
A33: 同意事項 | C33: □ | D33: 検査の結果、抗体価が低いことが判明した場合、予防接種を受けることを同意します。 ※平成２年４月１日以前に生まれた方は、予防接種の助成があります。 | Q33: （平成２年４月１日以前生まれの方のみ）検査の結果、抗体価が低いことが判明した場合、予防接種を受けることを希望します。【予診票を交付】
Q34: ↑でどうですか？ いとう
C35: □ | D35: 本事業の対象者であることの確認が必要な場合、市が保有する個人情報を調査および確認することに同意します。本事業の実施に必要な範囲で、市が保有する個人情報を確認することに同意します。 なお、配偶者又は同居者は、原則、妊娠を希望する女性と同時に申請してください。
A37: 収集した個人情報は本事業の目的以外に使用しません。にのみ利用し、個人情報の保護に関する法律に基づき、適正に管理します。

Sheet 電子申請
A1: =Q1 -> 127 | L1: =U3 -> 令和８年４月３０日 | Q1: 127 | R1: =INDEX(貼り付け!D:D,MATCH($Q$1,貼り付け!$B:$B,0)) -> 2026-04-30T09:07:03 | S1: =INDEX(貼り付け!K:K,MATCH($Q$1,貼り付け!$B:$B,0)) -> 前橋市 | T1: =INDEX(貼り付け!L:L,MATCH($Q$1,貼り付け!$B:$B,0)) -> ない | U1: =INDEX(貼り付け!M:M,MATCH($Q$1,貼り付け!$B:$B,0)) -> 中沢 | V1: =INDEX(貼り付け!N:N,MATCH($Q$1,貼り付け!$B:$B,0)) -> 知美 | W1: =INDEX(貼り付け!O:O,MATCH($Q$1,貼り付け!$B:$B,0)) -> ナカザワ | X1: =INDEX(貼り付け!P:P,MATCH($Q$1,貼り付け!$B:$B,0)) -> トモミ | Y1: =INDEX(貼り付け!Q:Q,MATCH($Q$1,貼り付け!$B:$B,0)) -> 371-0055 | Z1: =INDEX(貼り付け!R:R,MATCH($Q$1,貼り付け!$B:$B,0)) -> 群馬県 | AA1: =INDEX(貼り付け!S:S,MATCH($Q$1,貼り付け!$B:$B,0)) -> 前橋市 | AB1: =INDEX(貼り付け!T:T,MATCH($Q$1,貼り付け!$B:$B,0)) -> 北代田町359-7 | AC1: =INDEX(貼り付け!U:U,MATCH($Q$1,貼り付け!$B:$B,0)) -> 0 | AD1: =INDEX(貼り付け!V:V,MATCH($Q$1,貼り付け!$B:$B,0)) -> 8066263549 | AE1: =INDEX(貼り付け!W:W,MATCH($Q$1,貼り付け!$B:$B,0)) -> 19891103 | AF1: =INDEX(貼り付け!X:X,MATCH($Q$1,貼り付け!$B:$B,0)) -> 0回 | AG1: =INDEX(貼り付け!Y:Y,MATCH($Q$1,貼り付け!$B:$B,0)) -> 1回 | AH1: =INDEX(貼り付け!Z:Z,MATCH($Q$1,貼り付け!$B:$B,0)) -> 1回 | AI1: =INDEX(貼り付け!AA:AA,MATCH($Q$1,貼り付け!$B:$B,0)) -> 麻しん・風しん抗体検査 | AJ1: =INDEX(貼り付け!AB:AB,MATCH($Q$1,貼り付け!$B:$B,0)) -> 0 | AK1: =INDEX(貼り付け!AC:AC,MATCH($Q$1,貼り付け!$B:$B,0)) -> 0 | AL1: =INDEX(貼り付け!AD:AD,MATCH($Q$1,貼り付け!$B:$B,0)) -> 0 | AM1: =INDEX(貼り付け!AE:AE,MATCH($Q$1,貼り付け!$B:$B,0)) -> 0 | AN1: =INDEX(貼り付け!AF:AF,MATCH($Q$1,貼り付け!$B:$B,0)) -> 0 | AO1: =INDEX(貼り付け!AG:AG,MATCH($Q$1,貼り付け!$B:$B,0)) -> 妊娠を希望する女性 | AP1: =INDEX(貼り付け!AH:AH,MATCH($Q$1,貼り付け!$B:$B,0)) -> 妊娠を希望する女性 | AQ1: =INDEX(貼り付け!AI:AI,MATCH($Q$1,貼り付け!$B:$B,0)) -> 0 | AR1: =INDEX(貼り付け!AJ:AJ,MATCH($Q$1,貼り付け!$B:$B,0)) -> 0 | AS1: =INDEX(貼り付け!AK:AK,MATCH($Q$1,貼り付け!$B:$B,0)) -> ない又はわからない（結果不明） | AT1: =INDEX(貼り付け!AL:AL,MATCH($Q$1,貼り付け!$B:$B,0)) -> 0 | AU1: =INDEX(貼り付け!AM:AM,MATCH($Q$1,貼り付け!$B:$B,0)) -> 0 | AV1: =INDEX(貼り付け!AN:AN,MATCH($Q$1,貼り付け!$B:$B,0)) -> ない又はわからない（結果不明） | AW1: =INDEX(貼り付け!AO:AO,MATCH($Q$1,貼り付け!$B:$B,0)) -> 0 | AX1: =INDEX(貼り付け!AP:AP,MATCH($Q$1,貼り付け!$B:$B,0)) -> 0 | AY1: =INDEX(貼り付け!AQ:AQ,MATCH($Q$1,貼り付け!$B:$B,0)) -> 0 | AZ1: =INDEX(貼り付け!AR:AR,MATCH($Q$1,貼り付け!$B:$B,0)) -> 0 | BA1: =INDEX(貼り付け!AS:AS,MATCH($Q$1,貼り付け!$B:$B,0)) -> 0 | BB1: =INDEX(貼り付け!AT:AT,MATCH($Q$1,貼り付け!$B:$B,0)) -> （平成２年４月１日以前生まれの方のみ）検査の結果、抗体価が低いことが判明した場合、予防接種を受けることを希望します。 | BC1: =INDEX(貼り付け!AU:AU,MATCH($Q$1,貼り付け!$B:$B,0)) -> 本事業の実施に必要な範囲で、市が保有する個人情報を確認することに同意します。 | BD1: =INDEX(貼り付け!AV:AV,MATCH($Q$1,貼り付け!$B:$B,0)) -> 0 | BE1: =INDEX(貼り付け!AW:AW,MATCH($Q$1,貼り付け!$B:$B,0)) -> 0 | BF1: =INDEX(貼り付け!AX:AX,MATCH($Q$1,貼り付け!$B:$B,0)) -> 0 | BG1: =INDEX(貼り付け!AY:AY,MATCH($Q$1,貼り付け!$B:$B,0)) -> 0 | BH1: =INDEX(貼り付け!AZ:AZ,MATCH($Q$1,貼り付け!$B:$B,0)) -> 0 | BI1: =INDEX(貼り付け!BA:BA,MATCH($Q$1,貼り付け!$B:$B,0)) -> 0 | BJ1: =INDEX(貼り付け!BB:BB,MATCH($Q$1,貼り付け!$B:$B,0)) -> 0 | BK1: =INDEX(貼り付け!BC:BC,MATCH($Q$1,貼り付け!$B:$B,0)) -> 0 | BL1: =INDEX(貼り付け!BD:BD,MATCH($Q$1,貼り付け!$B:$B,0)) -> 0 | BM1: =INDEX(貼り付け!BE:BE,MATCH($Q$1,貼り付け!$B:$B,0)) -> 0 | BN1: =INDEX(貼り付け!BF:BF,MATCH($Q$1,貼り付け!$B:$B,0)) -> 0 | BO1: =INDEX(貼り付け!BG:BG,MATCH($Q$1,貼り付け!$B:$B,0)) -> 0 | BP1: =INDEX(貼り付け!BH:BH,MATCH($Q$1,貼り付け!$B:$B,0)) -> 0 | BQ1: =INDEX(貼り付け!BI:BI,MATCH($Q$1,貼り付け!$B:$B,0)) -> 0 | BR1: =INDEX(貼り付け!BJ:BJ,MATCH($Q$1,貼り付け!$B:$B,0)) -> 0 | BS1: =INDEX(貼り付け!BK:BK,MATCH($Q$1,貼り付け!$B:$B,0)) -> 0 | BT1: =INDEX(貼り付け!BL:BL,MATCH($Q$1,貼り付け!$B:$B,0)) -> 0 | BU1: =INDEX(貼り付け!BM:BM,MATCH($Q$1,貼り付け!$B:$B,0)) -> 0 | BV1: =INDEX(貼り付け!BN:BN,MATCH($Q$1,貼り付け!$B:$B,0)) -> 0 | BW1: =INDEX(貼り付け!BO:BO,MATCH($Q$1,貼り付け!$B:$B,0)) -> 0 | BX1: =INDEX(貼り付け!BP:BP,MATCH($Q$1,貼り付け!$B:$B,0)) -> 0
A2: （あて先） 前橋市長 | R2: =INDEX(貼り付け!A:A,MATCH($Q$1,貼り付け!$B:$B,0)) -> 鈴木 | S2: =TEXT(X3," ggg e年") -> 平成 1年 | U2: =LEFT(R1,4) -> 2026 | V2: =MID(R1,6,2) -> 04 | W2: =MID(R1,9,2) -> 30 | X2: =LEFT(AE1,4) -> 1989 | Y2: =MID(AE1,5,2) -> 11 | Z2: =MID(AE1,7,2) -> 03 | AS2: 10:select | AT2: 23:select | AU2: 13:select | AV2: 24:select | AW2: 26:select | AX2: 27:select | AY2: 33:select | AZ2: 28:select | BA2: 25:select | BB2: 66:checkbox | BC2: 69:checkbox | BD2: 67:checkbox | BE2: 47:file | BF2: 52:file | BG2: 53:file | BH2: 50:file | BI2: 51:file | BJ2: 48:file | BK2: 68:date | BL2: 54:birthday
A3: 麻しん・風しん抗体検査受診券 交付申請書 | S3: =TEXT(X3,"m月") -> 11月 | U3: =DBCS(TEXT(DATE(U2,V2,W2),"ggge年m月d日")) -> 令和８年４月３０日 | X3: =DBCS(TEXT(DATE(X2,Y2,Z2),"ggge年m月d日")) -> 平成１年１１月３日
A4: 下記のとおり、抗体検査を受けるため申請します。 | S4: =TEXT(X3,"d日") -> 3日
A5: フリガナ | C5: =W1&" "&X1 -> ナカザワ トモミ | J5: 生年月日 | L5: =S2 -> 平成 1年 | S5: ="（ "&DATEDIF(X3, TODAY(), "Y")&"歳）" -> （ 36歳）
A6: 氏名 | C6: =U1&" "&V1 -> 中沢 知美 | L6: =S3&S4&S5 -> 11月3日（ 36歳） | S6: 月 日（ 歳）
A7: 住民票上 の住所 | C7: ="〒"&Y1 -> 〒371-0055 | S7: =LEFT(AD1,2) -> 80
C8: =AA1&AB1&IF(AC1=0,"",AC1) -> 前橋市北代田町359-7 | S8: =MID(AD1,3,4) -> 6626
A9: 電話番号 | C9: =0&S7&S10&S8&S10&S9 -> 080-6626-3549 | S9: =MID(AD1,7,4) -> 3549
S10: -
A11: 希望する検査 | C11: 対象区分 | L11: 必要書類
A12: =T12&"麻しん 抗体検査" -> ☑麻しん 抗体検査 | C12: =S12 -> ☑ | D12: 妊娠を希望の女性 | L12: 抗体検査結果※ | R12: 妊娠を希望する女性 | S12: =IF(R12=$AO$1,"☑","□") -> ☑ | T12: =IF(AO1=0,"□","☑") -> ☑
C13: =S13 -> □ | D13: 【妊娠を希望する女性】の配偶者又は同居者 | L13: 抗体検査結果※ | R13: 【妊娠を希望する女性】の配偶者又は住民票同一の同居者 | S13: =IF(R13=$AO$1,"☑","□") -> □ | T13: =IF(AP1=0,"□","☑") -> ☑
C14: =S14 -> □ | D14: 【妊婦】の配偶者又は同居者 | L14: 母子健康手帳、抗体検査結果※ | R14: 【妊婦】の配偶者又は住民票同一の同居者 | S14: =IF(R14=$AO$1,"☑","□") -> □
C15: =S15 -> □ | D15: ０歳児の同居者 | L15: 母子健康手帳、抗体検査結果※ | R15: ０歳児の同居者（住民票同一である） | S15: =IF(R15=$AO$1,"☑","□") -> □
A16: =T13&"風しん 抗体検査" -> ☑風しん 抗体検査 | C16: =S16 -> ☑ | D16: 妊娠を希望の女性 | L16: 抗体検査結果※ | R16: 妊娠を希望する女性 | S16: =IF(R16=$AP$1,"☑","□") -> ☑
C17: =S17 -> □ | D17: 【妊娠を希望する女性】の配偶者又は同居者 | L17: 抗体検査結果※ | R17: 【妊娠を希望する女性】の配偶者又は住民票同一の同居者 | S17: =IF(R17=$AP$1,"☑","□") -> □
C18: =S18 -> □ | D18: 【妊婦】の配偶者又は同居者 | L18: 母子健康手帳、抗体検査結果※ | R18: 【妊婦】の配偶者又は住民票同一の同居者 | S18: =IF(R18=$AP$1,"☑","□") -> □
A19: ※抗体検査結果は、過去に検査歴がある場合に限ります。なお、妊娠を希望する女性または妊婦の配偶者や同居者は、当該女性と同時に申請してください。
A20: 0歳児、妊娠希望の女性または妊婦 | D20: 氏名 | F20: =IF(AQ1=0,R20,"□同上") -> ☑同上 | J20: 生年月日 | L20: =IF(AQ1=0,R20,"□同上") -> ☑同上 | R20: ☑同上
F21: =IF(AQ1=0,"",AQ1) | L21: =IF(AR1=0,R21,TEXT(AR1,"ggge年 m月 d日")) -> 年 月 日 | R21: 年 月 日
A23: 確認事項 | C23: =R23 -> ☑ | D23: 過去に、本事業の助成を受けたことがない。 | R23: =IF(T1=S23,T23,"□") -> ☑ | S23: ない | T23: ☑
C24: 検査歴 | D24: 麻しん | E24: =S25 -> ☑ | F24: 過去に検査を受けたことはない又は、検査結果が不明 | R24: 抗体価が低く、ワクチンを接種した | S24: ない又はわからない（結果不明）
E25: =R25 -> □ | F25: 過去に検査を受け十分な風しん抗体価がない | R25: =IF(AU1=R24,"☑","□") -> □ | S25: =IF(T25=S24,"☑","□") -> ☑ | T25: =IF(AT1=0,AS1,AT1) -> ない又はわからない（結果不明）
F26: 検査結果(抗体価)：EIA価16.0未満 | R26: =IF(BA1=R24,"☑","□") -> □ | S26: =IF(T26=S24,"☑","□") -> ☑ | T26: =IF(AZ1=0,AV1,AZ1) -> ない又はわからない（結果不明）
D27: 風しん | E27: =S26 -> ☑ | F27: 過去に検査を受けたことはない又は、検査結果が不明
E28: =R26 -> □ | F28: 過去に検査を受け十分な風しん抗体価がない | Q28: =VLOOKUP(R28,$T$28:$U$30,2,FALSE) -> 麻しん風しん混合： □２回 □１回 ☑０回 □分からない | R28: =AF1 -> 0回 | S28: 麻しん含有ワクチンの接種回数を教えてください。 | T28: 2回以上 | U28: 麻しん風しん混合： ☑２回 □１回 □０回 □分からない | V28: 麻しん単独 ： ☑２回 □１回 □０回 □分からない | W28: 風しん単独 ： ☑２回 □１回 □０回 □分からない
F29: 検査結果(抗体価)：HI法16倍以下、EIA価8.0未満等 | Q29: =VLOOKUP(R29,$T$28:$W$30,3,FALSE) -> 麻しん単独 ： □２回 ☑１回 □０回 □分からない | R29: =AG1 -> 1回 | S29: 風しん含有ワクチンの接種回数を教えてください。 | T29: 1回 | U29: 麻しん風しん混合： □２回 ☑１回 □０回 □分からない | V29: 麻しん単独 ： □２回 ☑１回 □０回 □分からない | W29: 風しん単独 ： □２回 ☑１回 □０回 □分からない
C30: 接種歴 | D30: =Q28 -> 麻しん風しん混合： □２回 □１回 ☑０回 □分からない | Q30: =VLOOKUP(R30,$T$28:$W$30,4,FALSE) -> 風しん単独 ： □２回 ☑１回 □０回 □分からない | R30: =AH1 -> 1回 | S30: 麻しん・風しん含有ワクチンの接種回数を教えてください。 | T30: 0回 | U30: 麻しん風しん混合： □２回 □１回 ☑０回 □分からない | V30: 麻しん単独 ： □２回 □１回 ☑０回 □分からない | W30: 風しん単独 ： □２回 □１回 ☑０回 □分からない
D31: =Q29 -> 麻しん単独 ： □２回 ☑１回 □０回 □分からない
D32: =Q30 -> 風しん単独 ： □２回 ☑１回 □０回 □分からない
A33: 同意事項 | C33: =R36 -> ☑ | D33: （平成２年４月１日以前生まれの方のみ）検査の結果、抗体価が低いことが判明した場合、予防接種を受けることを希望します。【予診票を交付】
C35: =IF(S35=0,T36,S36) -> ☑ | D35: 本事業の実施に必要な範囲で、市が保有する個人情報を確認することに同意します。 | R35: =BB1 -> （平成２年４月１日以前生まれの方のみ）検査の結果、抗体価が低いことが判明した場合、予防接種を受けることを希望します。 | S35: =BC1 -> 本事業の実施に必要な範囲で、市が保有する個人情報を確認することに同意します。 | T35: =BD1 -> 0
R36: =IF(R35=0,"□","☑") -> ☑ | S36: =IF(S35=0,"□","☑") -> ☑ | T36: =IF(T35=0,"□","☑") -> □
A37: 収集した個人情報は本事業の目的にのみ利用し、個人情報の保護に関する法律に基づき、適正に管理します。 | S37: 本事業の実施に必要な範囲で、市が保有する個人情報を確認することに同意します。
A39: １．必要書類の有無を確認 | S39: なし | T39: あり
A40: 麻しん | G40: 検査歴 | I40: 必要書類 | O40: 質問項目 | Q40: 麻しん | R40: 受検希望者の検査 | S40: =IF(T40="☑","□","☑") -> ☑ | T40: =IF(OR(AS1="ある",AT1="ある"),"☑","□") -> □ | BI40: 47:file | BJ40: 52:file | BK40: 53:file | BL40: 50:file | BM40: 51:file | BN40: 48:file
A41: =IFERROR(C12,"□") -> ☑ | B41: 妊娠を希望の女性 | G41: =IF(A41="□","□",T40) -> □ | H41: あり | I41: 抗体検査結果 | O41: 26 | Q41: 風しん | R41: 妊娠希望者の検査 | S41: =IF(T41="☑","□","☑") -> ☑ | T41: =IF(AV1="ある","☑","□") -> □
G42: =IF(A41="□","□",S40) -> ☑ | H42: なし | I42: ー | R42: 受検希望者の検査 | S42: =IF(T42="☑","□","☑") -> ☑ | T42: =IF(AZ1="ある","☑","□") -> □
A43: =IFERROR(C13,"□") -> □ | B43: 【妊娠を希望する女性】 の配偶者又は同居者 | G43: =IF(A43="□","□",T40) -> □ | H43: あり | I43: 抗体検査結果 | O43: 26 | R43: 妊娠希望者の検査（同居） | S43: =IF(T43="☑","□","☑") -> ☑ | T43: =IF(AW1="ある","☑","□") -> □
...

Sheet 貼り付け
B1: 回答番号 | C1: 受付番号 | D1: 回答日時 | E1: 申請状況 | F1: 申請状況補足 | G1: 申請方式 | H1: 処理状況 | I1: 処理状況補足 | J1: 利用者番号 | K1: 2:select | L1: 57:select | M1: 54:lastname | N1: 54:firstname | O1: 54:lastfurigana | P1: 54:firstfurigana | Q1: 54:zipcode | R1: 54:prefecture | S1: 54:address1 | T1: 54:address2 | U1: 54:address3 | V1: 54:tel | W1: 68:number | X1: 5:select | Y1: 3:select | Z1: 4:select | AA1: 58:select | AB1: 59:select | AC1: 1:select | AD1: 61:select | AE1: 62:select | AF1: 63:select | AG1: 9:select | AH1: 20:select | AI1: 55:text | AJ1: 56:date | AK1: 10:select | AL1: 23:select | AM1: 13:select | AN1: 24:select | AO1: 26:select | AP1: 27:select | AQ1: 33:select | AR1: 28:select | AS1: 25:select | AT1: 66:checkbox | AU1: 69:checkbox | AV1: 67:checkbox | AW1: 47:file | AX1: 52:file | AY1: 53:file | AZ1: 50:file | BA1: 51:file | BB1: 48:file | BC1: 68:date | BD1: 54:birthday
M2: 検査を希望する方の情報を入力してください。 | AN2: 1 | AO2: 4 | AP2: 2 | AQ2: 3 | AR2: 2、3、4 | AS2: 5
B3: 平成2年4月2日以降に生まれた方は、麻しん・風しん（MR）ワクチンを2回接種している可能性があります。 | X3: 接種歴については、母子健康手帳や予防接種記録などでご確認ください。 [麻しん・風しん混合ワクチン] | AK3: 麻しん | AN3: 風しん
A4: 受付者氏名 | K4: 住民票の所在はどこですか？ | L4: 過去に、本事業の助成を受けたことがありますか？ | W4: [生年月日を8桁の西暦で入力してください] | X4: 麻しん・風しん含有ワクチンの接種回数を教えてください。 | Y4: [麻しん単独ワクチン] | Z4: [風しん単独ワクチン] | AA4: 希望する検査を選択してください。 | AB4: 希望する検査を選択してください。 | AC4: 希望する検査を選択してください。 [風しん抗体検査は助成の対象外となります。] | AD4: 希望する検査を選択してください。 [風しん抗体検査は助成の対象外となります。] | AE4: 希望する検査を選択してください。 [麻しん抗体検査は助成の対象外となります。] | AF4: 希望する検査を選択してください。 [麻しん抗体検査は助成の対象外となります。] | AG4: 麻しん抗体検査の対象区分を選択してください。 [⚠対象区分に該当しない方は、検査費用の助成を受けることができません。] | AH4: 風しん抗体検査の対象区分を選択してください。 [⚠対象区分に該当しない方は、検査費用の助成を受けることができません。] | AI4: 0歳児、妊娠希望の女性または妊婦の氏名を入力してください。 | AJ4: 0歳児、妊娠希望の女性または妊婦の生年月日を入力してください。 | AK4: 受検希望者は過去に抗体検査を行ったことがありますか？ | AL4: 受検希望者は過去に抗体検査を行ったことがありますか？ | AM4: 麻しん抗体検査の結果を教えてください。 [EIA法による検査で16.0未満の結果が出た方は、抗体価が低いと判断されます。] | AN4: 受検希望者は過去に抗体検査を行ったことがありますか？ | AO4: 妊娠を希望する女性は、妊婦健診等で過去に抗体検査を行ったことがありますか？ | AP4: 検査の結果を教えてください。 [HI法による検査で16倍以下又は、EIA法による検査で8.0未満の結果が出た方は、抗体価が低いと判断されます。] | AQ4: 妊婦健診の結果を教えてください。 [HI法による検査で16倍以下又は、EIA法による検査で8.0未満の結果が出た方は、抗体価が低いと判断されます。] | AR4: 受検希望者は過去に抗体検査を行ったことがありますか？ | AS4: 風しん抗体検査の結果を教えてください。 [HI法による検査で16倍以下又は、EIA法による検査で8.0未満の結果が出た方は、抗体価が低いと判断されます。] | AT4: 同意いただける場合は☑してください。 | AV4: 同意いただける場合は☑してください。 | AW4: 麻しんの抗体検査結果を添付してください。 | AX4: お子さんの母子手帳の表紙の写真を添付してください。 | AY4: お子さんの母子手帳の表紙の写真を添付してください。 | AZ4: 妊娠を希望する方の風しんの抗体検査結果を添付してください。 | BA4: 妊娠を希望する方の風しんの抗体検査結果を添付してください。 | BB4: 妊婦健診の風しんの抗体検査結果を添付してください。 | BC4: 妊婦健診の風しんの抗体検査結果を添付してください。 | BD4: 受検希望者の風しんの抗体検査結果を添付してください。
A5: 山下 | B5: 6 | C5: NP00000688 | D5: 2026-02-02T10:37:04 | E5: 受付 | G5: オンライン | H5: 受付 | K5: 前橋市 | L5: ない | M5: 大濱 | N5: 由理 | O5: オオハマ | P5: ユリ | Q5: 371-0846 | R5: 群馬県 | S5: 前橋市 | T5: 元総社町2334番地 | U5: セルディーナ103号 | V5: 8079736822 | W5: 19850715 | X5: 0回 | Y5: 1回 | Z5: 1回 | AA5: 麻しん抗体検査 | AG5: ０歳児の同居者（住民票同一である） | AL5: ない又はわからない（結果不明） | AT5: （平成２年４月１日以前生まれの方のみ）検査の結果、抗体価が低いことが判明した場合、予防接種を受けることを希望します。 | AU5: 本事業の実施に必要な範囲で、市が保有する個人情報を確認することに同意します。
A6: 山下 | B6: 8 | C6: NP00000834 | D6: 2026-02-03T09:48:57 | E6: 受付 | G6: オンライン | H6: 受付 | K6: 前橋市 | L6: ない | M6: 佐々木 | N6: 由香 | O6: ササキ | P6: ユカ | Q6: 379-2114 | R6: 群馬県 | S6: 前橋市 | T6: 上増田町437-3 | V6: 9069365150 | W6: 19841007 | X6: 0回 | Y6: 0回 | Z6: 0回 | AA6: 麻しん・風しん抗体検査 | AG6: 妊娠を希望する女性 | AH6: 妊娠を希望する女性 | AK6: ない又はわからない（結果不明） | AN6: ない又はわからない（結果不明） | AT6: （平成２年４月１日以前生まれの方のみ）検査の結果、抗体価が低いことが判明した場合、予防接種を受けることを希望します。 | AU6: 本事業の実施に必要な範囲で、市が保有する個人情報を確認することに同意します。
A7: 茂木 | B7: 9 | C7: NP00000994 | D7: 2026-02-03T14:11:16 | E7: 受付 | G7: オンライン | H7: 受付 | K7: 前橋市 | L7: ない | M7: 高木 | N7: 龍一 | O7: タカギ | P7: リュウイチ | Q7: 371-0842 | R7: 群馬県 | S7: 前橋市 | T7: 下石倉町３－９ | U7: レジア下石倉203 | V7: 8067547426 | W7: 19910501 | X7: 0回 | Y7: 0回 | Z7: 0回 | AA7: 麻しん・風しん抗体検査 | AG7: 【妊婦】の配偶者又は住民票同一の同居者 | AH7: 【妊婦】の配偶者又は住民票同一の同居者 | AI7: 高木 美鈴 | AJ7: 34401 | AL7: ない又はわからない（結果不明） | AQ7: 抗体価が低かった | AR7: ない又はわからない（結果不明） | AV7: 本事業の実施に必要な範囲で、市が保有する個人情報を確認することに同意します。 | AX7: 9_70_20260203-1400_001.jpeg | BB7: 9_50_20260201-1859_001.jpeg
A8: 山下 | B8: 11 | C8: NP00001148 | D8: 2026-02-05T02:03:00 | E8: 受付 | G8: オンライン | H8: 受付 | K8: 前橋市 | L8: ない | M8: 阿部 | N8: 将也 | O8: アベ | P8: マサヤ | Q8: 371-0826 | R8: 群馬県 | S8: 前橋市 | T8: 青葉町19-1 | U8: サンアレー203 | V8: 9089244356 | W8: 19830304 | X8: 0回 | Y8: 0回 | Z8: 0回 | AA8: 麻しん・風しん抗体検査 | AG8: 【妊娠を希望する女性】の配偶者又は住民票同一の同居者 | AH8: 【妊娠を希望する女性】の配偶者又は住民票同一の同居者 | AI8: 阿部弥香 | AJ8: 29293 | AK8: ない又はわからない（結果不明） | AO8: ない又はわからない（結果不明） | AR8: ない又はわからない（結果不明） | AT8: （平成２年４月１日以前生まれの方のみ）検査の結果、抗体価が低いことが判明した場合、予防接種を受けることを希望します。 | AU8: 本事業の実施に必要な範囲で、市が保有する個人情報を確認することに同意します。
A9: 山下 | B9: 10 | C9: NP00001030 | D9: 2026-02-05T01:57:32 | E9: 受付 | G9: オンライン | H9: 受付 | K9: 前橋市 | L9: ない | M9: 阿部 | N9: 弥香 | O9: アベ | P9: ミカ | Q9: 371-0826 | R9: 群馬県 | S9: 前橋市 | T9: 青葉町19-1 | U9: サンアレー203 | V9: 8030059218 | W9: 19800313 | X9: 0回 | Y9: 1回 | Z9: 1回 | AA9: 麻しん・風しん抗体検査 | AG9: 妊娠を希望する女性 | AH9: 妊娠を希望する女性 | AK9: ない又はわからない（結果不明） | AN9: ない又はわからない（結果不明） | AT9: （平成２年４月１日以前生まれの方のみ）検査の結果、抗体価が低いことが判明した場合、予防接種を受けることを希望します。 | AU9: 本事業の実施に必要な範囲で、市が保有する個人情報を確認することに同意します。
A10: 鈴木 | B10: 12 | C10: NP00001236 | D10: 2026-02-07T18:56:58 | E10: 受付 | G10: オンライン | H10: 受付 | K10: 前橋市 | L10: ない | M10: 波方 | N10: 友梨奈 | O10: ナミカタ | P10: ユリナ | Q10: 371-0821 | R10: 群馬県 | S10: 前橋市 | T10: 上新田町230-13 | V10: 8067422415 | W10: 19951024 | X10: 1回 | Y10: 0回 | Z10: 2回以上 | AD10: 麻しん抗体検査 | AG10: 妊娠を希望する女性 | AK10: ない又はわからない（結果不明） | AV10: 本事業の実施に必要な範囲で、市が保有する個人情報を確認することに同意します。
A11: 戸部 | B11: 13 | C11: NP00001348 | D11: 2026-02-10T10:41:14 | E11: 受付 | G11: オンライン | H11: 受付 | K11: 前橋市 | L11: ない | M11: 竹山 | N11: 将志 | O11: タケヤマ | P11: マサシ | Q11: 371-0007 | R11: 群馬県 | S11: 前橋市 | T11: 上泉町2811-45 | V11: 9044103732 | W11: 19830330 | X11: 1回 | Y11: 0回 | Z11: 0回 | AB11: 麻しん抗体検査 | AG11: 【妊娠を希望する女性】の配偶者又は住民票同一の同居者 | AI11: 星野恵美 | AJ11: 33976 | AK11: ない又はわからない（結果不明） | AT11: （平成２年４月１日以前生まれの方のみ）検査の結果、抗体価が低いことが判明した場合、予防接種を受けることを希望します。 | AU11: 本事業の実施に必要な範囲で、市が保有する個人情報を確認することに同意します。
A12: 鈴木 | B12: 14 | C12: NP00001420 | D12: 2026-02-11T12:11:58 | E12: 受付 | G12: オンライン | H12: 受付 | K12: 前橋市 | L12: ない | M12: 髙田 | N12: 裕貴 | O12: タカダ | P12: ユウキ | Q12: 371-0007 | R12: 群馬県 | S12: 前橋市 | T12: 上泉町 | U12: 661-8 | V12: 9033467816 | W12: 19890730 | X12: 0回 | Y12: 1回 | Z12: 0回 | AA12: 麻しん抗体検査 | AG12: ０歳児の同居者（住民票同一である） | AL12: ない又はわからない（結果不明） | AT12: （平成２年４月１日以前生まれの方のみ）検査の結果、抗体価が低いことが判明した場合、予防接種を受けることを希望します。 | AU12: 本事業の実施に必要な範囲で、市が保有する個人情報を確認することに同意します。 | AX12: 14_70_image.jpg
A13: 鈴木 | B13: 15 | C13: NP00001529 | D13: 2026-02-12T09:45:09 | E13: 受付 | G13: オンライン | H13: 受付 | K13: 前橋市 | L13: ない | M13: 高橋 | N13: 琴美 | O13: タカハシ | P13: コトミ | Q13: 371-0852 | R13: 群馬県 | S13: 前橋市 | T13: 総社町総社1412-10 | V13: 8020358176 | W13: 19940524 | X13: 0回 | Y13: 1回 | Z13: 1回 | AA13: 麻しん・風しん抗体検査 | AG13: 妊娠を希望する女性 | AH13: 妊娠を希望する女性 | AK13: ない又はわからない（結果不明） | AN13: ある | AS13: 抗体価が高かった | AV13: 本事業の実施に必要な範囲で、市が保有する個人情報を確認することに同意します。
A14: 茂木 | B14: 16 | C14: NP00001623 | D14: 2026-02-12T17:18:29 | E14: 受付 | G14: オンライン | H14: 受付 | K14: 前橋市 | L14: ない | M14: 堀内 | N14: 弘恵 | O14: ホリウチ | P14: ヒロエ | Q14: 371-0013 | R14: 群馬県 | S14: 前橋市 | T14: 西片貝町5-15-3 | V14: 8054786874 | W14: 19880726 | X14: 1回 | Y14: 0回 | Z14: 0回 | AB14: 麻しん・風しん抗体検査 | AG14: 妊娠を希望する女性 | AH14: 妊娠を希望する女性 | AK14: ない又はわからない（結果不明） | AN14: ない又はわからない（結果不明） | AT14: （平成２年４月１日以前生まれの方のみ）検査の結果、抗体価が低いことが判明した場合、予防接種を受けることを希望します。 | AU14: 本事業の実施に必要な範囲で、市が保有する個人情報を確認することに同意します。
A15: 茂木 | B15: 17 | C15: NP00001710 | D15: 2026-02-12T17:22:21 | E15: 受付 | G15: オンライン | H15: 受付 | K15: 前橋市 | L15: ない | M15: 堀内 | N15: 祐希 | O15: ホリウチ | P15: ユウキ | Q15: 371-0013 | R15: 群馬県 | S15: 前橋市 | T15: 西片貝町5-15-3 | V15: 8054786874 | W15: 19860305 | X15: 0回 | Y15: 0回 | Z15: 0回 | AA15: 麻しん・風しん抗体検査 | AG15: 【妊娠を希望する女性】の配偶者又は住民票同一の同居者 | AH15: 【妊娠を希望する女性】の配偶者又は住民票同一の同居者 | AI15: 堀内弘恵 | AJ15: 32350 | AK15: ない又はわからない（結果不明） | AO15: ない又はわからない（結果不明） | AR15: ない又はわからない（結果不明） | AT15: （平成２年４月１日以前生まれの方のみ）検査の結果、抗体価が低いことが判明した場合、予防接種を受けることを希望します。 | AU15: 本事業の実施に必要な範囲で、市が保有する個人情報を確認することに同意します。
A16: 鈴木 | B16: 18 | C16: NP00001816 | D16: 2026-02-13T14:56:42 | E16: 受付 | G16: オンライン | H16: 受付 | K16: 前橋市 | L16: ない | M16: 松田 | N16: 瑠唯 | O16: マツダ | P16: ルイ | Q16: 371-0805 | R16: 群馬県 | S16: 前橋市 | T16: 南町四丁目50番地10 | U16: T'sハウス101 | V16: 9024989171 | W16: 19890221 | X16: 0回 | Y16: 1回 | Z16: 0回 | AA16: 麻しん抗体検査 | AG16: ０歳児の同居者（住民票同一である） | AI16: 松田 千弦 | AJ16: 45925 | AL16: ない又はわからない（結果不明） | AT16: （平成２年４月１日以前生まれの方のみ）検査の結果、抗体価が低いことが判明した場合、予防接種を受けることを希望します。 | AU16: 本事業の実施に必要な範囲で、市が保有する個人情報を確認することに同意します。 | AX16: 18_70_image.jpg
A17: 山下 | B17: 19 | C17: NP00001980 | D17: 2026-02-14T15:17:23 | E17: 受付 | G17: オンライン | H17: 受付 | K17: 前橋市 | L17: ない | M17: 真下 | N17: 愛美 | O17: マシタ | P17: マナミ | Q17: 379-2154 | R17: 群馬県 | S17: 前橋市 | T17: 天川大島町１４２２－１ | U17: グレイスセキグチ３０１ | V17: 8054559410 | W17: 19910411 | X17: 1回 | Y17: 0回 | Z17: 0回 | AB17: 麻しん・風しん抗体検査 | AG17: 妊娠を希望する女性 | AH17: 妊娠を希望する女性 | AK17: ない又はわからない（結果不明） | AN17: ない又はわからない（結果不明） | AV17: 本事業の実施に必要な範囲で、市が保有する個人情報を確認することに同意します。
A18: 山下 | B18: 23 | C18: NP00002320 | D18: 2026-02-16T14:26:44 | E18: 受付 | G18: オンライン | H18: 受付 | K18: 前橋市 | L18: ない | M18: 五十嵐 | N18: 智直 | O18: イガラシ | P18: トモナオ | Q18: 371-0232 | R18: 群馬県 | S18: 前橋市 | T18: 茂木町605番地5 | U18: ダンデライオンA-101 | V18: 9093218648 | W18: 19840316 | X18: 0回 | Y18: 1回 | Z18: 1回 | AA18: 麻しん・風しん抗体検査 | AG18: 【妊娠を希望する女性】の配偶者又は住民票同一の同居者 | AH18: 【妊娠を希望する女性】の配偶者又は住民票同一の同居者 | AI18: 五十嵐祥子 | AJ18: 46069 | AK18: ない又はわからない（結果不明） | AO18: ない又はわからない（結果不明） | AR18: ない又はわからない（結果不明） | AT18: （平成２年４月１日以前生まれの方のみ）検査の結果、抗体価が低いことが判明した場合、予防接種を受けることを希望します。 | AU18: 本事業の実施に必要な範囲で、市が保有する個人情報を確認することに同意します。
A19: 山下 | B19: 22 | C19: NP00002254 | D19: 2026-02-16T14:20:55 | E19: 受付 | G19: オンライン | H19: 受付 | K19: 前橋市 | L19: ない | M19: 五十嵐 | N19: 祥子 | O19: イガラシ | P19: サチコ | Q19: 371-0232 | R19: 群馬県 | S19: 前橋市 | T19: 茂木町605番地5 | U19: ダンデライオンA-101 | V19: 9057846032 | W19: 19860328 | X19: 0回 | Y19: 1回 | Z19: 1回 | AA19: 麻しん・風しん抗体検査 | AG19: 妊娠を希望する女性 | AH19: 妊娠を希望する女性 | AK19: ない又はわからない（結果不明） | AN19: ない又はわからない（結果不明） | AT19: （平成２年４月１日以前生まれの方のみ）検査の結果、抗体価が低いことが判明した場合、予防接種を受けることを希望します。 | AU19: 本事業の実施に必要な範囲で、市が保有する個人情報を確認することに同意します。
A20: 山下 | B20: 24 | C20: NP00002432 | D20: 2026-02-17T12:16:56 | E20: 受付 | G20: オンライン | H20: 受付 | K20: 前橋市 | L20: ない | M20: 星野 | N20: 瞳 | O20: ホシノ | P20: ヒトミ | Q20: 371-0846 | R20: 群馬県 | S20: 前橋市 | T20: 元総社町1600-2 | U20: マールアスールＩ棟 | V20: 9049570302 | W20: 19901007 | X20: 1回 | Y20: 0回 | Z20: 0回 | AB20: 麻しん・風しん抗体検査 | AG20: 妊娠を希望する女性 | AH20: 妊娠を希望する女性 | AK20: ない又はわからない（結果不明） | AN20: ある | AS20: 抗体価が低く、ワクチンを接種した | AV20: 本事業の実施に必要な範囲で、市が保有する個人情報を確認することに同意します。
A21: 鈴木 | B21: 26 | C21: NP00002684 | D21: 2026-02-18T22:48:06 | E21: 受付 | G21: オンライン | H21: 受付 | K21: 前橋市 | L21: ない | M21: 甘利 | N21: 彩子 | O21: アマリ | P21: アヤコ | Q21: 371-0803 | R21: 群馬県 | S21: 前橋市 | T21: 天川原町2-42-4 | U21: ハイムマローネII 201号 | V21: 7028233698 | W21: 19871010 | X21: 1回 | Y21: 0回 | Z21: 0回 | AB21: 麻しん抗体検査 | AG21: 妊娠を希望する女性 | AK21: ない又はわからない（結果不明） | AT21: （平成２年４月１日以前生まれの方のみ）検査の結果、抗体価が低いことが判明した場合、予防接種を受けることを希望します。 | AU21: 本事業の実施に必要な範囲で、市が保有する個人情報を確認することに同意します。
A22: 鈴木 | B22: 25 | C22: NP00002582 | D22: 2026-02-18T22:05:03 | E22: 受付 | G22: オンライン | H22: 受付 | K22: 前橋市 | L22: ない | M22: 平島 | N22: 恵理子 | O22: ヒラシマ | P22: エリコ | Q22: 371-0801 | R22: 群馬県 | S22: 前橋市 | T22: 文京町3-1-10 | U22: 401 | V22: 8017283868 | W22: 19890902 | X22: 0回 | Y22: 1回 | Z22: 1回 | AA22: 麻しん・風しん抗体検査 | AG22: 妊娠を希望する女性 | AH22: 妊娠を希望する女性 | AK22: ない又はわからない（結果不明） | AN22: ない又はわからない（結果不明） | AT22: （平成２年４月１日以前生まれの方のみ）検査の結果、抗体価が低いことが判明した場合、予防接種を受けることを希望します。 | AU22: 本事業の実施に必要な範囲で、市が保有する個人情報を確認することに同意します。
A23: 茂木 | B23: 27 | C23: NP00002790 | D23: 2026-02-19T09:55:43 | E23: 受付 | G23: オンライン | H23: 受付 | K23: 前橋市 | L23: ない | M23: 神戸 | N23: 恵実 | O23: カンベ | P23: メグミ | Q23: 371-0244 | R23: 群馬県 | S23: 前橋市 | T23: 鼻毛石町1074番地4 | V23: 9047009448 | W23: 19920407 | X23: 0回 | Y23: 0回 | Z23: 2回以上 | AC23: 麻しん抗体検査 | AG23: ０歳児の同居者（住民票同一である） | AI23: 神戸晴陽 | AJ23: 45904 | AL23: ない又はわからない（結果不明） | AV23: 本事業の実施に必要な範囲で、市が保有する個人情報を確認することに同意します。 | AX23: 27_70_image.jpg
A24: 茂木 | B24: 28 | C24: NP00002843 | D24: 2026-02-19T10:10:41 | E24: 受付 | G24: オンライン | H24: 受付 | K24: 前橋市 | L24: ない | M24: 神戸 | N24: 祐二 | O24: カンベ | P24: ユウジ | Q24: 371-0244 | R24: 群馬県 | S24: 前橋市 | T24: 鼻毛石町1074番地4 | V24: 7038404886 | W24: 19921208 | X24: 0回 | Y24: 0回 | Z24: 0回 | AA24: 麻しん抗体検査 | AG24: ０歳児の同居者（住民票同一である） | AI24: 神戸晴陽 | AJ24: 45904 | AL24: ない又はわからない（結果不明） | AV24: 本事業の実施に必要な範囲で、市が保有する個人情報を確認することに同意します。 | AX24: 28_70_image.jpg
A25: 茂木 | B25: 29 | C25: NP00002960 | D25: 2026-02-19T22:22:31 | E25: 受付 | G25: オンライン | H25: 受付 | K25: 前橋市 | L25: ない | M25: 真下 | N25: 達也 | O25: マシタ | P25: タツヤ | Q25: 379-2154 | R25: 群馬県 | S25: 前橋市 | T25: 天川大島町1422-1 | U25: グレイスセキグチ301号室 | V25: 8012844604 | W25: 19881108 | X25: 0回 | Y25: 0回 | Z25: 1回 | AA25: 麻しん・風しん抗体検査 | AG25: 【妊娠を希望する女性】の配偶者又は住民票同一の同居者 | AH25: 【妊娠を希望する女性】の配偶者又は住民票同一の同居者 | AI25: 真下愛美 | AJ25: 33339 | AK25: ない又はわからない（結果不明） | AO25: ない又はわからない（結果不明） | AR25: ない又はわからない（結果不明） | AT25: （平成２年４月１日以前生まれの方のみ）検査の結果、抗体価が低いことが判明した場合、予防接種を受けることを希望します。 | AU25: 本事業の実施に必要な範囲で、市が保有する個人情報を確認することに同意します。
A26: 茂木 | B26: 30 | C26: NP00003016 | D26: 2026-02-20T11:30:04 | E26: 受付 | G26: オンライン | H26: 受付 | K26: 前橋市 | L26: ない | M26: 木村 | N26: 努 | O26: キムラ | P26: ツトム | Q26: 371-0007 | R26: 群馬県 | S26: 前橋市 | T26: 上泉町1829-1 | V26: 9099784789 | W26: 19810819 | X26: 0回 | Y26: 0回 | Z26: 0回 | AA26: 麻しん・風しん抗体検査 | AG26: 【妊婦】の配偶者又は住民票同一の同居者 | AH26: 【妊婦】の配偶者又は住民票同一の同居者 | AI26: 木村 仁見 | AJ26: 32646 | AL26: ない又はわからない（結果不明） | AQ26: 抗体価が高かった | AT26: （平成２年４月１日以前生まれの方のみ）検査の結果、抗体価が低いことが判明した場合、予防接種を受けることを希望します。 | AU26: 本事業の実施に必要な範囲で、市が保有する個人情報を確認することに同意します。 | AX26: 30_70_image.jpg
A27: 鈴木 | B27: 31 | C27: NP00003173 | D27: 2026-02-20T16:12:56 | E27: 受付 | G27: オンライン | H27: 受付 | K27: 前橋市 | L27: ない | M27: 小林 | N27: 弘明 | O27: コバヤシ | P27: ヒロアキ | Q27: 371-0852 | R27: 群馬県 | S27: 前橋市 | T27: 総社町総社1331-5 | V27: 9084321892 | W27: 19910821 | X27: 0回 | Y27: 0回 | Z27: 0回 | AA27: 麻しん・風しん抗体検査 | AG27: 【妊娠を希望する女性】の配偶者又は住民票同一の同居者 | AH27: 【妊娠を希望する女性】の配偶者又は住民票同一の同居者 | AI27: 小林まゆみ | AJ27: 33365 | AK27: ない又はわからない（結果不明） | AO27: ある | AP27: 抗体価が低かった | AR27: ない又はわからない（結果不明） | AV27: 本事業の実施に必要な範囲で、市が保有する個人情報を確認することに同意します。 | AZ27: 31_52_image.jpg
A28: 鈴木 | B28: 33 | C28: NP00003352 | D28: 2026-02-21T10:10:11 | E28: 受付 | G28: オンライン | H28: 受付 | K28: 前橋市 | L28: ない | M28: 横堀 | N28: 彩香 | O28: ヨコボリ | P28: アヤカ | Q28: 371-0004 | R28: 群馬県 | S28: 前橋市 | T28: 亀泉町630-1 | V28: 8020776151 | W28: 19841027 | X28: 0回 | Y28: 1回 | Z28: 0回 | AA28: 麻しん抗体検査 | AG28: 妊娠を希望する女性 | AK28: ない又はわからない（結果不明） | AT28: （平成２年４月１日以前生まれの方のみ）検査の結果、抗体価が低いことが判明した場合、予防接種を受けることを希望します。 | AU28: 本事業の実施に必要な範囲で、市が保有する個人情報を確認することに同意します。
A29: 山下 | B29: 35 | C29: NP00003550 | D29: 2026-02-24T12:36:07 | E29: 受付 | G29: オンライン | H29: 受付 | K29: 前橋市 | L29: ない | M29: 髙田 | N29: 真弓 | O29: タカダ | P29: マユミ | Q29: 379-2144 | R29: 群馬県 | S29: 前橋市 | T29: 下川町51-6 | V29: 9051933035 | W29: 19681031 | X29: 0回 | Y29: 0回 | Z29: 0回 | AA29: 麻しん・風しん抗体検査 | AG29: 【妊娠を希望する女性】の配偶者又は住民票同一の同居者 | AH29: 【妊娠を希望する女性】の配偶者又は住民票同一の同居者 | AI29: 髙田安奈 | AJ29: 35741 | AK29: ない又はわからない（結果不明） | AO29: ない又はわからない（結果不明） | AR29: ない又はわからない（結果不明） | AT29: （平成２年４月１日以前生まれの方のみ）検査の結果、抗体価が低いことが判明した場合、予防接種を受けることを希望します。 | AU29: 本事業の実施に必要な範囲で、市が保有する個人情報を確認することに同意します。
A30: 山下 | B30: 34 | C30: NP00003408 | D30: 2026-02-24T12:31:51 | E30: 受付 | G30: オンライン | H30: 受付 | K30: 前橋市 | L30: ない | M30: 高田 | N30: 安奈 | O30: タカダ | P30: アンナ | Q30: 379-2144 | R30: 群馬県 | S30: 前橋市 | T30: 下川町51-6 | V30: 9055608853 | W30: 19971107 | X30: 0回 | Y30: 1回 | Z30: 1回 | AA30: 麻しん・風しん抗体検査 | AG30: 妊娠を希望する女性 | AH30: 妊娠を希望する女性 | AK30: ない又はわからない（結果不明） | AN30: ない又はわからない（結果不明） | AV30: 本事業の実施に必要な範囲で、市が保有する個人情報を確認することに同意します。
A31: 鈴木 | B31: 36 | C31: NP00003664 | D31: 2026-02-24T17:07:30 | E31: 受付 | G31: オンライン | H31: 受付 | K31: 前橋市 | L31: ない | M31: 町田 | N31: 千枝 | O31: マチダ | P31: チエ | Q31: 371-0037 | R31: 群馬県 | S31: 前橋市 | T31: 上小出町2-3-15 | U31: vilakeyaki101 | V31: 8050015879 | W31: 19880511 | X31: 0回 | Y31: 0回 | Z31: 1回 | AA31: 麻しん・風しん抗体検査 | AG31: ０歳児の同居者（住民票同一である） | AH31: 妊娠を希望する女性 | AI31: 町田 千枝 | AJ31: 32274 | AL31: ない又はわからない（結果不明） | AN31: ない又はわからない（結果不明） | AT31: （平成２年４月１日以前生まれの方のみ）検査の結果、抗体価が低いことが判明した場合、予防接種を受けることを希望します。 | AU31: 本事業の実施に必要な範囲で、市が保有する個人情報を確認することに同意します。 | AX31: 36_70_image.jpg
A32: 鈴木 | B32: 37 | C32: NP00003718 | D32: 2026-02-26T13:49:39 | E32: 受付 | G32: オンライン | H32: 受付 | K32: 前橋市 | L32: ない | M32: 大塚 | N32: 杏磨 | O32: オオツカ | P32: キョウマ | Q32: 371-0055 | R32: 群馬県 | S32: 前橋市 | T32: 北代田町370-8 | U32: オペラハウス北代田202 | V32: 9071723796 | W32: 19911120 | X32: 1回 | Y32: 0回 | Z32: 0回 | AB32: 麻しん・風しん抗体検査 | AG32: 【妊娠を希望する女性】の配偶者又は住民票同一の同居者 | AH32: 【妊娠を希望する女性】の配偶者又は住民票同一の同居者 | AI32: 大塚 鈴音 | AJ32: 33134 | AK32: ない又はわからない（結果不明） | AO32: ない又はわからない（結果不明） | AR32: ない又はわからない（結果不明） | AV32: 本事業の実施に必要な範囲で、市が保有する個人情報を確認することに同意します。
A33: 山下 | B33: 39 | C33: NP00003972 | D33: 2026-02-27T09:50:53 | E33: 受付 | G33: オンライン | H33: 受付 | K33: 前橋市 | L33: ない | M33: Thalagala Vithanage | N33: Nethmi Sasanga | O33: タラガラウィタナゲ | P33: ネッミササンガ | Q33: 371-0053 | R33: 群馬県 | S33: 前橋市 | T33: 幸塚町 | U33: 148番地１キャトル・アン202号 | V33: 8052767674 | W33: 19961220 | X33: 0回 | Y33: 0回 | Z33: 0回 | AA33: 麻しん・風しん抗体検査 | AG33: 妊娠を希望する女性 | AH33: 妊娠を希望する女性 | AK33: ない又はわからない（結果不明） | AN33: ない又はわからない（結果不明） | AV33: 本事業の実施に必要な範囲で、市が保有する個人情報を確認することに同意します。
A34: 山下 | B34: 40 | C34: NP00004005 | D34: 2026-02-27T09:52:52 | E34: 受付 | G34: オンライン | H34: 受付 | K34: 前橋市 | L34: ない | M34: KURUPANAWA GAMAGE | N34: LAHIRU INDULA | O34: クルパナワガマゲ | P34: ラヒルインドゥラ | Q34: 371-0053 | R34: 群馬県 | S34: 前橋市 | T34: 幸塚町 | U34: 148番地1キャトル・アン202号 | V34: 8037399688 | W34: 19960731 | X34: 0回 | Y34: 0回 | Z34: 0回 | AA34: 麻しん・風しん抗体検査 | AG34: 【妊娠を希望する女性】の配偶者又は住民票同一の同居者 | AH34: 【妊娠を希望する女性】の配偶者又は住民票同一の同居者 | AI34: THALAGALA VITHANAGE NETHMI SASANGA | AJ34: 46080 | AK34: ない又はわからない（結果不明） | AO34: ない又はわからない（結果不明） | AR34: ない又はわからない（結果不明） | AV34: 本事業の実施に必要な範囲で、市が保有する個人情報を確認することに同意します。
A35: 山下 | B35: 44 | C35: NP00004408 | D35: 2026-03-04T17:50:03 | E35: 受付 | G35: オンライン | H35: 受付 | K35: 前橋市 | L35: ない | M35: 竹山 | N35: 均美 | O35: タケヤマ | P35: ヒトミ | Q35: 379-2117 | R35: 群馬県 | S35: 前橋市 | T35: 二之宮町1308-3 | V35: 8087388346 | W35: 19890814 | X35: 0回 | Y35: 1回 | Z35: 2回以上 | AC35: 麻しん抗体検査 | AG35: 妊娠を希望する女性 | AK35: ない又はわからない（結果不明） | AT35: （平成２年４月１日以前生まれの方のみ）検査の結果、抗体価が低いことが判明した場合、予防接種を受けることを希望します。 | AU35: 本事業の実施に必要な範囲で、市が保有する個人情報を確認することに同意します。
A36: 山下 | B36: 43 | C36: NP00004320 | D36: 2026-03-04T13:49:32 | E36: 受付 | G36: オンライン | H36: 受付 | K36: 前橋市 | L36: ない | M36: 森岡 | N36: 修平 | O36: モリオカ | P36: シュウヘイ | Q36: 371-0846 | R36: 群馬県 | S36: 前橋市 | T36: 元総社町1824-1 | U36: グリーンヒルズ元総社203号 | V36: 9074656345 | W36: 19940401 | X36: 0回 | Y36: 1回 | Z36: 1回 | AA36: 麻しん・風しん抗体検査 | AG36: 【妊娠を希望する女性】の配偶者又は住民票同一の同居者 | AH36: 【妊娠を希望する女性】の配偶者又は住民票同一の同居者 | AI36: 森岡 知央 | AJ36: 33791 | AK36: ない又はわからない（結果不明） | AO36: ない又はわからない（結果不明） | AR36: ない又はわからない（結果不明） | AV36: 本事業の実施に必要な範囲で、市が保有する個人情報を確認することに同意します。
A37: 山下 | B37: 42 | C37: NP00004211 | D37: 2026-03-04T13:46:24 | E37: 受付 | G37: オンライン | H37: 受付 | K37: 前橋市 | L37: ない | M37: 森岡 | N37: 知央 | O37: モリオカ | P37: チヒロ | Q37: 371-0846 | R37: 群馬県 | S37: 前橋市 | T37: 元総社町1824-1 | U37: グリーンヒルズ元総社203号 | V37: 8011180706 | W37: 19920706 | X37: 0回 | Y37: 1回 | Z37: 1回 | AA37: 麻しん・風しん抗体検査 | AG37: 妊娠を希望する女性 | AH37: 妊娠を希望する女性 | AK37: ない又はわからない（結果不明） | AN37: ない又はわからない（結果不明） | AV37: 本事業の実施に必要な範囲で、市が保有する個人情報を確認することに同意します。
A38: 鈴木 | B38: 46 | C38: NP00004660 | D38: 2026-03-05T16:30:19 | E38: 受付 | G38: オンライン | H38: 受付 | K38: 前橋市 | L38: ない | M38: 石川 | N38: 聡美 | O38: イシカワ | P38: サトミ | Q38: 371-0804 | R38: 群馬県 | S38: 前橋市 | T38: 六供町四丁目10番地23 | U38: エフォート203 | V38: 9078165947 | W38: 19841027 | X38: 0回 | Y38: 1回 | Z38: 0回 | AA38: 麻しん・風しん抗体検査 | AG38: 妊娠を希望する女性 | AH38: 妊娠を希望する女性 | AK38: ない又はわからない（結果不明） | AN38: ない又はわからない（結果不明） | AT38: （平成２年４月１日以前生まれの方のみ）検査の結果、抗体価が低いことが判明した場合、予防接種を受けることを希望します。 | AU38: 本事業の実施に必要な範囲で、市が保有する個人情報を確認することに同意します。
A39: 茂木 | B39: 47 | C39: NP00004796 | D39: 2026-03-09T09:43:31 | E39: 受付 | G39: オンライン | H39: 受付 | K39: 前橋市 | L39: ない | M39: 中村 | N39: ヘルナ | O39: ナカムラ | P39: ヘルナ | Q39: 371-0805 | R39: 群馬県 | S39: 前橋市 | T39: 南町1丁目1-13 | U39: 3-302 | V39: 7014691161 | W39: 19940806 | X39: 0回 | Y39: 0回 | Z39: 0回 | AA39: 麻しん・風しん抗体検査 | AG39: 妊娠を希望する女性 | AH39: 妊娠を希望する女性 | AK39: ない又はわからない（結果不明） | AN39: ない又はわからない（結果不明） | AV39: 本事業の実施に必要な範囲で、市が保有する個人情報を確認することに同意します。
A40: 鈴木 | B40: 49 | C40: NP00004996 | D40: 2026-03-09T11:19:13 | E40: 受付 | G40: オンライン | H40: 受付 | K40: 前橋市 | L40: ない | M40: 中村 | N40: 正希 | O40: ナカムラ | P40: マサキ | Q40: 371-0805 | R40: 群馬県 | S40: 前橋市 | T40: 南町1丁目1-13 | U40: 3-302 | V40: 8038289866 | W40: 19940204 | X40: 0回 | Y40: 0回 | Z40: 0回 | AA40: 麻しん・風しん抗体検査 | AG40: 【妊娠を希望する女性】の配偶者又は住民票同一の同居者 | AH40: 【妊娠を希望する女性】の配偶者又は住民票同一の同居者 | AI40: 中村ヘルナ | AJ40: 34552 | AK40: ない又はわからない（結果不明） | AO40: ない又はわからない（結果不明） | AR40: ない又はわからない（結果不明） | AV40: 本事業の実施に必要な範囲で、市が保有する個人情報を確認することに同意します。
...

Sheet R7件数
B1: 抗体検査申請件数 | M1: *2026-0
C2: 麻しん | D2: 修正 | E2: 修正した理由 | F2: 風しん | G2: 修正 | H2: 修正した理由 | O2: ない又はわからない（結果不明）
A3: 2025-4* | B3: ４月 | F3: 21 | I3: 月平均申請数 | J3: =ROUND(SUM(F3:F14)/COUNTA(F3:F14),0) -> 20 | O3: 抗体価が低かった
A4: 2025-5* | B4: ５月 | F4: 20 | I4: 年間予想申請数 | J4: =ROUND((SUM(F3:F14)/COUNTA(F3:F14))*12,0) -> 239 | O4: 抗体価が低く、ワクチンを接種した
A5: 2025-6* | B5: ６月 | F5: 25
A6: 2025-7* | B6: ７月 | F6: 30
A7: 2025-8* | B7: ８月 | F7: 16 | O7: 麻しん | P7: AK列=ない又はわからない（結果不明） | Q7: AL列=ない又はわからない（結果不明）
A8: 2025-9* | B8: ９月 | F8: 24 | O8: 風しん | P8: AN列=ない又はわからない（結果不明） | Q8: AO列及びAR列=ない又はわからない（結果不明）
A9: 2025-10* | B9: １０月 | F9: 16 | P9: AR列=ない又はわからない（結果不明）、AP列＝抗体値が低かった | Q9: AS列=抗体価が低く、ワクチンを接種した
A10: 2025-11* | B10: １１月 | F10: 11 | P10: AQ列=抗体価が低かった、AR列=ない又はわからない（結果不明）
A11: 2025-12* | B11: １２月 | F11: 28
A12: 2026-01* | B12: １月 | F12: 14 | K12: =$M$1&L12&"*" -> *2026-01* | L12: 1
A13: 2026-02* | B13: ２月 | C13: =COUNTIFS(貼り付け!AK:AK,'R7件数'!$O$2,貼り付け!D:D,'R7件数'!A13)+COUNTIFS(貼り付け!AL:AL,'R7件数'!$O$2,貼り付け!D:D,'R7件数'!A13)+D13 -> 30 | F13: =COUNTIFS(貼り付け!AN:AN,'R7件数'!$O$2,貼り付け!D:D,'R7件数'!A13)+COUNTIFS(貼り付け!AO:AO,'R7件数'!$O$2,貼り付け!AR:AR,'R7件数'!$O$2,貼り付け!D:D,'R7件数'!A13)+COUNTIFS(貼り付け!AP:AP,'R7件数'!$O$3,貼り付け!AR:AR,'R7件数'!$O$2,貼り付け!D:D,'R7件数'!A13)+COUNTIFS(貼り付け!AS:AS,'R7件数'!$O$4,貼り付け!D:D,'R7件数'!A13)+COUNTIFS(貼り付け!AQ:AQ,'R7件数'!$O$3,貼り付け!AR:AR,'R7件数'!$O$2,貼り付け!D:D,'R7件数'!A13)+G13 -> 19 | G13: =1-1 -> 0 | H13: FAXで受け付けたため1件追加、電話で風しんを断ったため1件マイナス | K13: =$M$1&L13&"*" -> *2026-02* | L13: 2
A14: 2026-03* | B14: ３月 | C14: =COUNTIFS(貼り付け!AK:AK,'R7件数'!$O$2,貼り付け!D:D,'R7件数'!A14)+COUNTIFS(貼り付け!AL:AL,'R7件数'!$O$2,貼り付け!D:D,'R7件数'!A14)+D14 -> 19 | D14: -1 | E14: No71麻しん接種歴2回あり、1件マイナス | F14: =COUNTIFS(貼り付け!AN:AN,'R7件数'!$O$2,貼り付け!D:D,'R7件数'!A14)+COUNTIFS(貼り付け!AO:AO,'R7件数'!$O$2,貼り付け!AR:AR,'R7件数'!$O$2,貼り付け!D:D,'R7件数'!A14)+COUNTIFS(貼り付け!AP:AP,'R7件数'!$O$3,貼り付け!AR:AR,'R7件数'!$O$2,貼り付け!D:D,'R7件数'!A14)+COUNTIFS(貼り付け!AS:AS,'R7件数'!$O$4,貼り付け!D:D,'R7件数'!A14)+COUNTIFS(貼り付け!AQ:AQ,'R7件数'!$O$3,貼り付け!AR:AR,'R7件数'!$O$2,貼り付け!D:D,'R7件数'!A14)+G14 -> 15 | K14: =$M$1&L14&"*" -> *2026-03* | L14: 3
B15: 計 | C15: =SUM(C3:C14) -> 49 | F15: =SUM(F3:F14) -> 239
B17: ※申請書上では検査可能または不可能であった検査を、口頭確認等で実施するまたはしないことになった場合は修正に「+１」「−１」を入力。
B18: 併せて、備考にその理由を記入
B19: ※R8.4月〜数カ月は、Excelと手、両方で計算し確認
B20: ※「貼り付け」シートに申請者は全員貼り付け。対象外となり発券しなかった人はグレーで塗りつぶし。

Sheet R8件数
B1: 抗体検査申請件数 | M1: *2026-0
C2: 麻しん | D2: 修正 | E2: 修正した理由 | F2: 風しん | G2: 修正 | H2: 修正した理由 | O2: ない又はわからない（結果不明）
A3: =$E$24&"-"&0&ROW()+1&"*" -> 2026-04* | B3: ４月 | C3: =COUNTIFS(貼り付け!AK:AK,'R8件数'!$O$2,貼り付け!D:D,'R8件数'!A3)+COUNTIFS(貼り付け!AL:AL,'R8件数'!$O$2,貼り付け!D:D,'R8件数'!A3)+D3 -> 43 | D3: =-1-1-1-1-1 -> -5 | E3: 76（ワクチン2回）、92（妊娠中のため）、93（ワクチン1回産後1回）、95（ワクチン2回）対象外、103（2歳のため母に連絡し、受検無しで了承） | F3: =COUNTIFS(貼り付け!AN:AN,'R8件数'!$O$2,貼り付け!D:D,'R8件数'!A3)+COUNTIFS(貼り付け!AO:AO,'R8件数'!$O$2,貼り付け!AR:AR,'R8件数'!$O$2,貼り付け!D:D,'R8件数'!A3)+COUNTIFS(貼り付け!AP:AP,'R8件数'!$O$3,貼り付け!AR:AR,'R8件数'!$O$2,貼り付け!D:D,'R8件数'!A3)+COUNTIFS(貼り付け!AS:AS,'R8件数'!$O$4,貼り付け!D:D,'R8件数'!A3)+COUNTIFS(貼り付け!AQ:AQ,'R8件数'!$O$3,貼り付け!AR:AR,'R8件数'!$O$2,貼り付け!D:D,'R8件数'!A3)+G3 -> 38 | G3: =-1-1-1-1 -> -4 | H3: 76、92、93、95対象外 | I3: 月平均申請数 | J3: =ROUND(SUM(F3:F14)/COUNTA(F3:F14),0) -> 3 | O3: 抗体価が低かった
A4: =$E$24&"-"&0&ROW()+1&"*" -> 2026-05* | B4: ５月 | C4: =COUNTIFS(貼り付け!AK:AK,'R8件数'!$O$2,貼り付け!D:D,'R8件数'!A4)+COUNTIFS(貼り付け!AL:AL,'R8件数'!$O$2,貼り付け!D:D,'R8件数'!A4)+D4 -> 0 | F4: =COUNTIFS(貼り付け!AN:AN,'R8件数'!$O$2,貼り付け!D:D,'R8件数'!A4)+COUNTIFS(貼り付け!AO:AO,'R8件数'!$O$2,貼り付け!AR:AR,'R8件数'!$O$2,貼り付け!D:D,'R8件数'!A4)+COUNTIFS(貼り付け!AP:AP,'R8件数'!$O$3,貼り付け!AR:AR,'R8件数'!$O$2,貼り付け!D:D,'R8件数'!A4)+COUNTIFS(貼り付け!AS:AS,'R8件数'!$O$4,貼り付け!D:D,'R8件数'!A4)+COUNTIFS(貼り付け!AQ:AQ,'R8件数'!$O$3,貼り付け!AR:AR,'R8件数'!$O$2,貼り付け!D:D,'R8件数'!A4)+G4 -> 0 | I4: 年間予想申請数 | J4: =ROUND((SUM(F3:F14)/COUNTA(F3:F14))*12,0) -> 38 | O4: 抗体価が低く、ワクチンを接種した
A5: =$E$24&"-"&0&ROW()+1&"*" -> 2026-06* | B5: ６月 | C5: =COUNTIFS(貼り付け!AK:AK,'R8件数'!$O$2,貼り付け!D:D,'R8件数'!A5)+COUNTIFS(貼り付け!AL:AL,'R8件数'!$O$2,貼り付け!D:D,'R8件数'!A5)+D5 -> 0 | F5: =COUNTIFS(貼り付け!AN:AN,'R8件数'!$O$2,貼り付け!D:D,'R8件数'!A5)+COUNTIFS(貼り付け!AO:AO,'R8件数'!$O$2,貼り付け!AR:AR,'R8件数'!$O$2,貼り付け!D:D,'R8件数'!A5)+COUNTIFS(貼り付け!AP:AP,'R8件数'!$O$3,貼り付け!AR:AR,'R8件数'!$O$2,貼り付け!D:D,'R8件数'!A5)+COUNTIFS(貼り付け!AS:AS,'R8件数'!$O$4,貼り付け!D:D,'R8件数'!A5)+COUNTIFS(貼り付け!AQ:AQ,'R8件数'!$O$3,貼り付け!AR:AR,'R8件数'!$O$2,貼り付け!D:D,'R8件数'!A5)+G5 -> 0
A6: =$E$24&"-"&0&ROW()+1&"*" -> 2026-07* | B6: ７月 | C6: =COUNTIFS(貼り付け!AK:AK,'R8件数'!$O$2,貼り付け!D:D,'R8件数'!A6)+COUNTIFS(貼り付け!AL:AL,'R8件数'!$O$2,貼り付け!D:D,'R8件数'!A6)+D6 -> 0 | F6: =COUNTIFS(貼り付け!AN:AN,'R8件数'!$O$2,貼り付け!D:D,'R8件数'!A6)+COUNTIFS(貼り付け!AO:AO,'R8件数'!$O$2,貼り付け!AR:AR,'R8件数'!$O$2,貼り付け!D:D,'R8件数'!A6)+COUNTIFS(貼り付け!AP:AP,'R8件数'!$O$3,貼り付け!AR:AR,'R8件数'!$O$2,貼り付け!D:D,'R8件数'!A6)+COUNTIFS(貼り付け!AS:AS,'R8件数'!$O$4,貼り付け!D:D,'R8件数'!A6)+COUNTIFS(貼り付け!AQ:AQ,'R8件数'!$O$3,貼り付け!AR:AR,'R8件数'!$O$2,貼り付け!D:D,'R8件数'!A6)+G6 -> 0
A7: =$E$24&"-"&0&ROW()+1&"*" -> 2026-08* | B7: ８月 | C7: =COUNTIFS(貼り付け!AK:AK,'R8件数'!$O$2,貼り付け!D:D,'R8件数'!A7)+COUNTIFS(貼り付け!AL:AL,'R8件数'!$O$2,貼り付け!D:D,'R8件数'!A7)+D7 -> 0 | F7: =COUNTIFS(貼り付け!AN:AN,'R8件数'!$O$2,貼り付け!D:D,'R8件数'!A7)+COUNTIFS(貼り付け!AO:AO,'R8件数'!$O$2,貼り付け!AR:AR,'R8件数'!$O$2,貼り付け!D:D,'R8件数'!A7)+COUNTIFS(貼り付け!AP:AP,'R8件数'!$O$3,貼り付け!AR:AR,'R8件数'!$O$2,貼り付け!D:D,'R8件数'!A7)+COUNTIFS(貼り付け!AS:AS,'R8件数'!$O$4,貼り付け!D:D,'R8件数'!A7)+COUNTIFS(貼り付け!AQ:AQ,'R8件数'!$O$3,貼り付け!AR:AR,'R8件数'!$O$2,貼り付け!D:D,'R8件数'!A7)+G7 -> 0 | O7: 麻しん | P7: AK列=ない又はわからない（結果不明） | Q7: AL列=ない又はわからない（結果不明）
A8: =$E$24&"-"&0&ROW()+1&"*" -> 2026-09* | B8: ９月 | C8: =COUNTIFS(貼り付け!AK:AK,'R8件数'!$O$2,貼り付け!D:D,'R8件数'!A8)+COUNTIFS(貼り付け!AL:AL,'R8件数'!$O$2,貼り付け!D:D,'R8件数'!A8)+D8 -> 0 | F8: =COUNTIFS(貼り付け!AN:AN,'R8件数'!$O$2,貼り付け!D:D,'R8件数'!A8)+COUNTIFS(貼り付け!AO:AO,'R8件数'!$O$2,貼り付け!AR:AR,'R8件数'!$O$2,貼り付け!D:D,'R8件数'!A8)+COUNTIFS(貼り付け!AP:AP,'R8件数'!$O$3,貼り付け!AR:AR,'R8件数'!$O$2,貼り付け!D:D,'R8件数'!A8)+COUNTIFS(貼り付け!AS:AS,'R8件数'!$O$4,貼り付け!D:D,'R8件数'!A8)+COUNTIFS(貼り付け!AQ:AQ,'R8件数'!$O$3,貼り付け!AR:AR,'R8件数'!$O$2,貼り付け!D:D,'R8件数'!A8)+G8 -> 0 | O8: 風しん | P8: AN列=ない又はわからない（結果不明） | Q8: AO列及びAR列=ない又はわからない（結果不明）
A9: =$E$24&"-"&ROW()+1&"*" -> 2026-10* | B9: １０月 | C9: =COUNTIFS(貼り付け!AK:AK,'R8件数'!$O$2,貼り付け!D:D,'R8件数'!A9)+COUNTIFS(貼り付け!AL:AL,'R8件数'!$O$2,貼り付け!D:D,'R8件数'!A9)+D9 -> 0 | F9: =COUNTIFS(貼り付け!AN:AN,'R8件数'!$O$2,貼り付け!D:D,'R8件数'!A9)+COUNTIFS(貼り付け!AO:AO,'R8件数'!$O$2,貼り付け!AR:AR,'R8件数'!$O$2,貼り付け!D:D,'R8件数'!A9)+COUNTIFS(貼り付け!AP:AP,'R8件数'!$O$3,貼り付け!AR:AR,'R8件数'!$O$2,貼り付け!D:D,'R8件数'!A9)+COUNTIFS(貼り付け!AS:AS,'R8件数'!$O$4,貼り付け!D:D,'R8件数'!A9)+COUNTIFS(貼り付け!AQ:AQ,'R8件数'!$O$3,貼り付け!AR:AR,'R8件数'!$O$2,貼り付け!D:D,'R8件数'!A9)+G9 -> 0 | P9: AR列=ない又はわからない（結果不明）、AP列＝抗体値が低かった | Q9: AS列=抗体価が低く、ワクチンを接種した
A10: =$E$24&"-"&ROW()+1&"*" -> 2026-11* | B10: １１月 | C10: =COUNTIFS(貼り付け!AK:AK,'R8件数'!$O$2,貼り付け!D:D,'R8件数'!A10)+COUNTIFS(貼り付け!AL:AL,'R8件数'!$O$2,貼り付け!D:D,'R8件数'!A10)+D10 -> 0 | F10: =COUNTIFS(貼り付け!AN:AN,'R8件数'!$O$2,貼り付け!D:D,'R8件数'!A10)+COUNTIFS(貼り付け!AO:AO,'R8件数'!$O$2,貼り付け!AR:AR,'R8件数'!$O$2,貼り付け!D:D,'R8件数'!A10)+COUNTIFS(貼り付け!AP:AP,'R8件数'!$O$3,貼り付け!AR:AR,'R8件数'!$O$2,貼り付け!D:D,'R8件数'!A10)+COUNTIFS(貼り付け!AS:AS,'R8件数'!$O$4,貼り付け!D:D,'R8件数'!A10)+COUNTIFS(貼り付け!AQ:AQ,'R8件数'!$O$3,貼り付け!AR:AR,'R8件数'!$O$2,貼り付け!D:D,'R8件数'!A10)+G10 -> 0 | P10: AQ列=抗体価が低かった、AR列=ない又はわからない（結果不明）
A11: =$E$24&"-"&ROW()+1&"*" -> 2026-12* | B11: １２月 | C11: =COUNTIFS(貼り付け!AK:AK,'R8件数'!$O$2,貼り付け!D:D,'R8件数'!A11)+COUNTIFS(貼り付け!AL:AL,'R8件数'!$O$2,貼り付け!D:D,'R8件数'!A11)+D11 -> 0 | F11: =COUNTIFS(貼り付け!AN:AN,'R8件数'!$O$2,貼り付け!D:D,'R8件数'!A11)+COUNTIFS(貼り付け!AO:AO,'R8件数'!$O$2,貼り付け!AR:AR,'R8件数'!$O$2,貼り付け!D:D,'R8件数'!A11)+COUNTIFS(貼り付け!AP:AP,'R8件数'!$O$3,貼り付け!AR:AR,'R8件数'!$O$2,貼り付け!D:D,'R8件数'!A11)+COUNTIFS(貼り付け!AS:AS,'R8件数'!$O$4,貼り付け!D:D,'R8件数'!A11)+COUNTIFS(貼り付け!AQ:AQ,'R8件数'!$O$3,貼り付け!AR:AR,'R8件数'!$O$2,貼り付け!D:D,'R8件数'!A11)+G11 -> 0
A12: =$E$24+1&"-"&0&ROW()-11&"*" -> 2027-01* | B12: １月 | C12: =COUNTIFS(貼り付け!AK:AK,'R8件数'!$O$2,貼り付け!D:D,'R8件数'!A12)+COUNTIFS(貼り付け!AL:AL,'R8件数'!$O$2,貼り付け!D:D,'R8件数'!A12)+D12 -> 0 | F12: =COUNTIFS(貼り付け!AN:AN,'R8件数'!$O$2,貼り付け!D:D,'R8件数'!A12)+COUNTIFS(貼り付け!AO:AO,'R8件数'!$O$2,貼り付け!AR:AR,'R8件数'!$O$2,貼り付け!D:D,'R8件数'!A12)+COUNTIFS(貼り付け!AP:AP,'R8件数'!$O$3,貼り付け!AR:AR,'R8件数'!$O$2,貼り付け!D:D,'R8件数'!A12)+COUNTIFS(貼り付け!AS:AS,'R8件数'!$O$4,貼り付け!D:D,'R8件数'!A12)+COUNTIFS(貼り付け!AQ:AQ,'R8件数'!$O$3,貼り付け!AR:AR,'R8件数'!$O$2,貼り付け!D:D,'R8件数'!A12)+G12 -> 0 | K12: =$M$1&L12&"*" -> *2026-01* | L12: 1
A13: =$E$24+1&"-"&0&ROW()-11&"*" -> 2027-02* | B13: ２月 | C13: =COUNTIFS(貼り付け!AK:AK,'R8件数'!$O$2,貼り付け!D:D,'R8件数'!A13)+COUNTIFS(貼り付け!AL:AL,'R8件数'!$O$2,貼り付け!D:D,'R8件数'!A13)+D13 -> 0 | F13: =COUNTIFS(貼り付け!AN:AN,'R8件数'!$O$2,貼り付け!D:D,'R8件数'!A13)+COUNTIFS(貼り付け!AO:AO,'R8件数'!$O$2,貼り付け!AR:AR,'R8件数'!$O$2,貼り付け!D:D,'R8件数'!A13)+COUNTIFS(貼り付け!AP:AP,'R8件数'!$O$3,貼り付け!AR:AR,'R8件数'!$O$2,貼り付け!D:D,'R8件数'!A13)+COUNTIFS(貼り付け!AS:AS,'R8件数'!$O$4,貼り付け!D:D,'R8件数'!A13)+COUNTIFS(貼り付け!AQ:AQ,'R8件数'!$O$3,貼り付け!AR:AR,'R8件数'!$O$2,貼り付け!D:D,'R8件数'!A13)+G13 -> 0 | K13: =$M$1&L13&"*" -> *2026-02* | L13: 2
A14: =$E$24+1&"-"&0&ROW()-11&"*" -> 2027-03* | B14: ３月 | C14: =COUNTIFS(貼り付け!AK:AK,'R8件数'!$O$2,貼り付け!D:D,'R8件数'!A14)+COUNTIFS(貼り付け!AL:AL,'R8件数'!$O$2,貼り付け!D:D,'R8件数'!A14)+D14 -> 0 | F14: =COUNTIFS(貼り付け!AN:AN,'R8件数'!$O$2,貼り付け!D:D,'R8件数'!A14)+COUNTIFS(貼り付け!AO:AO,'R8件数'!$O$2,貼り付け!AR:AR,'R8件数'!$O$2,貼り付け!D:D,'R8件数'!A14)+COUNTIFS(貼り付け!AP:AP,'R8件数'!$O$3,貼り付け!AR:AR,'R8件数'!$O$2,貼り付け!D:D,'R8件数'!A14)+COUNTIFS(貼り付け!AS:AS,'R8件数'!$O$4,貼り付け!D:D,'R8件数'!A14)+COUNTIFS(貼り付け!AQ:AQ,'R8件数'!$O$3,貼り付け!AR:AR,'R8件数'!$O$2,貼り付け!D:D,'R8件数'!A14)+G14 -> 0 | K14: =$M$1&L14&"*" -> *2026-03* | L14: 3
B15: 計 | C15: =SUM(C3:C14) -> 43 | F15: =SUM(F3:F14) -> 38
B16: 使用上の注意点
B17: ※申請書上では検査可能または不可能であった検査を、口頭確認等で実施するまたはしないことになった場合は修正に「+１」「−１」を入力。
B18: 併せて、備考にその理由を記入
B19: ※R8.4月〜数カ月は、Excelと手、両方で計算し確認
B20: ※「貼り付け」シートに申請者は全員貼り付け。対象外となり発券しなかった人はグレーで塗りつぶし。
B22: 年度切り替え方法
A23: 1️⃣ | B23: シートをコピーし、シート名を新しい年度にする
A24: 2️⃣ | B24: 右のセルの年号を新しい年度に変える | E24: 2026
A25: 3️⃣ | B25: D列、G列の修正、E列、H列の修正した理由のセルを削除

Sheet R7件数（旧）
A1: 抗体検査申請件数 | J1: *2026-0
B2: *風しん* | E2: *麻しん* | K2: 2026-02* | L2: ない又はわからない（結果不明） | M2: =COUNTIFS(貼り付け!AK:AK,'R7件数（旧）'!L2,貼り付け!D:D,'R7件数（旧）'!K2) -> 22 | N2: =COUNTIFS(貼り付け!AL:AL,'R7件数（旧）'!L2,貼り付け!D:D,'R7件数（旧）'!K2) -> 8 | O2: =M2+N2 -> 30
A3: ４月 | B3: 21 | F3: 月平均申請数 | G3: =ROUND(SUM(B3:B14)/COUNTA(B3:B14),0) -> 20 | L3: ない又はわからない（結果不明） | M3: =COUNTIFS(貼り付け!AN:AN,'R7件数（旧）'!L2,貼り付け!D:D,'R7件数（旧）'!K2) -> 9 | N3: =COUNTIFS(貼り付け!AO:AO,'R7件数（旧）'!L2,貼り付け!AR:AR,'R7件数（旧）'!L2,貼り付け!D:D,'R7件数（旧）'!K2) -> 7 | O3: =COUNTIFS(貼り付け!AP:AP,'R7件数（旧）'!L4,貼り付け!AR:AR,'R7件数（旧）'!L2,貼り付け!D:D,'R7件数（旧）'!K2) -> 1 | P3: =COUNTIFS(貼り付け!AS:AS,'R7件数（旧）'!L5,貼り付け!D:D,'R7件数（旧）'!K2) -> 1 | Q3: =M3+N3+O3+P3 -> 18
A4: ５月 | B4: 20 | F4: 年間予想申請数 | G4: =ROUND((SUM(B3:B14)/COUNTA(B3:B14))*12,0) -> 244 | L4: 抗体価が低かった
A5: ６月 | B5: 25 | L5: 抗体価が低く、ワクチンを接種した
A6: ７月 | B6: 30
A7: ８月 | B7: 16
A8: ９月 | B8: 24
A9: １０月 | B9: 16
A10: １１月 | B10: 11
A11: １２月 | B11: 28
A12: １月 | B12: 14 | H12: =$J$1&I12&"*" -> *2026-01* | I12: 1
A13: ２月 | B13: 19 | C13: 1 | E13: 30 | H13: =$J$1&I13&"*" -> *2026-02* | I13: 2
A14: ３月 | H14: =$J$1&I14&"*" -> *2026-03* | I14: 3
A15: 計 | B15: =SUM(B3:B14) -> 224 | E15: =SUM(E3:E14) -> 30
