Workbook

Sheet 麻しん風しん (採用) (5)
L1: 令和 年 月 日
A2: （あて先） 前橋市長
A3: 麻しん・風しん抗体検査受診券 交付申請書
A4: 下記のとおり、抗体検査を受けるため申請します。
A5: ふりがな | J5: 生年月日 | L5: 昭和 / 平成 年
A6: 氏名 | L6: 月 日（ 歳）
A7: 住民票上 の住所 | C7: 〒
C8: 前橋市
A9: 電話番号
A11: 希望する検査 | C11: 対象区分 | L11: 必要書類
A12: □麻しん 抗体検査 | C12: □ | D12: 妊娠を希望の女性 | L12: 抗体検査結果※
C13: □ | D13: 【妊娠を希望する女性】の配偶者又は同居者 | L13: 抗体検査結果※
C14: □ | D14: 【妊婦】の配偶者又は同居者 | L14: 母子健康手帳、抗体検査結果※
C15: □ | D15: ０歳児の同居者 | L15: 母子健康手帳、抗体検査結果※
A18: □風しん 抗体検査 | C18: □ | D18: 妊娠を希望の女性 | L18: 抗体検査結果※
C19: □ | D19: 【妊娠を希望する女性】の配偶者又は同居者 | L19: 抗体検査結果※
C20: □ | D20: 【妊婦】の配偶者又は同居者 | L20: 母子健康手帳、抗体検査結果※
A21: ※抗体検査結果は、過去に検査歴がある場合に限ります。 なお、配偶者又は同居者の方は、【妊娠を希望する女性】又は【妊婦】の方の検査結果もご確認ください。
A22: 確認事項 | C22: □ | D22: 過去に、本事業の助成を受けたことがない。
C23: 検査歴 | D23: 麻しん | E23: □ | F23: 過去に検査を受けたことはない又は、検査結果が不明
E24: □ | F24: 過去に検査を受け十分な風しん抗体価がない
F25: 検査結果(抗体価)：EIA法16倍未満
D26: 風しん | E26: □ | F26: 過去に検査を受けたことはない又は、検査結果が不明
E27: □ | F27: 過去に検査を受け十分な風しん抗体価がない
F28: 検査結果(抗体価)：HI法16倍以下、 HI抗体価「1：16以下」に相当する抗体価
C29: 接種歴 | D29: 麻しん風しん混合： □２回 □１回 □０回 □分からない
D30: 麻しん単独 ： □２回 □１回 □０回 □分からない
D31: 風しん単独 ： □２回 □１回 □０回 □分からない
A32: 同意事項 | C32: □ | D32: 検査の結果、抗体価が低いことが判明した場合、予防接種を受けることを同意します。 ※平成２年４月１日以前に生まれた方は、予防接種の助成があります。
C34: □ | D34: 本事業の対象者であることの確認が必要な場合、市が保有する個人情報を調査および確認することに同意します。 なお、配偶者又は同居者は、原則、妊娠を希望する女性と同時に申請してください。
A36: 収集した個人情報は本事業の目的以外に使用しません。個人情報の保護に関する法律に基づき、適正に管理します。
A38: 市確認欄
A39: 受付日 | C39: 対応者 | F39: 申請方法 | G39: ☐ 窓口 | H39: ☐ 郵送 | I39: ☐オンライン
A40: 分類 | B40: ☐ 妊婦 | F40: 検査歴 | G40: 麻しん | H40: ない | K40: 風しん | L40: ない
B41: ☐ 妊娠希望の女性 | H41: ある | I41: 抗体価 | L41: ある | M41: 抗体価
A42: 過去の接種歴 | C42: 麻しん風しん混合： □１回 □０回 □分からない
C43: 麻しん単独 ： □１回 □０回 □分からない
C44: 風しん単独 ： □１回 □０回 □分からない
A45: 受検者の生年月日 | C45: □平成2年4月2日以降 | G45: □平成2年4月1日以前

Sheet 申請書
A1: 様式１ | L1: 令和 年 月 日
A2: （あて先） 前橋市長
A3: 麻しん・風しん抗体検査受診券 交付申請書
A4: 下記のとおり、抗体検査を受けるため申請します。
A5: フリガナ | J5: 生年月日 | L5: 昭和 / 平成 年
A6: 氏名 | L6: 月 日（ 歳）
A7: 住民票上 の住所 | C7: 〒
C8: 前橋市
A9: 電話番号
A11: 希望する検査 | C11: 対象区分 | L11: 必要書類
A12: □麻しん 抗体検査 | C12: □ | D12: 妊娠を希望の女性 | L12: 抗体検査結果※
C13: □ | D13: 【妊娠を希望する女性】の配偶者又は同居者 | L13: 抗体検査結果※
C14: □ | D14: 【妊婦】の配偶者又は同居者 | L14: 母子健康手帳、抗体検査結果※
C15: □ | D15: ０歳児の同居者 | L15: 母子健康手帳、抗体検査結果※
A16: □風しん 抗体検査 | C16: □ | D16: 妊娠を希望の女性 | L16: 抗体検査結果※
C17: □ | D17: 【妊娠を希望する女性】の配偶者又は同居者 | L17: 抗体検査結果※
C18: □ | D18: 【妊婦】の配偶者又は同居者 | L18: 母子健康手帳、抗体検査結果※
A19: ※抗体検査結果は、過去に検査歴がある場合に限ります。なお、妊娠を希望する女性の配偶者や同居者は、当該女性と同時に申請してください。
A20: 0歳児、妊娠希望の女性または妊婦 | D20: 氏名 | F20: □同上 | J20: 生年月日 | L20: □同上
L21: 年 月 日
A23: 確認事項 | C23: □ | D23: 過去に、本事業の助成を受けたことがない。
C24: 検査歴 | D24: 麻しん | E24: □ | F24: 過去に検査を受けたことはない又は、検査結果が不明
E25: □ | F25: 過去に検査を受け十分な麻しん抗体価がない
F26: 検査結果(抗体価)：EIA価16.0未満
D27: 風しん | E27: □ | F27: 過去に検査を受けたことはない又は、検査結果が不明
E28: □ | F28: 過去に検査を受け十分な風しん抗体価がない
F29: 検査結果(抗体価)：HI法16倍以下、EIA価8.0未満等
C30: 接種歴 | D30: 麻しん風しん混合： □２回 □１回 □０回 □分からない
D31: 麻しん単独 ： □２回 □１回 □０回 □分からない
D32: 風しん単独 ： □２回 □１回 □０回 □分からない
A33: 同意事項 | C33: □ | D33: （平成２年４月１日以前生まれの方のみ）検査の結果、抗体価が低いことが判明した場合、予防接種を受けることを希望します。【予診票を交付】
C35: □ | D35: 本事業の実施に必要な範囲で、市が保有する個人情報を確認することに同意します。
A37: 収集した個人情報は本事業の目的にのみ利用し、個人情報の保護に関する法律に基づき、適正に管理します。

Sheet 麻しん風しん (採用) (3)
K1: 令和 年 月 日
A2: （あて先） 前橋市長
C3: 麻しん・風しん抗体検査受診券 交付申請書
A4: 下記のとおり、抗体検査を受けるため申請します。
A5: ふりがな | I5: 生年月日 | K5: 昭和 / 平成
A6: 氏名 | K6: 年 月 日（ 歳）
A7: 住民票上 の住所 | C7: 〒
C8: 前橋市
A9: 電話番号
A11: 対象区分 | B11: 麻しん抗体検査 | I11: 風しん抗体検査
B12: □ | C12: 妊娠を希望の女性 | I12: □ | J12: 妊娠を希望の女性
B13: □ | C13: 【妊娠を希望する女性】の配偶者又は同居者 | I13: □ | J13: 【妊娠を希望する女性】の配偶者又は同居者
B14: □ | C14: 【妊婦】の配偶者又は同居者 | I14: □ | J14: 【妊婦】の配偶者又は同居者
B15: □ | C15: ０歳児の同居者
A16: 確認事項 | C16: ☐ | D16: 過去に麻しん・風しんに係る抗体検査を受けた結果、十分な麻しん・風しんの抗体があることが判明していない。
C18: □ | D18: 麻しん・風しん含有ワクチンを２回接種していない。
C19: □ | D19: 過去に、本事業の助成を受けたことがない。
A20: 同意事項 | C20: □ | D20: 検査の結果、抗体価が低いことが判明した場合、予防接種を受けることを同意します。 ※平成２年４月１日以前に生まれた方は、予防接種の助成があります。
C22: □ | D22: 本事業の対象者であることの確認が必要な場合、市が保有する個人情報を調査および確認することに同意します。 なお、配偶者又は同居者は、原則、妊娠を希望する女性と同時に申請してください。
A24: 収集した個人情報は本事業の目的以外に使用しません。個人情報の保護に関する法律に基づき、適正に管理します。

Sheet 申請書 (ボツ)
L1: 令和 年 月 日
A2: （あて先） 前橋市長
A3: 麻しん・風しん抗体検査受診券 交付申請書
A4: 下記のとおり、抗体検査を受けるため申請します。
A5: ふりがな | J5: 生年月日 | L5: 昭和 / 平成 年
A6: 氏名 | L6: 月 日（ 歳）
A7: 住民票上 の住所 | C7: 〒
C8: 前橋市
A9: 電話番号
A11: 希望する検査 | C11: 対象区分 | L11: 必要書類
A12: □麻しん 抗体検査 | C12: □ | D12: 妊娠を希望の女性 | L12: 抗体検査結果※
C13: □ | D13: 【妊娠を希望する女性】の配偶者又は同居者 | L13: 抗体検査結果※
C14: □ | D14: 【妊婦】の配偶者又は同居者 | L14: 母子健康手帳、抗体検査結果※
C15: □ | D15: ０歳児の同居者 | L15: 母子健康手帳、抗体検査結果※
A16: □風しん 抗体検査 | C16: □ | D16: 妊娠を希望の女性 | L16: 抗体検査結果※
C17: □ | D17: 【妊娠を希望する女性】の配偶者又は同居者 | L17: 抗体検査結果※
C18: □ | D18: 【妊婦】の配偶者又は同居者 | L18: 母子健康手帳、抗体検査結果※
A19: ※抗体検査結果は、過去に検査歴がある場合に限ります。なお、配偶者又は同居者の方は、【妊娠を希望する女性】又は【妊婦】の方の検査結果もご確認ください。妊娠を希望する女性と同時に申請してください。 | Q19: ←同意事項にあった文章をこちらに移動した
A20: 0歳児、妊娠希望の女性または妊婦 | D20: 氏名 | F20: □同上 | J20: 生年月日 | L20: □同上 | Q20: なお、妊娠を希望する女性の配偶者または同居者は当該女性と同時に申請してください
L21: 年 月 日
A23: 確認事項 | C23: □ | D23: 過去に、本事業の助成を受けたことがない。
C24: 検査歴 | D24: 麻しん | E24: □ | F24: 過去に検査を受けたことはない又は、検査結果が不明
E25: □ | F25: 過去に検査を受け十分な風しん抗体価がない
F26: 検査結果(抗体価)：EIA法16倍未満
D27: 風しん | E27: □ | F27: 過去に検査を受けたことはない又は、検査結果が不明
E28: □ | F28: 過去に検査を受け十分な風しん抗体価がない
F29: 検査結果(抗体価)：HI法16倍以下、 HI抗体価「1：16以下」に相当する抗体価
C30: 接種歴 | D30: 麻しん風しん混合： □２回 □１回 □０回 □分からない
D31: 麻しん単独 ： □２回 □１回 □０回 □分からない
D32: 風しん単独 ： □２回 □１回 □０回 □分からない
A33: 同意事項 | C33: □ | D33: 検査の結果、抗体価が低いことが判明した場合、予防接種を受けることを同意します。 ※平成２年４月１日以前に生まれた方は、予防接種の助成があります。 | Q33: （平成２年４月１日以前生まれの方のみ）検査の結果、抗体価が低いことが判明した場合、予防接種を受けることを希望します。【予診票を交付】
Q34: ↑でどうですか？ いとう
C35: □ | D35: 本事業の対象者であることの確認が必要な場合、市が保有する個人情報を調査および確認することに同意します。本事業の実施に必要な範囲で、市が保有する個人情報を確認することに同意します。 なお、配偶者又は同居者は、原則、妊娠を希望する女性と同時に申請してください。
A37: 収集した個人情報は本事業の目的以外に使用しません。にのみ利用し、個人情報の保護に関する法律に基づき、適正に管理します。

Sheet 電子申請
A1: =Q1 -> 127 | L1: =U3 -> 令和８年４月３０日 | Q1: 127 | R1: =INDEX(貼り付け!D:D,MATCH($Q$1,貼り付け!$B:$B,0)) -> 2026-04-30T09:07:03 | S1: =INDEX(貼り付け!K:K,MATCH($Q$1,貼り付け!$B:$B,0)) -> 前橋市 | T1: =INDEX(貼り付け!L:L,MATCH($Q$1,貼り付け!$B:$B,0)) -> ない | U1: =INDEX(貼り付け!M:M,MATCH($Q$1,貼り付け!$B:$B,0)) -> 中沢 | V1: =INDEX(貼り付け!N:N,MATCH($Q$1,貼り付け!$B:$B,0)) -> 知美 | W1: =INDEX(貼り付け!O:O,MATCH($Q$1,貼り付け!$B:$B,0)) -> ナカザワ | X1: =INDEX(貼り付け!P:P,MATCH($Q$1,貼り付け!$B:$B,0)) -> トモミ | Y1: =INDEX(貼り付け!Q:Q,MATCH($Q$1,貼り付け!$B:$B,0)) -> 371-0055 | Z1: =INDEX(貼り付け!R:R,MATCH($Q$1,貼り付け!$B:$B,0)) -> 群馬県 | AA1: =INDEX(貼り付け!S:S,MATCH($Q$1,貼り付け!$B:$B,0)) -> 前橋市 | AB1: =INDEX(貼り付け!T:T,MATCH($Q$1,貼り付け!$B:$B,0)) -> 北代田町359-7 | AC1: =INDEX(貼り付け!U:U,MATCH($Q$1,貼り付け!$B:$B,0)) -> 0 | AD1: =INDEX(貼り付け!V:V,MATCH($Q$1,貼り付け!$B:$B,0)) -> 8066263549 | AE1: =INDEX(貼り付け!W:W,MATCH($Q$1,貼り付け!$B:$B,0)) -> 19891103 | AF1: =INDEX(貼り付け!X:X,MATCH($Q$1,貼り付け!$B:$B,0)) -> 0回 | AG1: =INDEX(貼り付け!Y:Y,MATCH($Q$1,貼り付け!$B:$B,0)) -> 1回 | AH1: =INDEX(貼り付け!Z:Z,MATCH($Q$1,貼り付け!$B:$B,0)) -> 1回 | AI1: =INDEX(貼り付け!AA:AA,MATCH($Q$1,貼り付け!$B:$B,0)) -> 麻しん・風しん抗体検査 | AJ1: =INDEX(貼り付け!AB:AB,MATCH($Q$1,貼り付け!$B:$B,0)) -> 0 | AK1: =INDEX(貼り付け!AC:AC,MATCH($Q$1,貼り付け!$B:$B,0)) -> 0 | AL1: =INDEX(貼り付け!AD:AD,MATCH($Q$1,貼り付け!$B:$B,0)) -> 0 | AM1: =INDEX(貼り付け!AE:AE,MATCH($Q$1,貼り付け!$B:$B,0)) -> 0 | AN1: =INDEX(貼り付け!AF:AF,MATCH($Q$1,貼り付け!$B:$B,0)) -> 0 | AO1: =INDEX(貼り付け!AG:AG,MATCH($Q$1,貼り付け!$B:$B,0)) -> 妊娠を希望する女性 | AP1: =INDEX(貼り付け!AH:AH,MATCH($Q$1,貼り付け!$B:$B,0)) -> 妊娠を希望する女性 | AQ1: =INDEX(貼り付け!AI:AI,MATCH($Q$1,貼り付け!$B:$B,0)) -> 0 | AR1: =INDEX(貼り付け!AJ:AJ,MATCH($Q$1,貼り付け!$B:$B,0)) -> 0 | AS1: =INDEX(貼り付け!AK:AK,MATCH($Q$1,貼り付け!$B:$B,0)) -> ない又はわからない（結果不明） | AT1: =INDEX(貼り付け!AL:AL,MATCH($Q$1,貼り付け!$B:$B,0)) -> 0 | AU1: =INDEX(貼り付け!AM:AM,MATCH($Q$1,貼り付け!$B:$B,0)) -> 0 | AV1: =INDEX(貼り付け!AN:AN,MATCH($Q$1,貼り付け!$B:$B,0)) -> ない又はわからない（結果不明） | AW1: =INDEX(貼り付け!AO:AO,MATCH($Q$1,貼り付け!$B:$B,0)) -> 0 | AX1: =INDEX(貼り付け!AP:AP,MATCH($Q$1,貼り付け!$B:$B,0)) -> 0 | AY1: =INDEX(貼り付け!AQ:AQ,MATCH($Q$1,貼り付け!$B:$B,0)) -> 0 | AZ1: =INDEX(貼り付け!AR:AR,MATCH($Q$1,貼り付け!$B:$B,0)) -> 0 | BA1: =INDEX(貼り付け!AS:AS,MATCH($Q$1,貼り付け!$B:$B,0)) -> 0 | BB1: =INDEX(貼り付け!AT:AT,MATCH($Q$1,貼り付け!$B:$B,0)) -> （平成２年４月１日以前生まれの方のみ）検査の結果、抗体価が低いことが判明した場合、予防接種を受けることを希望します。 | BC1: =INDEX(貼り付け!AU:AU,MATCH($Q$1,貼り付け!$B:$B,0)) -> 本事業の実施に必要な範囲で、市が保有する個人情報を確認することに同意します。 | BD1: =INDEX(貼り付け!AV:AV,MATCH($Q$1,貼り付け!$B:$B,0)) -> 0 | BE1: =INDEX(貼り付け!AW:AW,MATCH($Q$1,貼り付け!$B:$B,0)) -> 0 | BF1: =INDEX(貼り付け!AX:AX,MATCH($Q$1,貼り付け!$B:$B,0)) -> 0 | BG1: =INDEX(貼り付け!AY:AY,MATCH($Q$1,貼り付け!$B:$B,0)) -> 0 | BH1: =INDEX(貼り付け!AZ:AZ,MATCH($Q$1,貼り付け!$B:$B,0)) -> 0 | BI1: =INDEX(貼り付け!BA:BA,MATCH($Q$1,貼り付け!$B:$B,0)) -> 0 | BJ1: =INDEX(貼り付け!BB:BB,MATCH($Q$1,貼り付け!$B:$B,0)) -> 0 | BK1: =INDEX(貼り付け!BC:BC,MATCH($Q$1,貼り付け!$B:$B,0)) -> 0 | BL1: =INDEX(貼り付け!BD:BD,MATCH($Q$1,貼り付け!$B:$B,0)) -> 0 | BM1: =INDEX(貼り付け!BE:BE,MATCH($Q$1,貼り付け!$B:$B,0)) -> 0 | BN1: =INDEX(貼り付け!BF:BF,MATCH($Q$1,貼り付け!$B:$B,0)) -> 0 | BO1: =INDEX(貼り付け!BG:BG,MATCH($Q$1,貼り付け!$B:$B,0)) -> 0 | BP1: =INDEX(貼り付け!BH:BH,MATCH($Q$1,貼り付け!$B:$B,0)) -> 0 | BQ1: =INDEX(貼り付け!BI:BI,MATCH($Q$1,貼り付け!$B:$B,0)) -> 0 | BR1: =INDEX(貼り付け!BJ:BJ,MATCH($Q$1,貼り付け!$B:$B,0)) -> 0 | BS1: =INDEX(貼り付け!BK:BK,MATCH($Q$1,貼り付け!$B:$B,0)) -> 0 | BT1: =INDEX(貼り付け!BL:BL,MATCH($Q$1,貼り付け!$B:$B,0)) -> 0 | BU1: =INDEX(貼り付け!BM:BM,MATCH($Q$1,貼り付け!$B:$B,0)) -> 0 | BV1: =INDEX(貼り付け!BN:BN,MATCH($Q$1,貼り付け!$B:$B,0)) -> 0 | BW1: =INDEX(貼り付け!BO:BO,MATCH($Q$1,貼り付け!$B:$B,0)) -> 0 | BX1: =INDEX(貼り付け!BP:BP,MATCH($Q$1,貼り付け!$B:$B,0)) -> 0
A2: （あて先） 前橋市長 | R2: =INDEX(貼り付け!A:A,MATCH($Q$1,貼り付け!$B:$B,0)) -> 鈴木 | S2: =TEXT(X3," ggg e年") -> 平成 1年 | U2: =LEFT(R1,4) -> 2026 | V2: =MID(R1,6,2) -> 04 | W2: =MID(R1,9,2) -> 30 | X2: =LEFT(AE1,4) -> 1989 | Y2: =MID(AE1,5,2) -> 11 | Z2: =MID(AE1,7,2) -> 03 | AS2: 10:select | AT2: 23:select | AU2: 13:select | AV2: 24:select | AW2: 26:select | AX2: 27:select | AY2: 33:select | AZ2: 28:select | BA2: 25:select | BB2: 66:checkbox | BC2: 69:checkbox | BD2: 67:checkbox | BE2: 47:file | BF2: 52:file | BG2: 53:file | BH2: 50:file | BI2: 51:file | BJ2: 48:file | BK2: 68:date | BL2: 54:birthday
A3: 麻しん・風しん抗体検査受診券 交付申請書 | S3: =TEXT(X3,"m月") -> 11月 | U3: =DBCS(TEXT(DATE(U2,V2,W2),"ggge年m月d日")) -> 令和８年４月３０日 | X3: =DBCS(TEXT(DATE(X2,Y2,Z2),"ggge年m月d日")) -> 平成１年１１月３日
A4: 下記のとおり、抗体検査を受けるため申請します。 | S4: =TEXT(X3,"d日") -> 3日
A5: フリガナ | C5: =W1&" "&X1 -> ナカザワ トモミ | J5: 生年月日 | L5: =S2 -> 平成 1年 | S5: ="（ "&DATEDIF(X3, TODAY(), "Y")&"歳）" -> （ 36歳）
A6: 氏名 | C6: =U1&" "&V1 -> 中沢 知美 | L6: =S3&S4&S5 -> 11月3日（ 36歳） | S6: 月 日（ 歳）
A7: 住民票上 の住所 | C7: ="〒"&Y1 -> 〒371-0055 | S7: =LEFT(AD1,2) -> 80
C8: =AA1&AB1&IF(AC1=0,"",AC1) -> 前橋市北代田町359-7 | S8: =MID(AD1,3,4) -> 6626
A9: 電話番号 | C9: =0&S7&S10&S8&S10&S9 -> 080-6626-3549 | S9: =MID(AD1,7,4) -> 3549
S10: -
A11: 希望する検査 | C11: 対象区分 | L11: 必要書類
A12: =T12&"麻しん 抗体検査" -> ☑麻しん 抗体検査 | C12: =S12 -> ☑ | D12: 妊娠を希望の女性 | L12: 抗体検査結果※ | R12: 妊娠を希望する女性 | S12: =IF(R12=$AO$1,"☑","□") -> ☑ | T12: =IF(AO1=0,"□","☑") -> ☑
C13: =S13 -> □ | D13: 【妊娠を希望する女性】の配偶者又は同居者 | L13: 抗体検査結果※ | R13: 【妊娠を希望する女性】の配偶者又は住民票同一の同居者 | S13: =IF(R13=$AO$1,"☑","□") -> □ | T13: =IF(AP1=0,"□","☑") -> ☑
C14: =S14 -> □ | D14: 【妊婦】の配偶者又は同居者 | L14: 母子健康手帳、抗体検査結果※ | R14: 【妊婦】の配偶者又は住民票同一の同居者 | S14: =IF(R14=$AO$1,"☑","□") -> □
C15: =S15 -> □ | D15: ０歳児の同居者 | L15: 母子健康手帳、抗体検査結果※ | R15: ０歳児の同居者（住民票同一である） | S15: =IF(R15=$AO$1,"☑","□") -> □
A16: =T13&"風しん 抗体検査" -> ☑風しん 抗体検査 | C16: =S16 -> ☑ | D16: 妊娠を希望の女性 | L16: 抗体検査結果※ | R16: 妊娠を希望する女性 | S16: =IF(R16=$AP$1,"☑","□") -> ☑
C17: =S17 -> □ | D17: 【妊娠を希望する女性】の配偶者又は同居者 | L17: 抗体検査結果※ | R17: 【妊娠を希望する女性】の配偶者又は住民票同一の同居者 | S17: =IF(R17=$AP$1,"☑","□") -> □
C18: =S18 -> □ | D18: 【妊婦】の配偶者又は同居者 | L18: 母子健康手帳、抗体検査結果※ | R18: 【妊婦】の配偶者又は住民票同一の同居者 | S18: =IF(R18=$AP$1,"☑","□") -> □
A19: ※抗体検査結果は、過去に検査歴がある場合に限ります。なお、妊娠を希望する女性または妊婦の配偶者や同居者は、当該女性と同時に申請してください。
A20: 0歳児、妊娠希望の女性または妊婦 | D20: 氏名 | F20: =IF(AQ1=0,R20,"□同上") -> ☑同上 | J20: 生年月日 | L20: =IF(AQ1=0,R20,"□同上") -> ☑同上 | R20: ☑同上
F21: =IF(AQ1=0,"",AQ1) | L21: =IF(AR1=0,R21,TEXT(AR1,"ggge年 m月 d日")) -> 年 月 日 | R21: 年 月 日
A23: 確認事項 | C23: =R23 -> ☑ | D23: 過去に、本事業の助成を受けたことがない。 | R23: =IF(T1=S23,T23,"□") -> ☑ | S23: ない | T23: ☑
C24: 検査歴 | D24: 麻しん | E24: =S25 -> ☑ | F24: 過去に検査を受けたことはない又は、検査結果が不明 | R24: 抗体価が低く、ワクチンを接種した | S24: ない又はわからない（結果不明）
E25: =R25 -> □ | F25: 過去に検査を受け十分な風しん抗体価がない | R25: =IF(AU1=R24,"☑","□") -> □ | S25: =IF(T25=S24,"☑","□") -> ☑ | T25: =IF(AT1=0,AS1,AT1) -> ない又はわからない（結果不明）
F26: 検査結果(抗体価)：EIA価16.0未満 | R26: =IF(BA1=R24,"☑","□") -> □ | S26: =IF(T26=S24,"☑","□") -> ☑ | T26: =IF(AZ1=0,AV1,AZ1) -> ない又はわからない（結果不明）
D27: 風しん | E27: =S26 -> ☑ | F27: 過去に検査を受けたことはない又は、検査結果が不明
E28: =R26 -> □ | F28: 過去に検査を受け十分な風しん抗体価がない | Q28: =VLOOKUP(R28,$T$28:$U$30,2,FALSE) -> 麻しん風しん混合： □２回 □１回 ☑０回 □分からない | R28: =AF1 -> 0回 | S28: 麻しん含有ワクチンの接種回数を教えてください。 | T28: 2回以上 | U28: 麻しん風しん混合： ☑２回 □１回 □０回 □分からない | V28: 麻しん単独 ： ☑２回 □１回 □０回 □分からない | W28: 風しん単独 ： ☑２回 □１回 □０回 □分からない
F29: 検査結果(抗体価)：HI法16倍以下、EIA価8.0未満等 | Q29: =VLOOKUP(R29,$T$28:$W$30,3,FALSE) -> 麻しん単独 ： □２回 ☑１回 □０回 □分からない | R29: =AG1 -> 1回 | S29: 風しん含有ワクチンの接種回数を教えてください。 | T29: 1回 | U29: 麻しん風しん混合： □２回 ☑１回 □０回 □分からない | V29: 麻しん単独 ： □２回 ☑１回 □０回 □分からない | W29: 風しん単独 ： □２回 ☑１回 □０回 □分からない
C30: 接種歴 | D30: =Q28 -> 麻しん風しん混合： □２回 □１回 ☑０回 □分からない | Q30: =VLOOKUP(R30,$T$28:$W$30,4,FALSE) -> 風しん単独 ： □２回 ☑１回 □０回 □分からない | R30: =AH1 -> 1回 | S30: 麻しん・風しん含有ワクチンの接種回数を教えてください。 | T30: 0回 | U30: 麻しん風しん混合： □２回 □１回 ☑０回 □分からない | V30: 麻しん単独 ： □２回 □１回 ☑０回 □分からない | W30: 風しん単独 ： □２回 □１回 ☑０回 □分からない
D31: =Q29 -> 麻しん単独 ： □２回 ☑１回 □０回 □分からない
D32: =Q30 -> 風しん単独 ： □２回 ☑１回 □０回 □分からない
A33: 同意事項 | C33: =R36 -> ☑ | D33: （平成２年４月１日以前生まれの方のみ）検査の結果、抗体価が低いことが判明した場合、予防接種を受けることを希望します。【予診票を交付】
C35: =IF(S35=0,T36,S36) -> ☑ | D35: 本事業の実施に必要な範囲で、市が保有する個人情報を確認することに同意します。 | R35: =BB1 -> （平成２年４月１日以前生まれの方のみ）検査の結果、抗体価が低いことが判明した場合、予防接種を受けることを希望します。 | S35: =BC1 -> 本事業の実施に必要な範囲で、市が保有する個人情報を確認することに同意します。 | T35: =BD1 -> 0
R36: =IF(R35=0,"□","☑") -> ☑ | S36: =IF(S35=0,"□","☑") -> ☑ | T36: =IF(T35=0,"□","☑") -> □
A37: 収集した個人情報は本事業の目的にのみ利用し、個人情報の保護に関する法律に基づき、適正に管理します。 | S37: 本事業の実施に必要な範囲で、市が保有する個人情報を確認することに同意します。
A39: １．必要書類の有無を確認 | S39: なし | T39: あり
A40: 麻しん | G40: 検査歴 | I40: 必要書類 | O40: 質問項目 | Q40: 麻しん | R40: 受検希望者の検査 | S40: =IF(T40="☑","□","☑") -> ☑ | T40: =IF(OR(AS1="ある",AT1="ある"),"☑","□") -> □ | BI40: 47:file | BJ40: 52:file | BK40: 53:file | BL40: 50:file | BM40: 51:file | BN40: 48:file
A41: =IFERROR(C12,"□") -> ☑ | B41: 妊娠を希望の女性 | G41: =IF(A41="□","□",T40) -> □ | H41: あり | I41: 抗体検査結果 | O41: 26 | Q41: 風しん | R41: 妊娠希望者の検査 | S41: =IF(T41="☑","□","☑") -> ☑ | T41: =IF(AV1="ある","☑","□") -> □
G42: =IF(A41="□","□",S40) -> ☑ | H42: なし | I42: ー | R42: 受検希望者の検査 | S42: =IF(T42="☑","□","☑") -> ☑ | T42: =IF(AZ1="ある","☑","□") -> □
A43: =IFERROR(C13,"□") -> □ | B43: 【妊娠を希望する女性】 の配偶者又は同居者 | G43: =IF(A43="□","□",T40) -> □ | H43: あり | I43: 抗体検査結果 | O43: 26 | R43: 妊娠希望者の検査（同居） | S43: =IF(T43="☑","□","☑") -> ☑ | T43: =IF(AW1="ある","☑","□") -> □
G44: =IF(A43="□","□",S40) -> □ | H44: なし | I44: ー | T44: =IF(OR(T42="☑",T43="☑"),"□","☑") -> ☑ | BI44: =MATCH(BI40,$Q$39:$BH$39,0) -> #N/A | BJ44: =MATCH(BJ40,$Q$39:$BH$39,0) -> #N/A | BK44: =MATCH(BK40,$Q$39:$BH$39,0) -> #N/A | BL44: =MATCH(BL40,$Q$39:$BH$39,0) -> #N/A | BM44: =MATCH(BM40,$Q$39:$BH$39,0) -> #N/A | BN44: =MATCH(BN40,$Q$39:$BH$39,0) -> #N/A
A45: =IFERROR(C14,"□") -> □ | B45: 【妊婦】の配偶者又は 同居者 | G45: =IF(A45="□","□",T40) -> □ | H45: あり | I45: 母子健康手帳、抗体検査結果 | O45: 26
G46: =IF(A45="□","□",S40) -> □ | H46: なし | I46: 母子健康手帳
A47: =IFERROR(C15,"□") -> □ | B47: ０歳児の同居者 | G47: =IF(A47="□","□",T40) -> □ | H47: あり | I47: 母子健康手帳、抗体検査結果 | O47: 26
G48: =IF(A47="□","□",S40) -> □ | H48: なし | I48: 母子健康手帳
A49: 風しん | G49: 検査歴 | I49: 必要書類 | O49: 質問項目
A50: =IFERROR(C16,"□") -> ☑ | B50: 妊娠を希望の女性 | G50: =IF(A50="□","□",T41) -> □ | H50: あり | I50: 抗体検査結果 | O50: 33
G51: =IF(A50="□","□",S41) -> ☑ | H51: なし | I51: ー
A52: =IFERROR(C17,"□") -> □ | B52: 【妊娠を希望する女性】の配偶者又は同居者 | G52: =IF(A52="□","□",T43) -> □ | H52: あり | I52: 抗体検査結果（妊娠希望者） | O52: 29or30
G53: =IF(A52="□","□",T42) -> □ | I53: 抗体検査結果（受検者） | O53: 33
G54: =IF(A52="□","□",T44) -> □ | H54: なし | I54: ー
A55: =IFERROR(C18,"□") -> □ | B55: 【妊婦】の配偶者又は 同居者 | G55: =IF(A55="□","□",T42) -> □ | H55: あり | I55: 母子健康手帳、妊婦健診結果、 抗体検査結果（受検者） | O55: 32，33
G57: =IF(A55="□","□",S42) -> □ | H57: なし | I57: 母子健康手帳、妊婦健診結果 | O57: 31
A59: ２．健康のかるての確認事項
A60: □ | B60: 検査希望者が前橋市民である | H60: □ | I60: パートナー以外の同居者は、妊婦等と同一住所
A61: □ | B61: ワクチンを2回接種していない
A63: ３．受検者の生年月日を確認
A64: =IFERROR(R36,"□") -> ☑ | B64: 平成２年４月１日以前⇒予診票を交付 | J64: =IFERROR(IF(R35=0,"☑","□"),"□") -> □ | K64: 平成２年４月２日以降
A66: ４．受検に関わる説明
A67: □ | B67: 検査は申請年度内に行うこと
A69: ５．受診券等の配布
A70: □ | B70: 受診券、協力医療機関一覧表、麻しん・風しん抗体検査事業のご案内を渡す
M71: ="受付者："&R2 -> 受付者：鈴木

Sheet 貼り付け
B1: 回答番号 | C1: 受付番号 | D1: 回答日時 | E1: 申請状況 | F1: 申請状況補足 | G1: 申請方式 | H1: 処理状況 | I1: 処理状況補足 | J1: 利用者番号 | K1: 2:select | L1: 57:select | M1: 54:lastname | N1: 54:firstname | O1: 54:lastfurigana | P1: 54:firstfurigana | Q1: 54:zipcode | R1: 54:prefecture | S1: 54:address1 | T1: 54:address2 | U1: 54:address3 | V1: 54:tel | W1: 68:number | X1: 5:select | Y1: 3:select | Z1: 4:select | AA1: 58:select | AB1: 59:select | AC1: 1:select | AD1: 61:select | AE1: 62:select | AF1: 63:select | AG1: 9:select | AH1: 20:select | AI1: 55:text | AJ1: 56:date | AK1: 10:select | AL1: 23:select | AM1: 13:select | AN1: 24:select | AO1: 26:select | AP1: 27:select | AQ1: 33:select | AR1: 28:select | AS1: 25:select | AT1: 66:checkbox | AU1: 69:checkbox | AV1: 67:checkbox | AW1: 47:file | AX1: 52:file | AY1: 53:file | AZ1: 50:file | BA1: 51:file | BB1: 48:file | BC1: 68:date | BD1: 54:birthday
M2: 検査を希望する方の情報を入力してください。 | AN2: 1 | AO2: 4 | AP2: 2 | AQ2: 3 | AR2: 2、3、4 | AS2: 5
B3: 平成2年4月2日以降に生まれた方は、麻しん・風しん（MR）ワクチンを2回接種している可能性があります。 | X3: 接種歴については、母子健康手帳や予防接種記録などでご確認ください。 [麻しん・風しん混合ワクチン] | AK3: 麻しん | AN3: 風しん
A4: 受付者氏名 | K4: 住民票の所在はどこですか？ | L4: 過去に、本事業の助成を受けたことがありますか？ | W4: [生年月日を8桁の西暦で入力してください] | X4: 麻しん・風しん含有ワクチンの接種回数を教えてください。 | Y4: [麻しん単独ワクチン] | Z4: [風しん単独ワクチン] | AA4: 希望する検査を選択してください。 | AB4: 希望する検査を選択してください。 | AC4: 希望する検査を選択してください。 [風しん抗体検査は助成の対象外となります。] | AD4: 希望する検査を選択してください。 [風しん抗体検査は助成の対象外となります。] | AE4: 希望する検査を選択してください。 [麻しん抗体検査は助成の対象外となります。] | AF4: 希望する検査を選択してください。 [麻しん抗体検査は助成の対象外となります。] | AG4: 麻しん抗体検査の対象区分を選択してください。 [⚠対象区分に該当しない方は、検査費用の助成を受けることができません。] | AH4: 風しん抗体検査の対象区分を選択してください。 [⚠対象区分に該当しない方は、検査費用の助成を受けることができません。] | AI4: 0歳児、妊娠希望の女性または妊婦の氏名を入力してください。 | AJ4: 0歳児、妊娠希望の女性または妊婦の生年月日を入力してください。 | AK4: 受検希望者は過去に抗体検査を行ったことがありますか？ | AL4: 受検希望者は過去に抗体検査を行ったことがありますか？ | AM4: 麻しん抗体検査の結果を教えてください。 [EIA法による検査で16.0未満の結果が出た方は、抗体価が低いと判断されます。] | AN4: 受検希望者は過去に抗体検査を行ったことがありますか？ | AO4: 妊娠を希望する女性は、妊婦健診等で過去に抗体検査を行ったことがありますか？ | AP4: 検査の結果を教えてください。 [HI法による検査で16倍以下又は、EIA法による検査で8.0未満の結果が出た方は、抗体価が低いと判断されます。] | AQ4: 妊婦健診の結果を教えてください。 [HI法による検査で16倍以下又は、EIA法による検査で8.0未満の結果が出た方は、抗体価が低いと判断されます。] | AR4: 受検希望者は過去に抗体検査を行ったことがありますか？ | AS4: 風しん抗体検査の結果を教えてください。 [HI法による検査で16倍以下又は、EIA法による検査で8.0未満の結果が出た方は、抗体価が低いと判断されます。] | AT4: 同意いただける場合は☑してください。 | AV4: 同意いただける場合は☑してください。 | AW4: 麻しんの抗体検査結果を添付してください。 | AX4: お子さんの母子手帳の表紙の写真を添付してください。 | AY4: お子さんの母子手帳の表紙の写真を添付してください。 | AZ4: 妊娠を希望する方の風しんの抗体検査結果を添付してください。 | BA4: 妊娠を希望する方の風しんの抗体検査結果を添付してください。 | BB4: 妊婦健診の風しんの抗体検査結果を添付してください。 | BC4: 妊婦健診の風しんの抗体検査結果を添付してください。 | BD4: 受検希望者の風しんの抗体検査結果を添付してください。
A5: 山下 | B5: 6 | C5: NP00000688 | D5: 2026-02-02T10:37:04 | E5: 受付 | G5: オンライン | H5: 受付 | K5: 前橋市 | L5: ない | M5: 大濱 | N5: 由理 | O5: オオハマ | P5: ユリ | Q5: 371-0846 | R5: 群馬県 | S5: 前橋市 | T5: 元総社町2334番地 | U5: セルディーナ103号 | V5: 8079736822 | W5: 19850715 | X5: 0回 | Y5: 1回 | Z5: 1回 | AA5: 麻しん抗体検査 | AG5: ０歳児の同居者（住民票同一である） | AL5: ない又はわからない（結果不明） | AT5: （平成２年４月１日以前生まれの方のみ）検査の結果、抗体価が低いことが判明した場合、予防接種を受けることを希望します。 | AU5: 本事業の実施に必要な範囲で、市が保有する個人情報を確認することに同意します。
A6: 山下 | B6: 8 | C6: NP00000834 | D6: 2026-02-03T09:48:57 | E6: 受付 | G6: オンライン | H6: 受付 | K6: 前橋市 | L6: ない | M6: 佐々木 | N6: 由香 | O6: ササキ | P6: ユカ | Q6: 379-2114 | R6: 群馬県 | S6: 前橋市 | T6: 上増田町437-3 | V6: 9069365150 | W6: 19841007 | X6: 0回 | Y6: 0回 | Z6: 0回 | AA6: 麻しん・風しん抗体検査 | AG6: 妊娠を希望する女性 | AH6: 妊娠を希望する女性 | AK6: ない又はわからない（結果不明） | AN6: ない又はわからない（結果不明） | AT6: （平成２年４月１日以前生まれの方のみ）検査の結果、抗体価が低いことが判明した場合、予防接種を受けることを希望します。 | AU6: 本事業の実施に必要な範囲で、市が保有する個人情報を確認することに同意します。
A7: 茂木 | B7: 9 | C7: NP00000994 | D7: 2026-02-03T14:11:16 | E7: 受付 | G7: オンライン | H7: 受付 | K7: 前橋市 | L7: ない | M7: 高木 | N7: 龍一 | O7: タカギ | P7: リュウイチ | Q7: 371-0842 | R7: 群馬県 | S7: 前橋市 | T7: 下石倉町３－９ | U7: レジア下石倉203 | V7: 8067547426 | W7: 19910501 | X7: 0回 | Y7: 0回 | Z7: 0回 | AA7: 麻しん・風しん抗体検査 | AG7: 【妊婦】の配偶者又は住民票同一の同居者 | AH7: 【妊婦】の配偶者又は住民票同一の同居者 | AI7: 高木 美鈴 | AJ7: 34401 | AL7: ない又はわからない（結果不明） | AQ7: 抗体価が低かった | AR7: ない又はわからない（結果不明） | AV7: 本事業の実施に必要な範囲で、市が保有する個人情報を確認することに同意します。 | AX7: 9_70_20260203-1400_001.jpeg | BB7: 9_50_20260201-1859_001.jpeg
A8: 山下 | B8: 11 | C8: NP00001148 | D8: 2026-02-05T02:03:00 | E8: 受付 | G8: オンライン | H8: 受付 | K8: 前橋市 | L8: ない | M8: 阿部 | N8: 将也 | O8: アベ | P8: マサヤ | Q8: 371-0826 | R8: 群馬県 | S8: 前橋市 | T8: 青葉町19-1 | U8: サンアレー203 | V8: 9089244356 | W8: 19830304 | X8: 0回 | Y8: 0回 | Z8: 0回 | AA8: 麻しん・風しん抗体検査 | AG8: 【妊娠を希望する女性】の配偶者又は住民票同一の同居者 | AH8: 【妊娠を希望する女性】の配偶者又は住民票同一の同居者 | AI8: 阿部弥香 | AJ8: 29293 | AK8: ない又はわからない（結果不明） | AO8: ない又はわからない（結果不明） | AR8: ない又はわからない（結果不明） | AT8: （平成２年４月１日以前生まれの方のみ）検査の結果、抗体価が低いことが判明した場合、予防接種を受けることを希望します。 | AU8: 本事業の実施に必要な範囲で、市が保有する個人情報を確認することに同意します。
A9: 山下 | B9: 10 | C9: NP00001030 | D9: 2026-02-05T01:57:32 | E9: 受付 | G9: オンライン | H9: 受付 | K9: 前橋市 | L9: ない | M9: 阿部 | N9: 弥香 | O9: アベ | P9: ミカ | Q9: 371-0826 | R9: 群馬県 | S9: 前橋市 | T9: 青葉町19-1 | U9: サンアレー203 | V9: 8030059218 | W9: 19800313 | X9: 0回 | Y9: 1回 | Z9: 1回 | AA9: 麻しん・風しん抗体検査 | AG9: 妊娠を希望する女性 | AH9: 妊娠を希望する女性 | AK9: ない又はわからない（結果不明） | AN9: ない又はわからない（結果不明） | AT9: （平成２年４月１日以前生まれの方のみ）検査の結果、抗体価が低いことが判明した場合、予防接種を受けることを希望します。 | AU9: 本事業の実施に必要な範囲で、市が保有する個人情報を確認することに同意します。
A10: 鈴木 | B10: 12 | C10: NP00001236 | D10: 2026-02-07T18:56:58 | E10: 受付 | G10: オンライン | H10: 受付 | K10: 前橋市 | L10: ない | M10: 波方 | N10: 友梨奈 | O10: ナミカタ | P10: ユリナ | Q10: 371-0821 | R10: 群馬県 | S10: 前橋市 | T10: 上新田町230-13 | V10: 8067422415 | W10: 19951024 | X10: 1回 | Y10: 0回 | Z10: 2回以上 | AD10: 麻しん抗体検査 | AG10: 妊娠を希望する女性 | AK10: ない又はわからない（結果不明） | AV10: 本事業の実施に必要な範囲で、市が保有する個人情報を確認することに同意します。
A11: 戸部 | B11: 13 | C11: NP00001348 | D11: 2026-02-10T10:41:14 | E11: 受付 | G11: オンライン | H11: 受付 | K11: 前橋市 | L11: ない | M11: 竹山 | N11: 将志 | O11: タケヤマ | P11: マサシ | Q11: 371-0007 | R11: 群馬県 | S11: 前橋市 | T11: 上泉町2811-45 | V11: 9044103732 | W11: 19830330 | X11: 1回 | Y11: 0回 | Z11: 0回 | AB11: 麻しん抗体検査 | AG11: 【妊娠を希望する女性】の配偶者又は住民票同一の同居者 | AI11: 星野恵美 | AJ11: 33976 | AK11: ない又はわからない（結果不明） | AT11: （平成２年４月１日以前生まれの方のみ）検査の結果、抗体価が低いことが判明した場合、予防接種を受けることを希望します。 | AU11: 本事業の実施に必要な範囲で、市が保有する個人情報を確認することに同意します。
A12: 鈴木 | B12: 14 | C12: NP00001420 | D12: 2026-02-11T12:11:58 | E12: 受付 | G12: オンライン | H12: 受付 | K12: 前橋市 | L12: ない | M12: 髙田 | N12: 裕貴 | O12: タカダ | P12: ユウキ | Q12: 371-0007 | R12: 群馬県 | S12: 前橋市 | T12: 上泉町 | U12: 661-8 | V12: 9033467816 | W12: 19890730 | X12: 0回 | Y12: 1回 | Z12: 0回 | AA12: 麻しん抗体検査 | AG12: ０歳児の同居者（住民票同一である） | AL12: ない又はわからない（結果不明） | AT12: （平成２年４月１日以前生まれの方のみ）検査の結果、抗体価が低いことが判明した場合、予防接種を受けることを希望します。 | AU12: 本事業の実施に必要な範囲で、市が保有する個人情報を確認することに同意します。 | AX12: 14_70_image.jpg
A13: 鈴木 | B13: 15 | C13: NP00001529 | D13: 2026-02-12T09:45:09 | E13: 受付 | G13: オンライン | H13: 受付 | K13: 前橋市 | L13: ない | M13: 高橋 | N13: 琴美 | O13: タカハシ | P13: コトミ | Q13: 371-0852 | R13: 群馬県 | S13: 前橋市 | T13: 総社町総社1412-10 | V13: 8020358176 | W13: 19940524 | X13: 0回 | Y13: 1回 | Z13: 1回 | AA13: 麻しん・風しん抗体検査 | AG13: 妊娠を希望する女性 | AH13: 妊娠を希望する女性 | AK13: ない又はわからない（結果不明） | AN13: ある | AS13: 抗体価が高かった | AV13: 本事業の実施に必要な範囲で、市が保有する個人情報を確認することに同意します。
A14: 茂木 | B14: 16 | C14: NP00001623 | D14: 2026-02-12T17:18:29 | E14: 受付 | G14: オンライン | H14: 受付 | K14: 前橋市 | L14: ない | M14: 堀内 | N14: 弘恵 | O14: ホリウチ | P14: ヒロエ | Q14: 371-0013 | R14: 群馬県 | S14: 前橋市 | T14: 西片貝町5-15-3 | V14: 8054786874 | W14: 19880726 | X14: 1回 | Y14: 0回 | Z14: 0回 | AB14: 麻しん・風しん抗体検査 | AG14: 妊娠を希望する女性 | AH14: 妊娠を希望する女性 | AK14: ない又はわからない（結果不明） | AN14: ない又はわからない（結果不明） | AT14: （平成２年４月１日以前生まれの方のみ）検査の結果、抗体価が低いことが判明した場合、予防接種を受けることを希望します。 | AU14: 本事業の実施に必要な範囲で、市が保有する個人情報を確認することに同意します。
A15: 茂木 | B15: 17 | C15: NP00001710 | D15: 2026-02-12T17:22:21 | E15: 受付 | G15: オンライン | H15: 受付 | K15: 前橋市 | L15: ない | M15: 堀内 | N15: 祐希 | O15: ホリウチ | P15: ユウキ | Q15: 371-0013 | R15: 群馬県 | S15: 前橋市 | T15: 西片貝町5-15-3 | V15: 8054786874 | W15: 19860305 | X15: 0回 | Y15: 0回 | Z15: 0回 | AA15: 麻しん・風しん抗体検査 | AG15: 【妊娠を希望する女性】の配偶者又は住民票同一の同居者 | AH15: 【妊娠を希望する女性】の配偶者又は住民票同一の同居者 | AI15: 堀内弘恵 | AJ15: 32350 | AK15: ない又はわからない（結果不明） | AO15: ない又はわからない（結果不明） | AR15: ない又はわからない（結果不明） | AT15: （平成２年４月１日以前生まれの方のみ）検査の結果、抗体価が低いことが判明した場合、予防接種を受けることを希望します。 | AU15: 本事業の実施に必要な範囲で、市が保有する個人情報を確認することに同意します。
A16: 鈴木 | B16: 18 | C16: NP00001816 | D16: 2026-02-13T14:56:42 | E16: 受付 | G16: オンライン | H16: 受付 | K16: 前橋市 | L16: ない | M16: 松田 | N16: 瑠唯 | O16: マツダ | P16: ルイ | Q16: 371-0805 | R16: 群馬県 | S16: 前橋市 | T16: 南町四丁目50番地10 | U16: T'sハウス101 | V16: 9024989171 | W16: 19890221 | X16: 0回 | Y16: 1回 | Z16: 0回 | AA16: 麻しん抗体検査 | AG16: ０歳児の同居者（住民票同一である） | AI16: 松田 千弦 | AJ16: 45925 | AL16: ない又はわからない（結果不明） | AT16: （平成２年４月１日以前生まれの方のみ）検査の結果、抗体価が低いことが判明した場合、予防接種を受けることを希望します。 | AU16: 本事業の実施に必要な範囲で、市が保有する個人情報を確認することに同意します。 | AX16: 18_70_image.jpg
A17: 山下 | B17: 19 | C17: NP00001980 | D17: 2026-02-14T15:17:23 | E17: 受付 | G17: オンライン | H17: 受付 | K17: 前橋市 | L17: ない | M17: 真下 | N17: 愛美 | O17: マシタ | P17: マナミ | Q17: 379-2154 | R17: 群馬県 | S17: 前橋市 | T17: 天川大島町１４２２－１ | U17: グレイスセキグチ３０１ | V17: 8054559410 | W17: 19910411 | X17: 1回 | Y17: 0回 | Z17: 0回 | AB17: 麻しん・風しん抗体検査 | AG17: 妊娠を希望する女性 | AH17: 妊娠を希望する女性 | AK17: ない又はわからない（結果不明） | AN17: ない又はわからない（結果不明） | AV17: 本事業の実施に必要な範囲で、市が保有する個人情報を確認することに同意します。
A18: 山下 | B18: 23 | C18: NP00002320 | D18: 2026-02-16T14:26:44 | E18: 受付 | G18: オンライン | H18: 受付 | K18: 前橋市 | L18: ない | M18: 五十嵐 | N18: 智直 | O18: イガラシ | P18: トモナオ | Q18: 371-0232 | R18: 群馬県 | S18: 前橋市 | T18: 茂木町605番地5 | U18: ダンデライオンA-101 | V18: 9093218648 | W18: 19840316 | X18: 0回 | Y18: 1回 | Z18: 1回 | AA18: 麻しん・風しん抗体検査 | AG18: 【妊娠を希望する女性】の配偶者又は住民票同一の同居者 | AH18: 【妊娠を希望する女性】の配偶者又は住民票同一の同居者 | AI18: 五十嵐祥子 | AJ18: 46069 | AK18: ない又はわからない（結果不明） | AO18: ない又はわからない（結果不明） | AR18: ない又はわからない（結果不明） | AT18: （平成２年４月１日以前生まれの方のみ）検査の結果、抗体価が低いことが判明した場合、予防接種を受けることを希望します。 | AU18: 本事業の実施に必要な範囲で、市が保有する個人情報を確認することに同意します。
A19: 山下 | B19: 22 | C19: NP00002254 | D19: 2026-02-16T14:20:55 | E19: 受付 | G19: オンライン | H19: 受付 | K19: 前橋市 | L19: ない | M19: 五十嵐 | N19: 祥子 | O19: イガラシ | P19: サチコ | Q19: 371-0232 | R19: 群馬県 | S19: 前橋市 | T19: 茂木町605番地5 | U19: ダンデライオンA-101 | V19: 9057846032 | W19: 19860328 | X19: 0回 | Y19: 1回 | Z19: 1回 | AA19: 麻しん・風しん抗体検査 | AG19: 妊娠を希望する女性 | AH19: 妊娠を希望する女性 | AK19: ない又はわからない（結果不明） | AN19: ない又はわからない（結果不明） | AT19: （平成２年４月１日以前生まれの方のみ）検査の結果、抗体価が低いことが判明した場合、予防接種を受けることを希望します。 | AU19: 本事業の実施に必要な範囲で、市が保有する個人情報を確認することに同意します。
A20: 山下 | B20: 24 | C20: NP00002432 | D20: 2026-02-17T12:16:56 | E20: 受付 | G20: オンライン | H20: 受付 | K20: 前橋市 | L20: ない | M20: 星野 | N20: 瞳 | O20: ホシノ | P20: ヒトミ | Q20: 371-0846 | R20: 群馬県 | S20: 前橋市 | T20: 元総社町1600-2 | U20: マールアスールＩ棟 | V20: 9049570302 | W20: 19901007 | X20: 1回 | Y20: 0回 | Z20: 0回 | AB20: 麻しん・風しん抗体検査 | AG20: 妊娠を希望する女性 | AH20: 妊娠を希望する女性 | AK20: ない又はわからない（結果不明） | AN20: ある | AS20: 抗体価が低く、ワクチンを接種した | AV20: 本事業の実施に必要な範囲で、市が保有する個人情報を確認することに同意します。
A21: 鈴木 | B21: 26 | C21: NP00002684 | D21: 2026-02-18T22:48:06 | E21: 受付 | G21: オンライン | H21: 受付 | K21: 前橋市 | L21: ない | M21: 甘利 | N21: 彩子 | O21: アマリ | P21: アヤコ | Q21: 371-0803 | R21: 群馬県 | S21: 前橋市 | T21: 天川原町2-42-4 | U21: ハイムマローネII 201号 | V21: 7028233698 | W21: 19871010 | X21: 1回 | Y21: 0回 | Z21: 0回 | AB21: 麻しん抗体検査 | AG21: 妊娠を希望する女性 | AK21: ない又はわからない（結果不明） | AT21: （平成２年４月１日以前生まれの方のみ）検査の結果、抗体価が低いことが判明した場合、予防接種を受けることを希望します。 | AU21: 本事業の実施に必要な範囲で、市が保有する個人情報を確認することに同意します。
A22: 鈴木 | B22: 25 | C22: NP00002582 | D22: 2026-02-18T22:05:03 | E22: 受付 | G22: オンライン | H22: 受付 | K22: 前橋市 | L22: ない | M22: 平島 | N22: 恵理子 | O22: ヒラシマ | P22: エリコ | Q22: 371-0801 | R22: 群馬県 | S22: 前橋市 | T22: 文京町3-1-10 | U22: 401 | V22: 8017283868 | W22: 19890902 | X22: 0回 | Y22: 1回 | Z22: 1回 | AA22: 麻しん・風しん抗体検査 | AG22: 妊娠を希望する女性 | AH22: 妊娠を希望する女性 | AK22: ない又はわからない（結果不明） | AN22: ない又はわからない（結果不明） | AT22: （平成２年４月１日以前生まれの方のみ）検査の結果、抗体価が低いことが判明した場合、予防接種を受けることを希望します。 | AU22: 本事業の実施に必要な範囲で、市が保有する個人情報を確認することに同意します。
A23: 茂木 | B23: 27 | C23: NP00002790 | D23: 2026-02-19T09:55:43 | E23: 受付 | G23: オンライン | H23: 受付 | K23: 前橋市 | L23: ない | M23: 神戸 | N23: 恵実 | O23: カンベ | P23: メグミ | Q23: 371-0244 | R23: 群馬県 | S23: 前橋市 | T23: 鼻毛石町1074番地4 | V23: 9047009448 | W23: 19920407 | X23: 0回 | Y23: 0回 | Z23: 2回以上 | AC23: 麻しん抗体検査 | AG23: ０歳児の同居者（住民票同一である） | AI23: 神戸晴陽 | AJ23: 45904 | AL23: ない又はわからない（結果不明） | AV23: 本事業の実施に必要な範囲で、市が保有する個人情報を確認することに同意します。 | AX23: 27_70_image.jpg
A24: 茂木 | B24: 28 | C24: NP00002843 | D24: 2026-02-19T10:10:41 | E24: 受付 | G24: オンライン | H24: 受付 | K24: 前橋市 | L24: ない | M24: 神戸 | N24: 祐二 | O24: カンベ | P24: ユウジ | Q24: 371-0244 | R24: 群馬県 | S24: 前橋市 | T24: 鼻毛石町1074番地4 | V24: 7038404886 | W24: 19921208 | X24: 0回 | Y24: 0回 | Z24: 0回 | AA24: 麻しん抗体検査 | AG24: ０歳児の同居者（住民票同一である） | AI24: 神戸晴陽 | AJ24: 45904 | AL24: ない又はわからない（結果不明） | AV24: 本事業の実施に必要な範囲で、市が保有する個人情報を確認することに同意します。 | AX24: 28_70_image.jpg
A25: 茂木 | B25: 29 | C25: NP00002960 | D25: 2026-02-19T22:22:31 | E25: 受付 | G25: オンライン | H25: 受付 | K25: 前橋市 | L25: ない | M25: 真下 | N25: 達也 | O25: マシタ | P25: タツヤ | Q25: 379-2154 | R25: 群馬県 | S25: 前橋市 | T25: 天川大島町1422-1 | U25: グレイスセキグチ301号室 | V25: 8012844604 | W25: 19881108 | X25: 0回 | Y25: 0回 | Z25: 1回 | AA25: 麻しん・風しん抗体検査 | AG25: 【妊娠を希望する女性】の配偶者又は住民票同一の同居者 | AH25: 【妊娠を希望する女性】の配偶者又は住民票同一の同居者 | AI25: 真下愛美 | AJ25: 33339 | AK25: ない又はわからない（結果不明） | AO25: ない又はわからない（結果不明） | AR25: ない又はわからない（結果不明） | AT25: （平成２年４月１日以前生まれの方のみ）検査の結果、抗体価が低いことが判明した場合、予防接種を受けることを希望します。 | AU25: 本事業の実施に必要な範囲で、市が保有する個人情報を確認することに同意します。
A26: 茂木 | B26: 30 | C26: NP00003016 | D26: 2026-02-20T11:30:04 | E26: 受付 | G26: オンライン | H26: 受付 | K26: 前橋市 | L26: ない | M26: 木村 | N26: 努 | O26: キムラ | P26: ツトム | Q26: 371-0007 | R26: 群馬県 | S26: 前橋市 | T26: 上泉町1829-1 | V26: 9099784789 | W26: 19810819 | X26: 0回 | Y26: 0回 | Z26: 0回 | AA26: 麻しん・風しん抗体検査 | AG26: 【妊婦】の配偶者又は住民票同一の同居者 | AH26: 【妊婦】の配偶者又は住民票同一の同居者 | AI26: 木村 仁見 | AJ26: 32646 | AL26: ない又はわからない（結果不明） | AQ26: 抗体価が高かった | AT26: （平成２年４月１日以前生まれの方のみ）検査の結果、抗体価が低いことが判明した場合、予防接種を受けることを希望します。 | AU26: 本事業の実施に必要な範囲で、市が保有する個人情報を確認することに同意します。 | AX26: 30_70_image.jpg
A27: 鈴木 | B27: 31 | C27: NP00003173 | D27: 2026-02-20T16:12:56 | E27: 受付 | G27: オンライン | H27: 受付 | K27: 前橋市 | L27: ない | M27: 小林 | N27: 弘明 | O27: コバヤシ | P27: ヒロアキ | Q27: 371-0852 | R27: 群馬県 | S27: 前橋市 | T27: 総社町総社1331-5 | V27: 9084321892 | W27: 19910821 | X27: 0回 | Y27: 0回 | Z27: 0回 | AA27: 麻しん・風しん抗体検査 | AG27: 【妊娠を希望する女性】の配偶者又は住民票同一の同居者 | AH27: 【妊娠を希望する女性】の配偶者又は住民票同一の同居者 | AI27: 小林まゆみ | AJ27: 33365 | AK27: ない又はわからない（結果不明） | AO27: ある | AP27: 抗体価が低かった | AR27: ない又はわからない（結果不明） | AV27: 本事業の実施に必要な範囲で、市が保有する個人情報を確認することに同意します。 | AZ27: 31_52_image.jpg
A28: 鈴木 | B28: 33 | C28: NP00003352 | D28: 2026-02-21T10:10:11 | E28: 受付 | G28: オンライン | H28: 受付 | K28: 前橋市 | L28: ない | M28: 横堀 | N28: 彩香 | O28: ヨコボリ | P28: アヤカ | Q28: 371-0004 | R28: 群馬県 | S28: 前橋市 | T28: 亀泉町630-1 | V28: 8020776151 | W28: 19841027 | X28: 0回 | Y28: 1回 | Z28: 0回 | AA28: 麻しん抗体検査 | AG28: 妊娠を希望する女性 | AK28: ない又はわからない（結果不明） | AT28: （平成２年４月１日以前生まれの方のみ）検査の結果、抗体価が低いことが判明した場合、予防接種を受けることを希望します。 | AU28: 本事業の実施に必要な範囲で、市が保有する個人情報を確認することに同意します。
A29: 山下 | B29: 35 | C29: NP00003550 | D29: 2026-02-24T12:36:07 | E29: 受付 | G29: オンライン | H29: 受付 | K29: 前橋市 | L29: ない | M29: 髙田 | N29: 真弓 | O29: タカダ | P29: マユミ | Q29: 379-2144 | R29: 群馬県 | S29: 前橋市 | T29: 下川町51-6 | V29: 9051933035 | W29: 19681031 | X29: 0回 | Y29: 0回 | Z29: 0回 | AA29: 麻しん・風しん抗体検査 | AG29: 【妊娠を希望する女性】の配偶者又は住民票同一の同居者 | AH29: 【妊娠を希望する女性】の配偶者又は住民票同一の同居者 | AI29: 髙田安奈 | AJ29: 35741 | AK29: ない又はわからない（結果不明） | AO29: ない又はわからない（結果不明） | AR29: ない又はわからない（結果不明） | AT29: （平成２年４月１日以前生まれの方のみ）検査の結果、抗体価が低いことが判明した場合、予防接種を受けることを希望します。 | AU29: 本事業の実施に必要な範囲で、市が保有する個人情報を確認することに同意します。
A30: 山下 | B30: 34 | C30: NP00003408 | D30: 2026-02-24T12:31:51 | E30: 受付 | G30: オンライン | H30: 受付 | K30: 前橋市 | L30: ない | M30: 高田 | N30: 安奈 | O30: タカダ | P30: アンナ | Q30: 379-2144 | R30: 群馬県 | S30: 前橋市 | T30: 下川町51-6 | V30: 9055608853 | W30: 19971107 | X30: 0回 | Y30: 1回 | Z30: 1回 | AA30: 麻しん・風しん抗体検査 | AG30: 妊娠を希望する女性 | AH30: 妊娠を希望する女性 | AK30: ない又はわからない（結果不明） | AN30: ない又はわからない（結果不明） | AV30: 本事業の実施に必要な範囲で、市が保有する個人情報を確認することに同意します。
A31: 鈴木 | B31: 36 | C31: NP00003664 | D31: 2026-02-24T17:07:30 | E31: 受付 | G31: オンライン | H31: 受付 | K31: 前橋市 | L31: ない | M31: 町田 | N31: 千枝 | O31: マチダ | P31: チエ | Q31: 371-0037 | R31: 群馬県 | S31: 前橋市 | T31: 上小出町2-3-15 | U31: vilakeyaki101 | V31: 8050015879 | W31: 19880511 | X31: 0回 | Y31: 0回 | Z31: 1回 | AA31: 麻しん・風しん抗体検査 | AG31: ０歳児の同居者（住民票同一である） | AH31: 妊娠を希望する女性 | AI31: 町田 千枝 | AJ31: 32274 | AL31: ない又はわからない（結果不明） | AN31: ない又はわからない（結果不明） | AT31: （平成２年４月１日以前生まれの方のみ）検査の結果、抗体価が低いことが判明した場合、予防接種を受けることを希望します。 | AU31: 本事業の実施に必要な範囲で、市が保有する個人情報を確認することに同意します。 | AX31: 36_70_image.jpg
A32: 鈴木 | B32: 37 | C32: NP00003718 | D32: 2026-02-26T13:49:39 | E32: 受付 | G32: オンライン | H32: 受付 | K32: 前橋市 | L32: ない | M32: 大塚 | N32: 杏磨 | O32: オオツカ | P32: キョウマ | Q32: 371-0055 | R32: 群馬県 | S32: 前橋市 | T32: 北代田町370-8 | U32: オペラハウス北代田202 | V32: 9071723796 | W32: 19911120 | X32: 1回 | Y32: 0回 | Z32: 0回 | AB32: 麻しん・風しん抗体検査 | AG32: 【妊娠を希望する女性】の配偶者又は住民票同一の同居者 | AH32: 【妊娠を希望する女性】の配偶者又は住民票同一の同居者 | AI32: 大塚 鈴音 | AJ32: 33134 | AK32: ない又はわからない（結果不明） | AO32: ない又はわからない（結果不明） | AR32: ない又はわからない（結果不明） | AV32: 本事業の実施に必要な範囲で、市が保有する個人情報を確認することに同意します。
A33: 山下 | B33: 39 | C33: NP00003972 | D33: 2026-02-27T09:50:53 | E33: 受付 | G33: オンライン | H33: 受付 | K33: 前橋市 | L33: ない | M33: Thalagala Vithanage | N33: Nethmi Sasanga | O33: タラガラウィタナゲ | P33: ネッミササンガ | Q33: 371-0053 | R33: 群馬県 | S33: 前橋市 | T33: 幸塚町 | U33: 148番地１キャトル・アン202号 | V33: 8052767674 | W33: 19961220 | X33: 0回 | Y33: 0回 | Z33: 0回 | AA33: 麻しん・風しん抗体検査 | AG33: 妊娠を希望する女性 | AH33: 妊娠を希望する女性 | AK33: ない又はわからない（結果不明） | AN33: ない又はわからない（結果不明） | AV33: 本事業の実施に必要な範囲で、市が保有する個人情報を確認することに同意します。
A34: 山下 | B34: 40 | C34: NP00004005 | D34: 2026-02-27T09:52:52 | E34: 受付 | G34: オンライン | H34: 受付 | K34: 前橋市 | L34: ない | M34: KURUPANAWA GAMAGE | N34: LAHIRU INDULA | O34: クルパナワガマゲ | P34: ラヒルインドゥラ | Q34: 371-0053 | R34: 群馬県 | S34: 前橋市 | T34: 幸塚町 | U34: 148番地1キャトル・アン202号 | V34: 8037399688 | W34: 19960731 | X34: 0回 | Y34: 0回 | Z34: 0回 | AA34: 麻しん・風しん抗体検査 | AG34: 【妊娠を希望する女性】の配偶者又は住民票同一の同居者 | AH34: 【妊娠を希望する女性】の配偶者又は住民票同一の同居者 | AI34: THALAGALA VITHANAGE NETHMI SASANGA | AJ34: 46080 | AK34: ない又はわからない（結果不明） | AO34: ない又はわからない（結果不明） | AR34: ない又はわからない（結果不明） | AV34: 本事業の実施に必要な範囲で、市が保有する個人情報を確認することに同意します。
A35: 山下 | B35: 44 | C35: NP00004408 | D35: 2026-03-04T17:50:03 | E35: 受付 | G35: オンライン | H35: 受付 | K35: 前橋市 | L35: ない | M35: 竹山 | N35: 均美 | O35: タケヤマ | P35: ヒトミ | Q35: 379-2117 | R35: 群馬県 | S35: 前橋市 | T35: 二之宮町1308-3 | V35: 8087388346 | W35: 19890814 | X35: 0回 | Y35: 1回 | Z35: 2回以上 | AC35: 麻しん抗体検査 | AG35: 妊娠を希望する女性 | AK35: ない又はわからない（結果不明） | AT35: （平成２年４月１日以前生まれの方のみ）検査の結果、抗体価が低いことが判明した場合、予防接種を受けることを希望します。 | AU35: 本事業の実施に必要な範囲で、市が保有する個人情報を確認することに同意します。
A36: 山下 | B36: 43 | C36: NP00004320 | D36: 2026-03-04T13:49:32 | E36: 受付 | G36: オンライン | H36: 受付 | K36: 前橋市 | L36: ない | M36: 森岡 | N36: 修平 | O36: モリオカ | P36: シュウヘイ | Q36: 371-0846 | R36: 群馬県 | S36: 前橋市 | T36: 元総社町1824-1 | U36: グリーンヒルズ元総社203号 | V36: 9074656345 | W36: 19940401 | X36: 0回 | Y36: 1回 | Z36: 1回 | AA36: 麻しん・風しん抗体検査 | AG36: 【妊娠を希望する女性】の配偶者又は住民票同一の同居者 | AH36: 【妊娠を希望する女性】の配偶者又は住民票同一の同居者 | AI36: 森岡 知央 | AJ36: 33791 | AK36: ない又はわからない（結果不明） | AO36: ない又はわからない（結果不明） | AR36: ない又はわからない（結果不明） | AV36: 本事業の実施に必要な範囲で、市が保有する個人情報を確認することに同意します。
A37: 山下 | B37: 42 | C37: NP00004211 | D37: 2026-03-04T13:46:24 | E37: 受付 | G37: オンライン | H37: 受付 | K37: 前橋市 | L37: ない | M37: 森岡 | N37: 知央 | O37: モリオカ | P37: チヒロ | Q37: 371-0846 | R37: 群馬県 | S37: 前橋市 | T37: 元総社町1824-1 | U37: グリーンヒルズ元総社203号 | V37: 8011180706 | W37: 19920706 | X37: 0回 | Y37: 1回 | Z37: 1回 | AA37: 麻しん・風しん抗体検査 | AG37: 妊娠を希望する女性 | AH37: 妊娠を希望する女性 | AK37: ない又はわからない（結果不明） | AN37: ない又はわからない（結果不明） | AV37: 本事業の実施に必要な範囲で、市が保有する個人情報を確認することに同意します。
A38: 鈴木 | B38: 46 | C38: NP00004660 | D38: 2026-03-05T16:30:19 | E38: 受付 | G38: オンライン | H38: 受付 | K38: 前橋市 | L38: ない | M38: 石川 | N38: 聡美 | O38: イシカワ | P38: サトミ | Q38: 371-0804 | R38: 群馬県 | S38: 前橋市 | T38: 六供町四丁目10番地23 | U38: エフォート203 | V38: 9078165947 | W38: 19841027 | X38: 0回 | Y38: 1回 | Z38: 0回 | AA38: 麻しん・風しん抗体検査 | AG38: 妊娠を希望する女性 | AH38: 妊娠を希望する女性 | AK38: ない又はわからない（結果不明） | AN38: ない又はわからない（結果不明） | AT38: （平成２年４月１日以前生まれの方のみ）検査の結果、抗体価が低いことが判明した場合、予防接種を受けることを希望します。 | AU38: 本事業の実施に必要な範囲で、市が保有する個人情報を確認することに同意します。
A39: 茂木 | B39: 47 | C39: NP00004796 | D39: 2026-03-09T09:43:31 | E39: 受付 | G39: オンライン | H39: 受付 | K39: 前橋市 | L39: ない | M39: 中村 | N39: ヘルナ | O39: ナカムラ | P39: ヘルナ | Q39: 371-0805 | R39: 群馬県 | S39: 前橋市 | T39: 南町1丁目1-13 | U39: 3-302 | V39: 7014691161 | W39: 19940806 | X39: 0回 | Y39: 0回 | Z39: 0回 | AA39: 麻しん・風しん抗体検査 | AG39: 妊娠を希望する女性 | AH39: 妊娠を希望する女性 | AK39: ない又はわからない（結果不明） | AN39: ない又はわからない（結果不明） | AV39: 本事業の実施に必要な範囲で、市が保有する個人情報を確認することに同意します。
A40: 鈴木 | B40: 49 | C40: NP00004996 | D40: 2026-03-09T11:19:13 | E40: 受付 | G40: オンライン | H40: 受付 | K40: 前橋市 | L40: ない | M40: 中村 | N40: 正希 | O40: ナカムラ | P40: マサキ | Q40: 371-0805 | R40: 群馬県 | S40: 前橋市 | T40: 南町1丁目1-13 | U40: 3-302 | V40: 8038289866 | W40: 19940204 | X40: 0回 | Y40: 0回 | Z40: 0回 | AA40: 麻しん・風しん抗体検査 | AG40: 【妊娠を希望する女性】の配偶者又は住民票同一の同居者 | AH40: 【妊娠を希望する女性】の配偶者又は住民票同一の同居者 | AI40: 中村ヘルナ | AJ40: 34552 | AK40: ない又はわからない（結果不明） | AO40: ない又はわからない（結果不明） | AR40: ない又はわからない（結果不明） | AV40: 本事業の実施に必要な範囲で、市が保有する個人情報を確認することに同意します。
A41: 茂木 | B41: 50 | C41: NP00005060 | D41: 2026-03-09T11:46:57 | E41: 受付 | G41: オンライン | H41: 受付 | K41: 前橋市 | L41: ない | M41: 富田 | N41: 理恵 | O41: トミタ | P41: リエ | Q41: 379-2161 | R41: 群馬県 | S41: 前橋市 | T41: 富田町1688-220 | V41: 9087290853 | W41: 19880423 | X41: 0回 | Y41: 1回 | Z41: 0回 | AA41: 麻しん抗体検査 | AG41: ０歳児の同居者（住民票同一である） | AI41: 富田 隆心 | AJ41: 45982 | AL41: ない又はわからない（結果不明） | AT41: （平成２年４月１日以前生まれの方のみ）検査の結果、抗体価が低いことが判明した場合、予防接種を受けることを希望します。 | AU41: 本事業の実施に必要な範囲で、市が保有する個人情報を確認することに同意します。 | AX41: 50_70_IMG20260307144517.jpg
A42: 山下 | B42: 51 | C42: NP00005167 | D42: 2026-03-10T13:13:25 | E42: 受付 | G42: オンライン | H42: 受付 | K42: 前橋市 | L42: ない | M42: 髙田 | N42: 安広 | O42: タカダ | P42: ヤスヒロ | Q42: 379-2144 | R42: 群馬県 | S42: 前橋市 | T42: 下川町51-6 | V42: 9051933035 | W42: 19680412 | X42: 0回 | Y42: 0回 | Z42: 0回 | AA42: 麻しん・風しん抗体検査 | AG42: 【妊娠を希望する女性】の配偶者又は住民票同一の同居者 | AH42: 【妊娠を希望する女性】の配偶者又は住民票同一の同居者 | AI42: 髙田 安奈 | AJ42: 35741 | AK42: ない又はわからない（結果不明） | AO42: ない又はわからない（結果不明） | AR42: ない又はわからない（結果不明） | AT42: （平成２年４月１日以前生まれの方のみ）検査の結果、抗体価が低いことが判明した場合、予防接種を受けることを希望します。 | AU42: 本事業の実施に必要な範囲で、市が保有する個人情報を確認することに同意します。
A43: 鈴木 | B43: 52 | C43: NP00005289 | D43: 2026-03-10T14:38:16 | E43: 受付 | G43: オンライン | H43: 受付 | K43: 前橋市 | L43: ない | M43: ホクァン | N43: ダット | O43: ホクァン | P43: ダット | Q43: 379-2153 | R43: 群馬県 | S43: 前橋市 | T43: 上大島町228-3 | U43: ハイツフレンド大島Ⅱ 1 A | V43: 7085144368 | W43: 19970427 | X43: 0回 | Y43: 0回 | Z43: 0回 | AA43: 麻しん・風しん抗体検査 | AG43: 【妊娠を希望する女性】の配偶者又は住民票同一の同居者 | AH43: 【妊娠を希望する女性】の配偶者又は住民票同一の同居者 | AI43: グエン テイ トウ タオ | AJ43: 36543 | AK43: ない又はわからない（結果不明） | AO43: ない又はわからない（結果不明） | AR43: ない又はわからない（結果不明） | AV43: 本事業の実施に必要な範囲で、市が保有する個人情報を確認することに同意します。
A44: 鈴木 | B44: 53 | C44: NP00005324 | D44: 2026-03-10T14:42:19 | E44: 受付 | G44: オンライン | H44: 受付 | K44: 前橋市 | L44: ない | M44: グエン テイ トウ | N44: タオ | O44: グエン テイ トウ | P44: タオ | Q44: 379-2153 | R44: 群馬県 | S44: 前橋市 | T44: 上大島町228-3 | U44: ハイツフレンド大島Ⅱ 1 A | V44: 7085793757 | W44: 20000118 | X44: 0回 | Y44: 0回 | Z44: 0回 | AA44: 麻しん・風しん抗体検査 | AG44: 妊娠を希望する女性 | AH44: 妊娠を希望する女性 | AK44: ない又はわからない（結果不明） | AN44: ない又はわからない（結果不明） | AV44: 本事業の実施に必要な範囲で、市が保有する個人情報を確認することに同意します。
A45: 茂木 | B45: 54 | C45: NP00005420 | D45: 2026-03-11T13:21:43 | E45: 受付 | G45: オンライン | H45: 受付 | K45: 前橋市 | L45: ない | M45: 富田 | N45: 功樹 | O45: トミタ | P45: コウキ | Q45: 379-2161 | R45: 群馬県 | S45: 前橋市 | T45: 富田町1688-220 | V45: 8011501191 | W45: 19880423 | X45: 1回 | Y45: 0回 | Z45: 1回 | AA45: 麻しん抗体検査 | AG45: ０歳児の同居者（住民票同一である） | AI45: 富田 隆心 | AJ45: 45982 | AL45: ない又はわからない（結果不明） | AT45: （平成２年４月１日以前生まれの方のみ）検査の結果、抗体価が低いことが判明した場合、予防接種を受けることを希望します。 | AU45: 本事業の実施に必要な範囲で、市が保有する個人情報を確認することに同意します。 | AX45: 54_70_IMG20260307144517.jpg
A46: 山下 | B46: 58 | C46: NP00005879 | D46: 2026-03-13T15:09:59 | E46: 受付 | G46: オンライン | H46: 受付 | K46: 前橋市 | L46: ない | M46: 中井 | N46: 勇太 | O46: ナカイ | P46: ユウタ | Q46: 371-0012 | R46: 群馬県 | S46: 前橋市 | T46: 東片貝町889-3 | V46: 9046253620 | W46: 19890402 | X46: 0回 | Y46: 1回 | Z46: 0回 | AA46: 麻しん抗体検査 | AG46: 【妊婦】の配偶者又は住民票同一の同居者 | AI46: 中井 もも子 | AJ46: 34411 | AL46: ない又はわからない（結果不明） | AT46: （平成２年４月１日以前生まれの方のみ）検査の結果、抗体価が低いことが判明した場合、予防接種を受けることを希望します。 | AU46: 本事業の実施に必要な範囲で、市が保有する個人情報を確認することに同意します。
A47: 茂木 | B47: 57 | C47: NP00005729 | D47: 2026-03-13T14:10:00 | E47: 受付 | G47: オンライン | H47: 受付 | K47: 前橋市 | L47: ない | M47: NOOR | N47: AMNA | O47: ヌール | P47: アミナ | Q47: 371-0801 | R47: 群馬県 | S47: 前橋市 | T47: 文京町2−9−2−103 | U47: パールマンション | V47: 8035252912 | W47: 19920115 | X47: 0回 | Y47: 0回 | Z47: 0回 | AA47: 麻しん・風しん抗体検査 | AG47: 妊娠を希望する女性 | AH47: 妊娠を希望する女性 | AK47: ない又はわからない（結果不明） | AN47: ない又はわからない（結果不明） | AV47: 本事業の実施に必要な範囲で、市が保有する個人情報を確認することに同意します。
A48: 茂木 | B48: 56 | C48: NP00005684 | D48: 2026-03-13T14:06:33 | E48: 受付 | G48: オンライン | H48: 受付 | K48: 前橋市 | L48: ない | M48: asghar | N48: muhammad amin | O48: アスガール | P48: ムハンマド アミン | Q48: 371-0801 | R48: 群馬県 | S48: 前橋市 | T48: 文京町2−9−2−103号 | U48: パールマンション | V48: 8040832912 | W48: 19961212 | X48: 0回 | Y48: 0回 | Z48: 0回 | AA48: 麻しん・風しん抗体検査 | AG48: 【妊娠を希望する女性】の配偶者又は住民票同一の同居者 | AH48: 【妊娠を希望する女性】の配偶者又は住民票同一の同居者 | AI48: NOOR AMNA | AJ48: 33618 | AK48: ない又はわからない（結果不明） | AO48: ない又はわからない（結果不明） | AR48: ない又はわからない（結果不明） | AV48: 本事業の実施に必要な範囲で、市が保有する個人情報を確認することに同意します。
A49: 鈴木 | B49: 59 | C49: NP00005912 | D49: 2026-03-16T15:31:02 | E49: 受付 | G49: オンライン | H49: 受付 | K49: 前橋市 | L49: ない | M49: 飯島 | N49: 美紗子 | O49: イイジマ | P49: ミサコ | Q49: 371-0015 | R49: 群馬県 | S49: 前橋市 | T49: 三河町2-5-21 | V49: 8020122963 | W49: 19860920 | X49: 0回 | Y49: 0回 | Z49: 0回 | AA49: 麻しん・風しん抗体検査 | AG49: 妊娠を希望する女性 | AH49: 妊娠を希望する女性 | AK49: ない又はわからない（結果不明） | AN49: ない又はわからない（結果不明） | AT49: （平成２年４月１日以前生まれの方のみ）検査の結果、抗体価が低いことが判明した場合、予防接種を受けることを希望します。 | AU49: 本事業の実施に必要な範囲で、市が保有する個人情報を確認することに同意します。
A50: 鈴木 | B50: 60 | C50: NP00006082 | D50: 2026-03-16T15:38:54 | E50: 受付 | G50: オンライン | H50: 受付 | K50: 前橋市 | L50: ない | M50: 飯島 | N50: 浩子 | O50: イイジマ | P50: ヒロコ | Q50: 371-0015 | R50: 群馬県 | S50: 前橋市 | T50: 三河町2-5-21 | V50: 9047181581 | W50: 19530202 | X50: 0回 | Y50: 0回 | Z50: 0回 | AA50: 麻しん・風しん抗体検査 | AG50: 【妊娠を希望する女性】の配偶者又は住民票同一の同居者 | AH50: 【妊娠を希望する女性】の配偶者又は住民票同一の同居者 | AI50: 飯島 美紗子 | AJ50: 31675 | AK50: ない又はわからない（結果不明） | AO50: ない又はわからない（結果不明） | AR50: ない又はわからない（結果不明） | AT50: （平成２年４月１日以前生まれの方のみ）検査の結果、抗体価が低いことが判明した場合、予防接種を受けることを希望します。 | AU50: 本事業の実施に必要な範囲で、市が保有する個人情報を確認することに同意します。
A51: 茂木 | B51: 64 | C51: NP00006459 | D51: 2026-03-18T11:45:28 | E51: 受付 | G51: オンライン | H51: 受付 | K51: 前橋市 | L51: ない | M51: 井野 | N51: 真吾 | O51: イノ | P51: シンゴ | Q51: 379-2121 | R51: 群馬県 | S51: 前橋市 | T51: 小屋原町1004-5 | V51: 8056792382 | W51: 19890822 | X51: 0回 | Y51: 1回 | Z51: 0回 | AA51: 麻しん・風しん抗体検査 | AG51: 【妊婦】の配偶者又は住民票同一の同居者 | AH51: 【妊婦】の配偶者又は住民票同一の同居者 | AI51: 井野 歩美 | AJ51: 32910 | AL51: ない又はわからない（結果不明） | AQ51: 抗体価が低かった | AR51: ない又はわからない（結果不明） | AT51: （平成２年４月１日以前生まれの方のみ）検査の結果、抗体価が低いことが判明した場合、予防接種を受けることを希望します。 | AU51: 本事業の実施に必要な範囲で、市が保有する個人情報を確認することに同意します。
B52: 67 | C52: NP00006710 | D52: 2026-03-26T22:35:37 | E52: 受付 | G52: オンライン | H52: 受付 | K52: 前橋市 | L52: ある | AT52: （平成２年４月１日以前生まれの方のみ）検査の結果、抗体価が低いことが判明した場合、予防接種を受けることを希望します。 | AU52: 本事業の実施に必要な範囲で、市が保有する個人情報を確認することに同意します。
A53: 山下 | B53: 66 | C53: NP00006643 | D53: 2026-03-26T17:18:18 | E53: 受付 | G53: オンライン | H53: 受付 | K53: 前橋市 | L53: ない | M53: 鈴木 | N53: 真由美 | O53: スズキ | P53: マユミ | Q53: 371-0836 | R53: 群馬県 | S53: 前橋市 | T53: 江田町75-1 | U53: TMコーポ205 | V53: 9055275494 | W53: 19780624 | X53: 0回 | Y53: 1回 | Z53: 1回 | AA53: 麻しん抗体検査 | AG53: 妊娠を希望する女性 | AK53: ある | AM53: 抗体価が低かったが、ワクチンは未接種 | AT53: （平成２年４月１日以前生まれの方のみ）検査の結果、抗体価が低いことが判明した場合、予防接種を受けることを希望します。 | AU53: 本事業の実施に必要な範囲で、市が保有する個人情報を確認することに同意します。
A54: 鈴木 | B54: 70 | C54: NP00007003 | D54: 2026-03-30T11:42:03 | E54: 受付 | G54: オンライン | H54: 受付 | K54: 前橋市 | L54: ない | M54: 石原 | N54: 美保 | O54: イシハラ | P54: ミホ | Q54: 379-2146 | R54: 群馬県 | S54: 前橋市 | T54: 公田町433-1 | V54: 9057962278 | W54: 19940611 | X54: 0回 | Y54: 0回 | Z54: 0回 | AA54: 麻しん・風しん抗体検査 | AG54: 妊娠を希望する女性 | AH54: 妊娠を希望する女性 | AK54: ない又はわからない（結果不明） | AN54: ない又はわからない（結果不明） | AV54: 本事業の実施に必要な範囲で、市が保有する個人情報を確認することに同意します。
A55: 山下 | B55: 69 | C55: NP00006991 | D55: 2026-03-28T22:30:28 | E55: 受付 | G55: オンライン | H55: 受付 | K55: 前橋市 | L55: ない | M55: 須藤 | N55: 賢人 | O55: スドウ | P55: ケント | Q55: 371-0014 | R55: 群馬県 | S55: 前橋市 | T55: 朝日町四丁目５番8号 | U55: III大嶋レジデンスC202 | V55: 8013559474 | W55: 19930717 | X55: 1回 | Y55: 1回 | Z55: 1回 | AV55: 本事業の実施に必要な範囲で、市が保有する個人情報を確認することに同意します。
A56: 山下 | B56: 68 | C56: NP00006843 | D56: 2026-03-27T11:57:01 | E56: 受付 | G56: オンライン | H56: 受付 | K56: 前橋市 | L56: ない | M56: 島田 | N56: 恵 | O56: シマダ | P56: メグミ | Q56: 371-0846 | R56: 群馬県 | S56: 前橋市 | T56: 元総社町1721 | U56: フルール101 | V56: 9080348548 | W56: 19820622 | X56: 0回 | Y56: 1回 | Z56: 0回 | AA56: 麻しん抗体検査 | AG56: ０歳児の同居者（住民票同一である） | AI56: 島田 幸周 | AJ56: 45999 | AL56: ない又はわからない（結果不明） | AT56: （平成２年４月１日以前生まれの方のみ）検査の結果、抗体価が低いことが判明した場合、予防接種を受けることを希望します。 | AU56: 本事業の実施に必要な範囲で、市が保有する個人情報を確認することに同意します。 | AX56: 68_70_17745801413517968107219361307100.jpg
A57: 鈴木 | B57: 71 | C57: NP00007129 | D57: 2026-03-30T11:43:05 | E57: 受付 | G57: オンライン | H57: 受付 | K57: 前橋市 | L57: ない | M57: 石原 | N57: 雄三 | O57: イシハラ | P57: ユウゾウ | Q57: 379-2146 | R57: 群馬県 | S57: 前橋市 | T57: 公田町433-1 | V57: 9072291491 | W57: 19900927 | X57: 0回 | Y57: 0回 | Z57: 0回 | AA57: 麻しん・風しん抗体検査 | AG57: 【妊娠を希望する女性】の配偶者又は住民票同一の同居者 | AH57: 【妊娠を希望する女性】の配偶者又は住民票同一の同居者 | AI57: 石原 美保 | AJ57: 34496 | AK57: ない又はわからない（結果不明） | AO57: ない又はわからない（結果不明） | AR57: ない又はわからない（結果不明） | AV57: 本事業の実施に必要な範囲で、市が保有する個人情報を確認することに同意します。
A58: 茂木 | B58: 72 | C58: NP00007277 | D58: 2026-04-02T18:27:30 | E58: 受付 | G58: オンライン | H58: 受付 | K58: 前橋市 | L58: ない | M58: 石田 | N58: 舞佳 | O58: イシダ | P58: マイカ | Q58: 371-0054 | R58: 群馬県 | S58: 前橋市 | T58: 下細井町175-4 | V58: 8044376697 | W58: 19970220 | X58: 2回以上 | Y58: 0回 | Z58: 0回 | AV58: 本事業の実施に必要な範囲で、市が保有する個人情報を確認することに同意します。
A59: 鈴木 | B59: 75 | C59: NP00007505 | D59: 2026-04-05T12:43:45 | E59: 受付 | G59: オンライン | H59: 受付 | K59: 前橋市 | L59: ない | M59: 小暮 | N59: 雄一郎 | O59: コグレ | P59: ユウイチロウ | Q59: 379-2146 | R59: 群馬県 | S59: 前橋市 | T59: 公田町424-7 | V59: 8031294594 | W59: 19870917 | X59: 0回 | Y59: 1回 | Z59: 0回 | AA59: 麻しん・風しん抗体検査 | AG59: 【妊娠を希望する女性】の配偶者又は住民票同一の同居者 | AH59: 【妊娠を希望する女性】の配偶者又は住民票同一の同居者 | AI59: 小暮 沙智子 | AJ59: 31167 | AK59: ない又はわからない（結果不明） | AO59: ある | AP59: 抗体価が高かった | AT59: （平成２年４月１日以前生まれの方のみ）検査の結果、抗体価が低いことが判明した場合、予防接種を受けることを希望します。 | AU59: 本事業の実施に必要な範囲で、市が保有する個人情報を確認することに同意します。
A60: 鈴木 | B60: 74 | C60: NP00007430 | D60: 2026-04-03T17:18:28 | E60: 受付 | G60: オンライン | H60: 受付 | K60: 前橋市 | L60: ない | M60: 熊川 | N60: 翔太 | O60: クマカワ | P60: ショウタ | Q60: 371-0852 | R60: 群馬県 | S60: 前橋市 | T60: 総社町総社1232-2 | V60: 8023882965 | W60: 19901114 | X60: 1回 | Y60: 0回 | Z60: 0回 | AB60: 麻しん・風しん抗体検査 | AG60: 【妊婦】の配偶者又は住民票同一の同居者 | AH60: 【妊婦】の配偶者又は住民票同一の同居者 | AI60: 熊川 夏海 | AJ60: 31950 | AL60: ない又はわからない（結果不明） | AQ60: 抗体価が低かった | AR60: ない又はわからない（結果不明） | AV60: 本事業の実施に必要な範囲で、市が保有する個人情報を確認することに同意します。 | AX60: 74_70_IMG_5212.jpeg | BB60: 74_50_IMG_5214.jpeg
A61: 鈴木 | B61: 73 | C61: NP00007317 | D61: 2026-04-03T14:19:47 | E61: 受付 | G61: オンライン | H61: 受付 | K61: 前橋市 | L61: ない | M61: 諸岡 | N61: 奈々 | O61: モロオカ | P61: ナナ | Q61: 379-2154 | R61: 群馬県 | S61: 前橋市天川大島町 | T61: 1442 | V61: 9025267719 | W61: 19980619 | X61: 1回 | Y61: 1回 | Z61: 1回 | AV61: 本事業の実施に必要な範囲で、市が保有する個人情報を確認することに同意します。
A62: 茂木 | B62: 78 | C62: NP00007896 | D62: 2026-04-08T15:44:12 | E62: 受付 | G62: オンライン | H62: 受付 | K62: 前橋市 | L62: ない | M62: 今井 | N62: 京子 | O62: イマイ | P62: キョウコ | Q62: 371-0016 | R62: 群馬県 | S62: 前橋市 | T62: 城東町4丁目21-23 | U62: フローラルコート201号 | V62: 9036835464 | W62: 19930215 | X62: 1回 | Y62: 0回 | Z62: 0回 | AB62: 麻しん・風しん抗体検査 | AG62: 妊娠を希望する女性 | AH62: 妊娠を希望する女性 | AK62: ある | AM62: 抗体価が低く、ワクチンを接種した | AN62: ある | AS62: 抗体価が高かった | AV62: 本事業の実施に必要な範囲で、市が保有する個人情報を確認することに同意します。
A63: 鈴木 | B63: 77 | C63: NP00007760 | D63: 2026-04-07T21:35:10 | E63: 受付 | G63: オンライン | H63: 受付 | K63: 前橋市 | L63: ない | M63: 町田 | N63: 光 | O63: マチダ | P63: コウ | Q63: 371-0037 | R63: 群馬県 | S63: 前橋市 | T63: 上小出町2-31-15 | U63: vilakeyaki101 | V63: 9043753131 | W63: 19880625 | X63: 0回 | Y63: 1回 | Z63: 1回 | AA63: 麻しん・風しん抗体検査 | AG63: ０歳児の同居者（住民票同一である） | AH63: 【妊娠を希望する女性】の配偶者又は住民票同一の同居者 | AI63: 町田唯千花(0歳児) 町田千枝(妻) | AJ63: 45881 | AL63: ない又はわからない（結果不明） | AO63: ない又はわからない（結果不明） | AR63: ない又はわからない（結果不明） | AT63: （平成２年４月１日以前生まれの方のみ）検査の結果、抗体価が低いことが判明した場合、予防接種を受けることを希望します。 | AU63: 本事業の実施に必要な範囲で、市が保有する個人情報を確認することに同意します。 | AX63: 77_70_image.jpg
A64: 鈴木 | B64: 76 | C64: NP00007686 | D64: 2026-04-07T17:41:40 | E64: 受付 | G64: オンライン | H64: 受付 | K64: 前橋市 | L64: ない | M64: 塚本 | N64: 潤 | O64: ツカモト | P64: ジュン | Q64: 371-0853 | R64: 群馬県 | S64: 前橋市 | T64: 総社町2-5-2 | U64: D棟 | V64: 8013439402 | W64: 19920527 | X64: 1回 | Y64: 0回 | Z64: 0回 | AB64: 麻しん・風しん抗体検査 | AG64: 【妊婦】の配偶者又は住民票同一の同居者 | AH64: 【妊婦】の配偶者又は住民票同一の同居者 | AI64: 塚本 実歌子 | AJ64: 35248 | AL64: ない又はわからない（結果不明） | AQ64: 抗体価が低かった | AR64: ない又はわからない（結果不明） | AV64: 本事業の実施に必要な範囲で、市が保有する個人情報を確認することに同意します。 | AX64: 76_70_image.jpg
A65: 鈴木 | B65: 79 | C65: NP00007976 | D65: 2026-04-08T15:58:00 | E65: 受付 | G65: オンライン | H65: 受付 | K65: 前橋市 | L65: ない | M65: 箱田 | N65: 優 | O65: ハコダ | P65: ユウ | Q65: 371-0846 | R65: 群馬県 | S65: 前橋市 | T65: 元総社町1677番地 | U65: ルナ・ピエナII101号 | V65: 8012125723 | W65: 19870507 | X65: 1回 | Y65: 0回 | Z65: 0回 | AB65: 麻しん・風しん抗体検査 | AG65: 【妊婦】の配偶者又は住民票同一の同居者 | AH65: 【妊婦】の配偶者又は住民票同一の同居者 | AI65: 箱田 冴也子 | AJ65: 32826 | AL65: ない又はわからない（結果不明） | AQ65: 抗体価が低かった | AR65: ない又はわからない（結果不明） | AT65: （平成２年４月１日以前生まれの方のみ）検査の結果、抗体価が低いことが判明した場合、予防接種を受けることを希望します。 | AU65: 本事業の実施に必要な範囲で、市が保有する個人情報を確認することに同意します。
A66: 鈴木 | B66: 80 | C66: NP00008068 | D66: 2026-04-09T09:07:40 | E66: 受付 | G66: オンライン | H66: 受付 | K66: 前橋市 | L66: ない | M66: 西田 | N66: 早紀 | O66: ニシダ | P66: サキ | Q66: 371-0231 | R66: 群馬県 | S66: 前橋市堀越町 | T66: 885番地1 | U66: Licht・Plats 201号 | V66: 8092178818 | W66: 19910818 | X66: 1回 | Y66: 1回 | Z66: 1回 | AV66: 本事業の実施に必要な範囲で、市が保有する個人情報を確認することに同意します。
A67: 鈴木 | B67: 81 | C67: NP00008117 | D67: 2026-04-10T13:27:53 | E67: 受付 | G67: オンライン | H67: 受付 | K67: 前橋市 | L67: ない | M67: 石渡 | N67: 初菜 | O67: イシワタ | P67: ハツナ | Q67: 371-0116 | R67: 群馬県 | S67: 前橋市 | T67: 富士見町原之郷733-6 | V67: 9011280827 | W67: 19960101 | X67: 0回 | Y67: 1回 | Z67: 0回 | AA67: 風しん抗体検査 | AH67: 妊娠を希望する女性 | AN67: ない又はわからない（結果不明） | AV67: 本事業の実施に必要な範囲で、市が保有する個人情報を確認することに同意します。
A68: 鈴木 | B68: 82 | C68: NP00008280 | D68: 2026-04-10T13:29:51 | E68: 受付 | G68: オンライン | H68: 受付 | K68: 前橋市 | L68: ない | M68: 女屋 | N68: 裕 | O68: オナヤ | P68: ユウ | Q68: 379-2164 | R68: 群馬県 | S68: 前橋市 | T68: 東上野町138番地4 | V68: 9033133921 | W68: 19861224 | X68: 0回 | Y68: 0回 | Z68: 0回 | AA68: 麻しん・風しん抗体検査 | AG68: 【妊娠を希望する女性】の配偶者又は住民票同一の同居者 | AH68: 【妊娠を希望する女性】の配偶者又は住民票同一の同居者 | AI68: 石渡 初菜 | AJ68: 35065 | AK68: ない又はわからない（結果不明） | AO68: ない又はわからない（結果不明） | AR68: ない又はわからない（結果不明） | AT68: （平成２年４月１日以前生まれの方のみ）検査の結果、抗体価が低いことが判明した場合、予防接種を受けることを希望します。 | AU68: 本事業の実施に必要な範囲で、市が保有する個人情報を確認することに同意します。
A69: 戸部 | B69: 85 | C69: NP00008592 | D69: 2026-04-13T11:29:12 | E69: 受付 | G69: オンライン | H69: 受付 | K69: 前橋市 | L69: ない | M69: 横山 | N69: 剛 | O69: ヨコヤマ | P69: ツヨシ | Q69: 371-0823 | R69: 群馬県 | S69: 前橋市 | T69: 川曲町432-1 | U69: プリーマ301号 | V69: 8010245935 | W69: 19881108 | X69: 0回 | Y69: 1回 | Z69: 1回 | AA69: 麻しん抗体検査 | AG69: ０歳児の同居者（住民票同一である） | AI69: 横山維吹 | AJ69: 46066 | AL69: ない又はわからない（結果不明） | AT69: （平成２年４月１日以前生まれの方のみ）検査の結果、抗体価が低いことが判明した場合、予防接種を受けることを希望します。 | AU69: 本事業の実施に必要な範囲で、市が保有する個人情報を確認することに同意します。 | AX69: 85_70_17760472665843660127501928094501.jpg
A70: 戸部 | B70: 84 | C70: NP00008410 | D70: 2026-04-10T22:54:03 | E70: 受付 | G70: オンライン | H70: 受付 | K70: 前橋市 | L70: ない | M70: 吉田 | N70: 章太 | O70: ヨシダ | P70: ショウタ | Q70: 371-0056 | R70: 群馬県 | S70: 前橋市 | T70: 青柳町771-1 | U70: プチール 102号室 | V70: 8066230765 | W70: 19890520 | X70: 0回 | Y70: 0回 | Z70: 0回 | AA70: 麻しん・風しん抗体検査 | AG70: 【妊娠を希望する女性】の配偶者又は住民票同一の同居者 | AH70: 【妊娠を希望する女性】の配偶者又は住民票同一の同居者 | AI70: 吉田 夏希 | AJ70: 33458 | AK70: ない又はわからない（結果不明） | AO70: ある | AP70: 抗体価が低かった | AR70: ない又はわからない（結果不明） | AT70: （平成２年４月１日以前生まれの方のみ）検査の結果、抗体価が低いことが判明した場合、予防接種を受けることを希望します。 | AU70: 本事業の実施に必要な範囲で、市が保有する個人情報を確認することに同意します。 | AZ70: 84_52_image.jpg
A71: 戸部 | B71: 83 | C71: NP00008374 | D71: 2026-04-10T21:05:54 | E71: 受付 | G71: オンライン | H71: 受付 | K71: 前橋市 | L71: ない | M71: 鈴木 | N71: 渉 | O71: スズキ | P71: ワタル | Q71: 371-0846 | R71: 群馬県 | S71: 前橋市 | T71: 元総社町152番地73 | V71: 9093304634 | W71: 19890225 | X71: 0回 | Y71: 1回 | Z71: 0回 | AA71: 麻しん・風しん抗体検査 | AG71: 【妊娠を希望する女性】の配偶者又は住民票同一の同居者 | AH71: 【妊娠を希望する女性】の配偶者又は住民票同一の同居者 | AI71: 鈴木 智見 | AJ71: 34117 | AK71: ない又はわからない（結果不明） | AO71: ない又はわからない（結果不明） | AR71: ない又はわからない（結果不明） | AT71: （平成２年４月１日以前生まれの方のみ）検査の結果、抗体価が低いことが判明した場合、予防接種を受けることを希望します。 | AU71: 本事業の実施に必要な範囲で、市が保有する個人情報を確認することに同意します。
A72: 戸部 | B72: 86 | C72: NP00008625 | D72: 2026-04-13T13:47:08 | E72: 受付 | G72: オンライン | H72: 受付 | K72: 前橋市 | L72: ない | M72: 志賀 | N72: 和幸 | O72: シガ | P72: カズユキ | Q72: 371-0044 | R72: 群馬県 | S72: 前橋市 | T72: 荒牧町 2-33-2 | U72: ミルホイールＶ 102 | V72: 9033110141 | W72: 19851112 | X72: 0回 | Y72: 1回 | Z72: 1回 | AA72: 麻しん・風しん抗体検査 | AG72: 【妊娠を希望する女性】の配偶者又は住民票同一の同居者 | AH72: 【妊娠を希望する女性】の配偶者又は住民票同一の同居者 | AI72: 志賀 茜 | AJ72: 34916 | AK72: ない又はわからない（結果不明） | AO72: ない又はわからない（結果不明） | AR72: ない又はわからない（結果不明） | AT72: （平成２年４月１日以前生まれの方のみ）検査の結果、抗体価が低いことが判明した場合、予防接種を受けることを希望します。 | AU72: 本事業の実施に必要な範囲で、市が保有する個人情報を確認することに同意します。
A73: 茂木 | B73: 89 | C73: NP00008938 | D73: 2026-04-14T12:50:22 | E73: 受付 | G73: オンライン | H73: 受付 | K73: 前橋市 | L73: ない | M73: 齋藤 | N73: 愛一郎 | O73: サイトウ | P73: アイイチロウ | Q73: 379-2121 | R73: 群馬県 | S73: 前橋市 | T73: 小屋原町943-1 | V73: 7093111054 | W73: 19810514 | X73: 1回 | Y73: 0回 | Z73: 0回 | AB73: 麻しん・風しん抗体検査 | AG73: 【妊娠を希望する女性】の配偶者又は住民票同一の同居者 | AH73: 【妊娠を希望する女性】の配偶者又は住民票同一の同居者 | AI73: 齋藤明香 | AJ73: 31470 | AK73: ない又はわからない（結果不明） | AO73: ない又はわからない（結果不明） | AR73: ない又はわからない（結果不明） | AT73: （平成２年４月１日以前生まれの方のみ）検査の結果、抗体価が低いことが判明した場合、予防接種を受けることを希望します。 | AU73: 本事業の実施に必要な範囲で、市が保有する個人情報を確認することに同意します。
A74: 茂木 | B74: 88 | C74: NP00008805 | D74: 2026-04-14T12:47:27 | E74: 受付 | G74: オンライン | H74: 受付 | K74: 前橋市 | L74: ない | M74: 齋藤 | N74: 明香 | O74: サイトウ | P74: サヤカ | Q74: 379-2121 | R74: 群馬県 | S74: 前橋市 | T74: 小屋原町943-1 | V74: 7093111054 | W74: 19860227 | X74: 1回 | Y74: 0回 | Z74: 0回 | AB74: 麻しん・風しん抗体検査 | AG74: 妊娠を希望する女性 | AH74: 妊娠を希望する女性 | AK74: ない又はわからない（結果不明） | AN74: ない又はわからない（結果不明） | AT74: （平成２年４月１日以前生まれの方のみ）検査の結果、抗体価が低いことが判明した場合、予防接種を受けることを希望します。 | AU74: 本事業の実施に必要な範囲で、市が保有する個人情報を確認することに同意します。
A75: 茂木 | B75: 87 | C75: NP00008729 | D75: 2026-04-14T09:17:03 | E75: 受付 | G75: オンライン | H75: 受付 | K75: 前橋市 | L75: ない | M75: 佐々木 | N75: 渉 | O75: ササキ | P75: ワタル | Q75: 379-2114 | R75: 群馬県 | S75: 前橋市 | T75: 上増田町437-3 | V75: 9069365150 | W75: 19890204 | X75: 0回 | Y75: 1回 | Z75: 1回 | AA75: 麻しん・風しん抗体検査 | AG75: 【妊娠を希望する女性】の配偶者又は住民票同一の同居者 | AH75: 【妊娠を希望する女性】の配偶者又は住民票同一の同居者 | AI75: 佐々木 由香 | AJ75: 30962 | AK75: ない又はわからない（結果不明） | AO75: ない又はわからない（結果不明） | AR75: ない又はわからない（結果不明） | AT75: （平成２年４月１日以前生まれの方のみ）検査の結果、抗体価が低いことが判明した場合、予防接種を受けることを希望します。 | AU75: 本事業の実施に必要な範囲で、市が保有する個人情報を確認することに同意します。
A76: 鈴木 | B76: 90 | C76: NP00009097 | D76: 2026-04-15T13:37:46 | E76: 受付 | G76: オンライン | H76: 受付 | K76: 前橋市 | L76: ない | M76: 土山 | N76: 彩佳 | O76: ツチヤマ | P76: アヤカ | Q76: 371-0803 | R76: 群馬県 | S76: 前橋市 | T76: 天川原町2-242-5 | V76: 8047346622 | W76: 19860226 | X76: 0回 | Y76: 0回 | Z76: 0回 | AA76: 麻しん・風しん抗体検査 | AG76: 妊娠を希望する女性 | AH76: 妊娠を希望する女性 | AK76: ない又はわからない（結果不明） | AN76: ない又はわからない（結果不明） | AT76: （平成２年４月１日以前生まれの方のみ）検査の結果、抗体価が低いことが判明した場合、予防接種を受けることを希望します。 | AU76: 本事業の実施に必要な範囲で、市が保有する個人情報を確認することに同意します。
A77: 鈴木 | B77: 91 | C77: NP00009126 | D77: 2026-04-15T14:35:25 | E77: 受付 | G77: オンライン | H77: 受付 | K77: 前橋市 | L77: ない | M77: 西村 | N77: 海人 | O77: ニシムラ | P77: カイト | Q77: 371-0032 | R77: 群馬県 | S77: 前橋市 | T77: 若宮町1-15-3 | V77: 8033988787 | W77: 19950203 | X77: 0回 | Y77: 0回 | Z77: 0回 | AA77: 麻しん・風しん抗体検査 | AG77: 【妊娠を希望する女性】の配偶者又は住民票同一の同居者 | AH77: 【妊娠を希望する女性】の配偶者又は住民票同一の同居者 | AI77: 西村 厚帆 | AJ77: 34751 | AK77: ない又はわからない（結果不明） | AO77: ない又はわからない（結果不明） | AR77: ない又はわからない（結果不明） | AV77: 本事業の実施に必要な範囲で、市が保有する個人情報を確認することに同意します。
A78: 鈴木 | B78: 92 | C78: NP00009220 | D78: 2026-04-15T16:42:22 | E78: 受付 | G78: オンライン | H78: 受付 | K78: 前橋市 | L78: ない | M78: 金井 | N78: 沙和 | O78: カナイ | P78: サワ | Q78: 371-0821 | R78: 群馬県 | S78: 前橋市上新田町 | T78: 1118-1 | U78: ラ・プラーサB 202 | V78: 7044885618 | W78: 19950406 | X78: 0回 | Y78: 0回 | Z78: 0回 | AA78: 麻しん・風しん抗体検査 | AG78: 妊娠を希望する女性 | AH78: 妊娠を希望する女性 | AK78: ない又はわからない（結果不明） | AN78: ない又はわからない（結果不明） | AV78: 本事業の実施に必要な範囲で、市が保有する個人情報を確認することに同意します。
A79: 鈴木 | B79: 93 | C79: NP00009335 | D79: 2026-04-15T22:42:16 | E79: 受付 | G79: オンライン | H79: 受付 | K79: 前橋市 | L79: ない | M79: 池田 | N79: 美咲 | O79: イケダ | P79: ミサ | Q79: 379-2123 | R79: 群馬県 | S79: 前橋市 | T79: 山王町 | U79: 67ー6 | V79: 9093324237 | W79: 19971029 | X79: 1回 | Y79: 0回 | Z79: 0回 | AB79: 麻しん・風しん抗体検査 | AG79: 妊娠を希望する女性 | AH79: 妊娠を希望する女性 | AK79: ある | AM79: 抗体価が低く、ワクチンを接種した | AN79: ある | AS79: 抗体価が低く、ワクチンを接種した | AV79: 本事業の実施に必要な範囲で、市が保有する個人情報を確認することに同意します。 | AW79: 93_47_image.jpg | BD79: 93_48_image.jpg
A80: 鈴木 | B80: 94 | C80: NP00009429 | D80: 2026-04-16T23:42:56 | E80: 受付 | G80: オンライン | H80: 受付 | K80: 前橋市 | L80: ない | M80: 石田 | N80: 瑞香 | O80: イシダ | P80: ミズカ | Q80: 371-0846 | R80: 群馬県 | S80: 前橋市 | T80: 元総社町1-30-14-205 | V80: 8065045064 | W80: 19900430 | X80: 1回 | Y80: 1回 | Z80: 0回 | AF80: 風しん抗体検査 | AH80: 妊娠を希望する女性 | AN80: ない又はわからない（結果不明） | AV80: 本事業の実施に必要な範囲で、市が保有する個人情報を確認することに同意します。
A81: 茂木 | B81: 99 | C81: NP00009950 | D81: 2026-04-19T23:28:17 | E81: 受付 | G81: オンライン | H81: 受付 | K81: 前橋市 | L81: ない | M81: 北爪 | N81: 大介 | O81: キタヅメ | P81: ダイスケ | Q81: 371-0232 | R81: 群馬県 | S81: 前橋市茂木町 | T81: 959-5 | U81: ブレッザ2 202号 | V81: 9093251929 | W81: 19741129 | X81: 0回 | Y81: 0回 | Z81: 0回 | AA81: 麻しん・風しん抗体検査 | AG81: 【妊娠を希望する女性】の配偶者又は住民票同一の同居者 | AH81: 【妊娠を希望する女性】の配偶者又は住民票同一の同居者 | AI81: 北爪和歌江 | AJ81: 28420 | AK81: ない又はわからない（結果不明） | AO81: ない又はわからない（結果不明） | AR81: ない又はわからない（結果不明） | AT81: （平成２年４月１日以前生まれの方のみ）検査の結果、抗体価が低いことが判明した場合、予防接種を受けることを希望します。 | AU81: 本事業の実施に必要な範囲で、市が保有する個人情報を確認することに同意します。
A82: 茂木 | B82: 98 | C82: NP00009810 | D82: 2026-04-19T22:50:33 | E82: 受付 | G82: オンライン | H82: 受付 | K82: 前橋市 | L82: ない | M82: 高坂 | N82: 沙友里 | O82: コウサカ | P82: サユリ | Q82: 371-0846 | R82: 群馬県 | S82: 前橋市 | T82: 元総社町3-2-21 | U82: ミュールグレースB 203 | V82: 8053760157 | W82: 19991006 | X82: 0回 | Y82: 1回 | Z82: 1回 | AA82: 麻しん・風しん抗体検査 | AG82: 妊娠を希望する女性 | AH82: 妊娠を希望する女性 | AK82: ない又はわからない（結果不明） | AN82: ない又はわからない（結果不明） | AV82: 本事業の実施に必要な範囲で、市が保有する個人情報を確認することに同意します。
A83: 茂木 | B83: 97 | C83: NP00009728 | D83: 2026-04-19T21:06:48 | E83: 受付 | G83: オンライン | H83: 受付 | K83: 前橋市 | L83: ない | M83: 大平 | N83: 優香 | O83: オオヒラ | P83: ユカ | Q83: 371-0837 | R83: 群馬県 | S83: 前橋市 | T83: 箱田町32-10 | V83: 9093211286 | W83: 19881201 | X83: 0回 | Y83: 1回 | Z83: 1回 | AA83: 麻しん・風しん抗体検査 | AG83: 妊娠を希望する女性 | AH83: 妊娠を希望する女性 | AK83: ない又はわからない（結果不明） | AN83: ある | AS83: 抗体価が低く、ワクチンを接種した | AT83: （平成２年４月１日以前生まれの方のみ）検査の結果、抗体価が低いことが判明した場合、予防接種を受けることを希望します。 | AU83: 本事業の実施に必要な範囲で、市が保有する個人情報を確認することに同意します。 | BD83: 97_48_IMG_4425.jpeg
A84: 茂木 | B84: 96 | C84: NP00009643 | D84: 2026-04-19T21:06:47 | E84: 受付 | G84: オンライン | H84: 受付 | K84: 前橋市 | L84: ない | M84: 大平 | N84: 真也 | O84: オオヒラ | P84: シンヤ | Q84: 371-0837 | R84: 群馬県 | S84: 前橋市 | T84: 箱田町32-10 | V84: 8012076470 | W84: 19871026 | X84: 0回 | Y84: 0回 | Z84: 0回 | AA84: 麻しん・風しん抗体検査 | AG84: 【妊娠を希望する女性】の配偶者又は住民票同一の同居者 | AH84: 【妊娠を希望する女性】の配偶者又は住民票同一の同居者 | AI84: 大平 優香 | AJ84: 32478 | AK84: ない又はわからない（結果不明） | AO84: ない又はわからない（結果不明） | AR84: ない又はわからない（結果不明） | AT84: （平成２年４月１日以前生まれの方のみ）検査の結果、抗体価が低いことが判明した場合、予防接種を受けることを希望します。 | AU84: 本事業の実施に必要な範囲で、市が保有する個人情報を確認することに同意します。
A85: 茂木 | B85: 95 | C85: NP00009505 | D85: 2026-04-17T22:23:15 | E85: 受付 | G85: オンライン | H85: 受付 | K85: 前橋市 | L85: ない | M85: 池田 | N85: 伊織 | O85: イケダ | P85: イオリ | Q85: 379-2123 | R85: 群馬県 | S85: 前橋市 | T85: 山王町 | U85: 67ー6 | V85: 8037128989 | W85: 19980217 | X85: 0回 | Y85: 1回 | Z85: 1回 | AA85: 麻しん・風しん抗体検査 | AG85: 【妊娠を希望する女性】の配偶者又は住民票同一の同居者 | AH85: 【妊娠を希望する女性】の配偶者又は住民票同一の同居者 | AI85: 池田 美咲 | AJ85: 35732 | AK85: ない又はわからない（結果不明） | AO85: ある | AP85: 抗体価が低かった | AR85: ない又はわからない（結果不明） | AV85: 本事業の実施に必要な範囲で、市が保有する個人情報を確認することに同意します。 | AZ85: 95_52_image.jpg
A86: 茂木 | B86: 104 | C86: NP00010428 | D86: 2026-04-22T09:16:35 | E86: 受付 | G86: オンライン | H86: 受付 | K86: 前橋市 | L86: ない | M86: 久保村 | N86: 春江 | O86: クボムラ | P86: ハルエ | Q86: 371-0013 | R86: 群馬県 | S86: 前橋市 | T86: 西片貝町２－４２４－２ | V86: 9061124206 | W86: 19560120 | X86: 0回 | Y86: 0回 | Z86: 0回 | AA86: 麻しん・風しん抗体検査 | AG86: 【妊娠を希望する女性】の配偶者又は住民票同一の同居者 | AH86: 【妊娠を希望する女性】の配偶者又は住民票同一の同居者 | AI86: 森脇 尚子 | AJ86: 32910 | AK86: ない又はわからない（結果不明） | AO86: ない又はわからない（結果不明） | AR86: ない又はわからない（結果不明） | AT86: （平成２年４月１日以前生まれの方のみ）検査の結果、抗体価が低いことが判明した場合、予防接種を受けることを希望します。 | AU86: 本事業の実施に必要な範囲で、市が保有する個人情報を確認することに同意します。
A87: 茂木 | B87: 103 | C87: NP00010343 | D87: 2026-04-22T06:20:16 | E87: 受付 | G87: オンライン | H87: 受付 | K87: 前橋市 | L87: ない | M87: 三枝 | N87: 十禾 | O87: サエグサ | P87: トオカ | Q87: 371-0021 | R87: 群馬県 | S87: 前橋市 | T87: 住吉町1-8-11 | U87: ナイスシティアリーナ前橋住吉町701 | V87: 8017359965 | W87: 20231030 | X87: 0回 | Y87: 0回 | Z87: 1回 | AA87: 麻しん抗体検査 | AG87: ０歳児の同居者（住民票同一である） | AI87: 三枝 一紅 | AJ87: 46038 | AL87: ない又はわからない（結果不明） | AV87: 本事業の実施に必要な範囲で、市が保有する個人情報を確認することに同意します。 | AX87: 103_70_母子手帳.jpg
A88: 茂木 | B88: 102 | C88: NP00010294 | D88: 2026-04-22T06:16:41 | E88: 受付 | G88: オンライン | H88: 受付 | K88: 前橋市 | L88: ない | M88: 三枝 | N88: 正和 | O88: サエグサ | P88: マサカズ | Q88: 371-0021 | R88: 群馬県 | S88: 前橋市 | T88: 住吉町1-8-11 | U88: ナイスシティアリーナ前橋住吉町701 | V88: 8017359965 | W88: 19890724 | X88: 0回 | Y88: 0回 | Z88: 0回 | AA88: 麻しん抗体検査 | AG88: ０歳児の同居者（住民票同一である） | AI88: 三枝 一紅 | AJ88: 46038 | AL88: ない又はわからない（結果不明） | AT88: （平成２年４月１日以前生まれの方のみ）検査の結果、抗体価が低いことが判明した場合、予防接種を受けることを希望します。 | AU88: 本事業の実施に必要な範囲で、市が保有する個人情報を確認することに同意します。 | AX88: 102_70_母子手帳.jpg
A89: 茂木 | B89: 101 | C89: NP00010116 | D89: 2026-04-22T06:13:18 | E89: 受付 | G89: オンライン | H89: 受付 | K89: 前橋市 | L89: ない | M89: 三枝 | N89: 早紀子 | O89: サエグサ | P89: サキコ | Q89: 371-0021 | R89: 群馬県 | S89: 前橋市 | T89: 住吉町1-8-11 | U89: ナイスシティアリーナ前橋住吉町701 | V89: 8017359965 | W89: 19900524 | X89: 0回 | Y89: 0回 | Z89: 0回 | AA89: 麻しん抗体検査 | AG89: ０歳児の同居者（住民票同一である） | AI89: 三枝 一紅 | AJ89: 46038 | AL89: ない又はわからない（結果不明） | AV89: 本事業の実施に必要な範囲で、市が保有する個人情報を確認することに同意します。 | AX89: 101_70_母子手帳.jpg
A90: 茂木 | B90: 100 | C90: NP00010089 | D90: 2026-04-21T19:39:32 | E90: 受付 | G90: オンライン | H90: 受付 | K90: 前橋市 | L90: ない | M90: 松井 | N90: 春妃 | O90: マツイ | P90: ハルヒ | Q90: 371-0835 | R90: 群馬県 | S90: 前橋市 | T90: 前箱田町142-2 | U90: シャトレM202 | V90: 9054143967 | W90: 19870422 | X90: 0回 | Y90: 1回 | Z90: 1回 | AA90: 麻しん・風しん抗体検査 | AG90: 妊娠を希望する女性 | AH90: 妊娠を希望する女性 | AK90: ない又はわからない（結果不明） | AN90: ない又はわからない（結果不明） | AT90: （平成２年４月１日以前生まれの方のみ）検査の結果、抗体価が低いことが判明した場合、予防接種を受けることを希望します。 | AU90: 本事業の実施に必要な範囲で、市が保有する個人情報を確認することに同意します。
A91: 茂木 | B91: 105 | C91: NP00010593 | D91: 2026-04-22T12:00:32 | E91: 受付 | G91: オンライン | H91: 受付 | K91: 前橋市 | L91: ない | M91: 丸山 | N91: 明日香 | O91: マルヤマ | P91: アスカ | Q91: 371-0034 | R91: 群馬県 | S91: 前橋市昭和町 | T91: 3-18-11 | U91: 昭和町アパートN | V91: 9055513624 | W91: 19861016 | X91: 0回 | Y91: 1回 | Z91: 1回 | AA91: 麻しん抗体検査 | AG91: 妊娠を希望する女性 | AK91: ない又はわからない（結果不明） | AT91: （平成２年４月１日以前生まれの方のみ）検査の結果、抗体価が低いことが判明した場合、予防接種を受けることを希望します。 | AU91: 本事業の実施に必要な範囲で、市が保有する個人情報を確認することに同意します。
A92: 鈴木 | B92: 109 | C92: NP00010943 | D92: 2026-04-22T19:36:43 | E92: 受付 | G92: オンライン | H92: 受付 | K92: 前橋市 | L92: ない | M92: 丸山 | N92: 陽大 | O92: マルヤマ | P92: アキヒロ | Q92: 371-0034 | R92: 群馬県 | S92: 前橋市 | T92: 昭和町3-18-11 | U92: 昭和町アパートN | V92: 8014523708 | W92: 19900907 | X92: 0回 | Y92: 1回 | Z92: 1回 | AA92: 麻しん抗体検査 | AG92: 【妊娠を希望する女性】の配偶者又は住民票同一の同居者 | AI92: 丸山 明日香 | AJ92: 31701 | AK92: ない又はわからない（結果不明） | AV92: 本事業の実施に必要な範囲で、市が保有する個人情報を確認することに同意します。
A93: 鈴木 | B93: 108 | C93: NP00010851 | D93: 2026-04-22T19:28:27 | E93: 受付 | G93: オンライン | H93: 受付 | K93: 前橋市 | L93: ない | M93: 梶田 | N93: 信子 | O93: カジタ | P93: ノブコ | Q93: 379-2152 | R93: 群馬県 | S93: 前橋市 | T93: 下大島町1222-11 | V93: 9054108017 | W93: 19600624 | X93: 0回 | Y93: 0回 | Z93: 0回 | AA93: 麻しん・風しん抗体検査 | AG93: 【妊娠を希望する女性】の配偶者又は住民票同一の同居者 | AH93: 【妊娠を希望する女性】の配偶者又は住民票同一の同居者 | AI93: 梶田 阿弓 | AJ93: 32646 | AK93: ない又はわからない（結果不明） | AO93: ない又はわからない（結果不明） | AR93: ない又はわからない（結果不明） | AT93: （平成２年４月１日以前生まれの方のみ）検査の結果、抗体価が低いことが判明した場合、予防接種を受けることを希望します。 | AU93: 本事業の実施に必要な範囲で、市が保有する個人情報を確認することに同意します。
A94: 鈴木 | B94: 107 | C94: NP00010796 | D94: 2026-04-22T19:25:31 | E94: 受付 | G94: オンライン | H94: 受付 | K94: 前橋市 | L94: ない | M94: 梶田 | N94: 敏治 | O94: カジタ | P94: トシハル | Q94: 379-2152 | R94: 群馬県 | S94: 前橋市 | T94: 下大島町1222-11 | V94: 9047070258 | W94: 19580312 | X94: 0回 | Y94: 0回 | Z94: 0回 | AA94: 麻しん・風しん抗体検査 | AG94: 【妊娠を希望する女性】の配偶者又は住民票同一の同居者 | AH94: 【妊娠を希望する女性】の配偶者又は住民票同一の同居者 | AI94: 梶田 阿弓 | AJ94: 32646 | AK94: ない又はわからない（結果不明） | AO94: ない又はわからない（結果不明） | AR94: ない又はわからない（結果不明） | AT94: （平成２年４月１日以前生まれの方のみ）検査の結果、抗体価が低いことが判明した場合、予防接種を受けることを希望します。 | AU94: 本事業の実施に必要な範囲で、市が保有する個人情報を確認することに同意します。
A95: 鈴木 | B95: 106 | C95: NP00010689 | D95: 2026-04-22T19:24:51 | E95: 受付 | G95: オンライン | H95: 受付 | K95: 前橋市 | L95: ない | M95: 梶田 | N95: 阿弓 | O95: カジタ | P95: アユミ | Q95: 379-2152 | R95: 群馬県 | S95: 前橋市 | T95: 下大島町1222-11 | V95: 9067944064 | W95: 19890518 | X95: 0回 | Y95: 1回 | Z95: 0回 | AA95: 麻しん・風しん抗体検査 | AG95: 妊娠を希望する女性 | AH95: 妊娠を希望する女性 | AK95: ない又はわからない（結果不明） | AN95: ない又はわからない（結果不明） | AT95: （平成２年４月１日以前生まれの方のみ）検査の結果、抗体価が低いことが判明した場合、予防接種を受けることを希望します。 | AU95: 本事業の実施に必要な範囲で、市が保有する個人情報を確認することに同意します。
A96: 鈴木 | B96: 110 | C96: NP00011012 | D96: 2026-04-23T16:13:58 | E96: 受付 | G96: オンライン | H96: 受付 | K96: 前橋市 | L96: ない | M96: 桑原 | N96: 未来 | O96: クワバラ | P96: ミキ | Q96: 371-0851 | R96: 群馬県 | S96: 前橋市 | T96: 総社町植野３１９ | U96: ジェルメ203 | V96: 9055860681 | W96: 19931023 | X96: 1回 | Y96: 0回 | Z96: 0回 | AB96: 麻しん・風しん抗体検査 | AG96: 妊娠を希望する女性 | AH96: 妊娠を希望する女性 | AK96: ない又はわからない（結果不明） | AN96: ない又はわからない（結果不明） | AV96: 本事業の実施に必要な範囲で、市が保有する個人情報を確認することに同意します。
A97: 茂木 | B97: 111 | C97: NP00011160 | D97: 2026-04-23T23:37:02 | E97: 受付 | G97: オンライン | H97: 受付 | K97: 前橋市 | L97: ない | M97: 蕗澤 | N97: 鴻太郎 | O97: フキザワ | P97: コウタロウ | Q97: 371-0852 | R97: 群馬県 | S97: 前橋市 | T97: 総社町総社1266-36 | V97: 8065146072 | W97: 19950506 | X97: 0回 | Y97: 1回 | Z97: 1回 | AA97: 麻しん抗体検査 | AG97: ０歳児の同居者（住民票同一である） | AI97: 蕗澤 蒼翔 | AJ97: 45826 | AL97: ない又はわからない（結果不明） | AV97: 本事業の実施に必要な範囲で、市が保有する個人情報を確認することに同意します。 | AX97: 111_70_image.jpg
A98: 戸部 | B98: 120 | C98: NP00012067 | D98: 2026-04-27T09:18:25 | E98: 受付 | G98: オンライン | H98: 受付 | K98: 前橋市 | L98: ない | M98: 渡辺 | N98: 憲太郎 | O98: ワタナベ | P98: ケンタロウ | Q98: 371-0844 | R98: 群馬県 | S98: 前橋市 | T98: 古市町1-39-5 | V98: 9070061439 | W98: 19790128 | X98: 0回 | Y98: 1回 | Z98: 1回 | AA98: 麻しん抗体検査 | AG98: ０歳児の同居者（住民票同一である） | AI98: 渡辺 早紀 | AJ98: 46007 | AL98: ない又はわからない（結果不明） | AT98: （平成２年４月１日以前生まれの方のみ）検査の結果、抗体価が低いことが判明した場合、予防接種を受けることを希望します。 | AU98: 本事業の実施に必要な範囲で、市が保有する個人情報を確認することに同意します。 | AX98: 120_70_17772490511463464447132250283286.jpg
A99: 鈴木 | B99: 119 | C99: NP00011977 | D99: 2026-04-27T06:16:38 | E99: 受付 | G99: オンライン | H99: 受付 | K99: 前橋市 | L99: ない | M99: 川田 | N99: 美紀 | O99: カワダ | P99: ミキ | Q99: 371-0215 | R99: 群馬県 | S99: 前橋市 | T99: 粕川町深津1979-18 | V99: 9058053697 | W99: 19870424 | X99: 0回 | Y99: 0回 | Z99: 0回 | AA99: 麻しん・風しん抗体検査 | AG99: 妊娠を希望する女性 | AH99: 妊娠を希望する女性 | AK99: ない又はわからない（結果不明） | AN99: ない又はわからない（結果不明） | AT99: （平成２年４月１日以前生まれの方のみ）検査の結果、抗体価が低いことが判明した場合、予防接種を受けることを希望します。 | AU99: 本事業の実施に必要な範囲で、市が保有する個人情報を確認することに同意します。
A100: 鈴木 | B100: 118 | C100: NP00011820 | D100: 2026-04-26T22:20:11 | E100: 受付 | G100: オンライン | H100: 受付 | K100: 前橋市 | L100: ない | M100: 阿部 | N100: 瑛理香 | O100: アベ | P100: エリカ | Q100: 379-2144 | R100: 群馬県 | S100: 前橋市 | T100: 下川町23-2 | V100: 8048145305 | W100: 19900228 | X100: 1回 | Y100: 1回 | Z100: 0回 | AF100: 風しん抗体検査 | AH100: 妊娠を希望する女性 | AN100: ない又はわからない（結果不明） | AT100: （平成２年４月１日以前生まれの方のみ）検査の結果、抗体価が低いことが判明した場合、予防接種を受けることを希望します。 | AU100: 本事業の実施に必要な範囲で、市が保有する個人情報を確認することに同意します。
...

Sheet R7件数
B1: 抗体検査申請件数 | M1: *2026-0
C2: 麻しん | D2: 修正 | E2: 修正した理由 | F2: 風しん | G2: 修正 | H2: 修正した理由 | O2: ない又はわからない（結果不明）
A3: 2025-4* | B3: ４月 | F3: 21 | I3: 月平均申請数 | J3: =ROUND(SUM(F3:F14)/COUNTA(F3:F14),0) -> 20 | O3: 抗体価が低かった
A4: 2025-5* | B4: ５月 | F4: 20 | I4: 年間予想申請数 | J4: =ROUND((SUM(F3:F14)/COUNTA(F3:F14))*12,0) -> 239 | O4: 抗体価が低く、ワクチンを接種した
A5: 2025-6* | B5: ６月 | F5: 25
A6: 2025-7* | B6: ７月 | F6: 30
A7: 2025-8* | B7: ８月 | F7: 16 | O7: 麻しん | P7: AK列=ない又はわからない（結果不明） | Q7: AL列=ない又はわからない（結果不明）
A8: 2025-9* | B8: ９月 | F8: 24 | O8: 風しん | P8: AN列=ない又はわからない（結果不明） | Q8: AO列及びAR列=ない又はわからない（結果不明）
A9: 2025-10* | B9: １０月 | F9: 16 | P9: AR列=ない又はわからない（結果不明）、AP列＝抗体値が低かった | Q9: AS列=抗体価が低く、ワクチンを接種した
A10: 2025-11* | B10: １１月 | F10: 11 | P10: AQ列=抗体価が低かった、AR列=ない又はわからない（結果不明）
A11: 2025-12* | B11: １２月 | F11: 28
A12: 2026-01* | B12: １月 | F12: 14 | K12: =$M$1&L12&"*" -> *2026-01* | L12: 1
A13: 2026-02* | B13: ２月 | C13: =COUNTIFS(貼り付け!AK:AK,'R7件数'!$O$2,貼り付け!D:D,'R7件数'!A13)+COUNTIFS(貼り付け!AL:AL,'R7件数'!$O$2,貼り付け!D:D,'R7件数'!A13)+D13 -> 30 | F13: =COUNTIFS(貼り付け!AN:AN,'R7件数'!$O$2,貼り付け!D:D,'R7件数'!A13)+COUNTIFS(貼り付け!AO:AO,'R7件数'!$O$2,貼り付け!AR:AR,'R7件数'!$O$2,貼り付け!D:D,'R7件数'!A13)+COUNTIFS(貼り付け!AP:AP,'R7件数'!$O$3,貼り付け!AR:AR,'R7件数'!$O$2,貼り付け!D:D,'R7件数'!A13)+COUNTIFS(貼り付け!AS:AS,'R7件数'!$O$4,貼り付け!D:D,'R7件数'!A13)+COUNTIFS(貼り付け!AQ:AQ,'R7件数'!$O$3,貼り付け!AR:AR,'R7件数'!$O$2,貼り付け!D:D,'R7件数'!A13)+G13 -> 19 | G13: =1-1 -> 0 | H13: FAXで受け付けたため1件追加、電話で風しんを断ったため1件マイナス | K13: =$M$1&L13&"*" -> *2026-02* | L13: 2
A14: 2026-03* | B14: ３月 | C14: =COUNTIFS(貼り付け!AK:AK,'R7件数'!$O$2,貼り付け!D:D,'R7件数'!A14)+COUNTIFS(貼り付け!AL:AL,'R7件数'!$O$2,貼り付け!D:D,'R7件数'!A14)+D14 -> 19 | D14: -1 | E14: No71麻しん接種歴2回あり、1件マイナス | F14: =COUNTIFS(貼り付け!AN:AN,'R7件数'!$O$2,貼り付け!D:D,'R7件数'!A14)+COUNTIFS(貼り付け!AO:AO,'R7件数'!$O$2,貼り付け!AR:AR,'R7件数'!$O$2,貼り付け!D:D,'R7件数'!A14)+COUNTIFS(貼り付け!AP:AP,'R7件数'!$O$3,貼り付け!AR:AR,'R7件数'!$O$2,貼り付け!D:D,'R7件数'!A14)+COUNTIFS(貼り付け!AS:AS,'R7件数'!$O$4,貼り付け!D:D,'R7件数'!A14)+COUNTIFS(貼り付け!AQ:AQ,'R7件数'!$O$3,貼り付け!AR:AR,'R7件数'!$O$2,貼り付け!D:D,'R7件数'!A14)+G14 -> 15 | K14: =$M$1&L14&"*" -> *2026-03* | L14: 3
B15: 計 | C15: =SUM(C3:C14) -> 49 | F15: =SUM(F3:F14) -> 239
B17: ※申請書上では検査可能または不可能であった検査を、口頭確認等で実施するまたはしないことになった場合は修正に「+１」「−１」を入力。
B18: 併せて、備考にその理由を記入
B19: ※R8.4月〜数カ月は、Excelと手、両方で計算し確認
B20: ※「貼り付け」シートに申請者は全員貼り付け。対象外となり発券しなかった人はグレーで塗りつぶし。

Sheet R8件数
B1: 抗体検査申請件数 | M1: *2026-0
C2: 麻しん | D2: 修正 | E2: 修正した理由 | F2: 風しん | G2: 修正 | H2: 修正した理由 | O2: ない又はわからない（結果不明）
A3: =$E$24&"-"&0&ROW()+1&"*" -> 2026-04* | B3: ４月 | C3: =COUNTIFS(貼り付け!AK:AK,'R8件数'!$O$2,貼り付け!D:D,'R8件数'!A3)+COUNTIFS(貼り付け!AL:AL,'R8件数'!$O$2,貼り付け!D:D,'R8件数'!A3)+D3 -> 43 | D3: =-1-1-1-1-1 -> -5 | E3: 76（ワクチン2回）、92（妊娠中のため）、93（ワクチン1回産後1回）、95（ワクチン2回）対象外、103（2歳のため母に連絡し、受検無しで了承） | F3: =COUNTIFS(貼り付け!AN:AN,'R8件数'!$O$2,貼り付け!D:D,'R8件数'!A3)+COUNTIFS(貼り付け!AO:AO,'R8件数'!$O$2,貼り付け!AR:AR,'R8件数'!$O$2,貼り付け!D:D,'R8件数'!A3)+COUNTIFS(貼り付け!AP:AP,'R8件数'!$O$3,貼り付け!AR:AR,'R8件数'!$O$2,貼り付け!D:D,'R8件数'!A3)+COUNTIFS(貼り付け!AS:AS,'R8件数'!$O$4,貼り付け!D:D,'R8件数'!A3)+COUNTIFS(貼り付け!AQ:AQ,'R8件数'!$O$3,貼り付け!AR:AR,'R8件数'!$O$2,貼り付け!D:D,'R8件数'!A3)+G3 -> 38 | G3: =-1-1-1-1 -> -4 | H3: 76、92、93、95対象外 | I3: 月平均申請数 | J3: =ROUND(SUM(F3:F14)/COUNTA(F3:F14),0) -> 3 | O3: 抗体価が低かった
A4: =$E$24&"-"&0&ROW()+1&"*" -> 2026-05* | B4: ５月 | C4: =COUNTIFS(貼り付け!AK:AK,'R8件数'!$O$2,貼り付け!D:D,'R8件数'!A4)+COUNTIFS(貼り付け!AL:AL,'R8件数'!$O$2,貼り付け!D:D,'R8件数'!A4)+D4 -> 0 | F4: =COUNTIFS(貼り付け!AN:AN,'R8件数'!$O$2,貼り付け!D:D,'R8件数'!A4)+COUNTIFS(貼り付け!AO:AO,'R8件数'!$O$2,貼り付け!AR:AR,'R8件数'!$O$2,貼り付け!D:D,'R8件数'!A4)+COUNTIFS(貼り付け!AP:AP,'R8件数'!$O$3,貼り付け!AR:AR,'R8件数'!$O$2,貼り付け!D:D,'R8件数'!A4)+COUNTIFS(貼り付け!AS:AS,'R8件数'!$O$4,貼り付け!D:D,'R8件数'!A4)+COUNTIFS(貼り付け!AQ:AQ,'R8件数'!$O$3,貼り付け!AR:AR,'R8件数'!$O$2,貼り付け!D:D,'R8件数'!A4)+G4 -> 0 | I4: 年間予想申請数 | J4: =ROUND((SUM(F3:F14)/COUNTA(F3:F14))*12,0) -> 38 | O4: 抗体価が低く、ワクチンを接種した
A5: =$E$24&"-"&0&ROW()+1&"*" -> 2026-06* | B5: ６月 | C5: =COUNTIFS(貼り付け!AK:AK,'R8件数'!$O$2,貼り付け!D:D,'R8件数'!A5)+COUNTIFS(貼り付け!AL:AL,'R8件数'!$O$2,貼り付け!D:D,'R8件数'!A5)+D5 -> 0 | F5: =COUNTIFS(貼り付け!AN:AN,'R8件数'!$O$2,貼り付け!D:D,'R8件数'!A5)+COUNTIFS(貼り付け!AO:AO,'R8件数'!$O$2,貼り付け!AR:AR,'R8件数'!$O$2,貼り付け!D:D,'R8件数'!A5)+COUNTIFS(貼り付け!AP:AP,'R8件数'!$O$3,貼り付け!AR:AR,'R8件数'!$O$2,貼り付け!D:D,'R8件数'!A5)+COUNTIFS(貼り付け!AS:AS,'R8件数'!$O$4,貼り付け!D:D,'R8件数'!A5)+COUNTIFS(貼り付け!AQ:AQ,'R8件数'!$O$3,貼り付け!AR:AR,'R8件数'!$O$2,貼り付け!D:D,'R8件数'!A5)+G5 -> 0
A6: =$E$24&"-"&0&ROW()+1&"*" -> 2026-07* | B6: ７月 | C6: =COUNTIFS(貼り付け!AK:AK,'R8件数'!$O$2,貼り付け!D:D,'R8件数'!A6)+COUNTIFS(貼り付け!AL:AL,'R8件数'!$O$2,貼り付け!D:D,'R8件数'!A6)+D6 -> 0 | F6: =COUNTIFS(貼り付け!AN:AN,'R8件数'!$O$2,貼り付け!D:D,'R8件数'!A6)+COUNTIFS(貼り付け!AO:AO,'R8件数'!$O$2,貼り付け!AR:AR,'R8件数'!$O$2,貼り付け!D:D,'R8件数'!A6)+COUNTIFS(貼り付け!AP:AP,'R8件数'!$O$3,貼り付け!AR:AR,'R8件数'!$O$2,貼り付け!D:D,'R8件数'!A6)+COUNTIFS(貼り付け!AS:AS,'R8件数'!$O$4,貼り付け!D:D,'R8件数'!A6)+COUNTIFS(貼り付け!AQ:AQ,'R8件数'!$O$3,貼り付け!AR:AR,'R8件数'!$O$2,貼り付け!D:D,'R8件数'!A6)+G6 -> 0
A7: =$E$24&"-"&0&ROW()+1&"*" -> 2026-08* | B7: ８月 | C7: =COUNTIFS(貼り付け!AK:AK,'R8件数'!$O$2,貼り付け!D:D,'R8件数'!A7)+COUNTIFS(貼り付け!AL:AL,'R8件数'!$O$2,貼り付け!D:D,'R8件数'!A7)+D7 -> 0 | F7: =COUNTIFS(貼り付け!AN:AN,'R8件数'!$O$2,貼り付け!D:D,'R8件数'!A7)+COUNTIFS(貼り付け!AO:AO,'R8件数'!$O$2,貼り付け!AR:AR,'R8件数'!$O$2,貼り付け!D:D,'R8件数'!A7)+COUNTIFS(貼り付け!AP:AP,'R8件数'!$O$3,貼り付け!AR:AR,'R8件数'!$O$2,貼り付け!D:D,'R8件数'!A7)+COUNTIFS(貼り付け!AS:AS,'R8件数'!$O$4,貼り付け!D:D,'R8件数'!A7)+COUNTIFS(貼り付け!AQ:AQ,'R8件数'!$O$3,貼り付け!AR:AR,'R8件数'!$O$2,貼り付け!D:D,'R8件数'!A7)+G7 -> 0 | O7: 麻しん | P7: AK列=ない又はわからない（結果不明） | Q7: AL列=ない又はわからない（結果不明）
A8: =$E$24&"-"&0&ROW()+1&"*" -> 2026-09* | B8: ９月 | C8: =COUNTIFS(貼り付け!AK:AK,'R8件数'!$O$2,貼り付け!D:D,'R8件数'!A8)+COUNTIFS(貼り付け!AL:AL,'R8件数'!$O$2,貼り付け!D:D,'R8件数'!A8)+D8 -> 0 | F8: =COUNTIFS(貼り付け!AN:AN,'R8件数'!$O$2,貼り付け!D:D,'R8件数'!A8)+COUNTIFS(貼り付け!AO:AO,'R8件数'!$O$2,貼り付け!AR:AR,'R8件数'!$O$2,貼り付け!D:D,'R8件数'!A8)+COUNTIFS(貼り付け!AP:AP,'R8件数'!$O$3,貼り付け!AR:AR,'R8件数'!$O$2,貼り付け!D:D,'R8件数'!A8)+COUNTIFS(貼り付け!AS:AS,'R8件数'!$O$4,貼り付け!D:D,'R8件数'!A8)+COUNTIFS(貼り付け!AQ:AQ,'R8件数'!$O$3,貼り付け!AR:AR,'R8件数'!$O$2,貼り付け!D:D,'R8件数'!A8)+G8 -> 0 | O8: 風しん | P8: AN列=ない又はわからない（結果不明） | Q8: AO列及びAR列=ない又はわからない（結果不明）
A9: =$E$24&"-"&ROW()+1&"*" -> 2026-10* | B9: １０月 | C9: =COUNTIFS(貼り付け!AK:AK,'R8件数'!$O$2,貼り付け!D:D,'R8件数'!A9)+COUNTIFS(貼り付け!AL:AL,'R8件数'!$O$2,貼り付け!D:D,'R8件数'!A9)+D9 -> 0 | F9: =COUNTIFS(貼り付け!AN:AN,'R8件数'!$O$2,貼り付け!D:D,'R8件数'!A9)+COUNTIFS(貼り付け!AO:AO,'R8件数'!$O$2,貼り付け!AR:AR,'R8件数'!$O$2,貼り付け!D:D,'R8件数'!A9)+COUNTIFS(貼り付け!AP:AP,'R8件数'!$O$3,貼り付け!AR:AR,'R8件数'!$O$2,貼り付け!D:D,'R8件数'!A9)+COUNTIFS(貼り付け!AS:AS,'R8件数'!$O$4,貼り付け!D:D,'R8件数'!A9)+COUNTIFS(貼り付け!AQ:AQ,'R8件数'!$O$3,貼り付け!AR:AR,'R8件数'!$O$2,貼り付け!D:D,'R8件数'!A9)+G9 -> 0 | P9: AR列=ない又はわからない（結果不明）、AP列＝抗体値が低かった | Q9: AS列=抗体価が低く、ワクチンを接種した
A10: =$E$24&"-"&ROW()+1&"*" -> 2026-11* | B10: １１月 | C10: =COUNTIFS(貼り付け!AK:AK,'R8件数'!$O$2,貼り付け!D:D,'R8件数'!A10)+COUNTIFS(貼り付け!AL:AL,'R8件数'!$O$2,貼り付け!D:D,'R8件数'!A10)+D10 -> 0 | F10: =COUNTIFS(貼り付け!AN:AN,'R8件数'!$O$2,貼り付け!D:D,'R8件数'!A10)+COUNTIFS(貼り付け!AO:AO,'R8件数'!$O$2,貼り付け!AR:AR,'R8件数'!$O$2,貼り付け!D:D,'R8件数'!A10)+COUNTIFS(貼り付け!AP:AP,'R8件数'!$O$3,貼り付け!AR:AR,'R8件数'!$O$2,貼り付け!D:D,'R8件数'!A10)+COUNTIFS(貼り付け!AS:AS,'R8件数'!$O$4,貼り付け!D:D,'R8件数'!A10)+COUNTIFS(貼り付け!AQ:AQ,'R8件数'!$O$3,貼り付け!AR:AR,'R8件数'!$O$2,貼り付け!D:D,'R8件数'!A10)+G10 -> 0 | P10: AQ列=抗体価が低かった、AR列=ない又はわからない（結果不明）
A11: =$E$24&"-"&ROW()+1&"*" -> 2026-12* | B11: １２月 | C11: =COUNTIFS(貼り付け!AK:AK,'R8件数'!$O$2,貼り付け!D:D,'R8件数'!A11)+COUNTIFS(貼り付け!AL:AL,'R8件数'!$O$2,貼り付け!D:D,'R8件数'!A11)+D11 -> 0 | F11: =COUNTIFS(貼り付け!AN:AN,'R8件数'!$O$2,貼り付け!D:D,'R8件数'!A11)+COUNTIFS(貼り付け!AO:AO,'R8件数'!$O$2,貼り付け!AR:AR,'R8件数'!$O$2,貼り付け!D:D,'R8件数'!A11)+COUNTIFS(貼り付け!AP:AP,'R8件数'!$O$3,貼り付け!AR:AR,'R8件数'!$O$2,貼り付け!D:D,'R8件数'!A11)+COUNTIFS(貼り付け!AS:AS,'R8件数'!$O$4,貼り付け!D:D,'R8件数'!A11)+COUNTIFS(貼り付け!AQ:AQ,'R8件数'!$O$3,貼り付け!AR:AR,'R8件数'!$O$2,貼り付け!D:D,'R8件数'!A11)+G11 -> 0
A12: =$E$24+1&"-"&0&ROW()-11&"*" -> 2027-01* | B12: １月 | C12: =COUNTIFS(貼り付け!AK:AK,'R8件数'!$O$2,貼り付け!D:D,'R8件数'!A12)+COUNTIFS(貼り付け!AL:AL,'R8件数'!$O$2,貼り付け!D:D,'R8件数'!A12)+D12 -> 0 | F12: =COUNTIFS(貼り付け!AN:AN,'R8件数'!$O$2,貼り付け!D:D,'R8件数'!A12)+COUNTIFS(貼り付け!AO:AO,'R8件数'!$O$2,貼り付け!AR:AR,'R8件数'!$O$2,貼り付け!D:D,'R8件数'!A12)+COUNTIFS(貼り付け!AP:AP,'R8件数'!$O$3,貼り付け!AR:AR,'R8件数'!$O$2,貼り付け!D:D,'R8件数'!A12)+COUNTIFS(貼り付け!AS:AS,'R8件数'!$O$4,貼り付け!D:D,'R8件数'!A12)+COUNTIFS(貼り付け!AQ:AQ,'R8件数'!$O$3,貼り付け!AR:AR,'R8件数'!$O$2,貼り付け!D:D,'R8件数'!A12)+G12 -> 0 | K12: =$M$1&L12&"*" -> *2026-01* | L12: 1
A13: =$E$24+1&"-"&0&ROW()-11&"*" -> 2027-02* | B13: ２月 | C13: =COUNTIFS(貼り付け!AK:AK,'R8件数'!$O$2,貼り付け!D:D,'R8件数'!A13)+COUNTIFS(貼り付け!AL:AL,'R8件数'!$O$2,貼り付け!D:D,'R8件数'!A13)+D13 -> 0 | F13: =COUNTIFS(貼り付け!AN:AN,'R8件数'!$O$2,貼り付け!D:D,'R8件数'!A13)+COUNTIFS(貼り付け!AO:AO,'R8件数'!$O$2,貼り付け!AR:AR,'R8件数'!$O$2,貼り付け!D:D,'R8件数'!A13)+COUNTIFS(貼り付け!AP:AP,'R8件数'!$O$3,貼り付け!AR:AR,'R8件数'!$O$2,貼り付け!D:D,'R8件数'!A13)+COUNTIFS(貼り付け!AS:AS,'R8件数'!$O$4,貼り付け!D:D,'R8件数'!A13)+COUNTIFS(貼り付け!AQ:AQ,'R8件数'!$O$3,貼り付け!AR:AR,'R8件数'!$O$2,貼り付け!D:D,'R8件数'!A13)+G13 -> 0 | K13: =$M$1&L13&"*" -> *2026-02* | L13: 2
A14: =$E$24+1&"-"&0&ROW()-11&"*" -> 2027-03* | B14: ３月 | C14: =COUNTIFS(貼り付け!AK:AK,'R8件数'!$O$2,貼り付け!D:D,'R8件数'!A14)+COUNTIFS(貼り付け!AL:AL,'R8件数'!$O$2,貼り付け!D:D,'R8件数'!A14)+D14 -> 0 | F14: =COUNTIFS(貼り付け!AN:AN,'R8件数'!$O$2,貼り付け!D:D,'R8件数'!A14)+COUNTIFS(貼り付け!AO:AO,'R8件数'!$O$2,貼り付け!AR:AR,'R8件数'!$O$2,貼り付け!D:D,'R8件数'!A14)+COUNTIFS(貼り付け!AP:AP,'R8件数'!$O$3,貼り付け!AR:AR,'R8件数'!$O$2,貼り付け!D:D,'R8件数'!A14)+COUNTIFS(貼り付け!AS:AS,'R8件数'!$O$4,貼り付け!D:D,'R8件数'!A14)+COUNTIFS(貼り付け!AQ:AQ,'R8件数'!$O$3,貼り付け!AR:AR,'R8件数'!$O$2,貼り付け!D:D,'R8件数'!A14)+G14 -> 0 | K14: =$M$1&L14&"*" -> *2026-03* | L14: 3
B15: 計 | C15: =SUM(C3:C14) -> 43 | F15: =SUM(F3:F14) -> 38
B16: 使用上の注意点
B17: ※申請書上では検査可能または不可能であった検査を、口頭確認等で実施するまたはしないことになった場合は修正に「+１」「−１」を入力。
B18: 併せて、備考にその理由を記入
B19: ※R8.4月〜数カ月は、Excelと手、両方で計算し確認
B20: ※「貼り付け」シートに申請者は全員貼り付け。対象外となり発券しなかった人はグレーで塗りつぶし。
B22: 年度切り替え方法
A23: 1️⃣ | B23: シートをコピーし、シート名を新しい年度にする
A24: 2️⃣ | B24: 右のセルの年号を新しい年度に変える | E24: 2026
A25: 3️⃣ | B25: D列、G列の修正、E列、H列の修正した理由のセルを削除

Sheet R7件数（旧）
A1: 抗体検査申請件数 | J1: *2026-0
B2: *風しん* | E2: *麻しん* | K2: 2026-02* | L2: ない又はわからない（結果不明） | M2: =COUNTIFS(貼り付け!AK:AK,'R7件数（旧）'!L2,貼り付け!D:D,'R7件数（旧）'!K2) -> 22 | N2: =COUNTIFS(貼り付け!AL:AL,'R7件数（旧）'!L2,貼り付け!D:D,'R7件数（旧）'!K2) -> 8 | O2: =M2+N2 -> 30
A3: ４月 | B3: 21 | F3: 月平均申請数 | G3: =ROUND(SUM(B3:B14)/COUNTA(B3:B14),0) -> 20 | L3: ない又はわからない（結果不明） | M3: =COUNTIFS(貼り付け!AN:AN,'R7件数（旧）'!L2,貼り付け!D:D,'R7件数（旧）'!K2) -> 9 | N3: =COUNTIFS(貼り付け!AO:AO,'R7件数（旧）'!L2,貼り付け!AR:AR,'R7件数（旧）'!L2,貼り付け!D:D,'R7件数（旧）'!K2) -> 7 | O3: =COUNTIFS(貼り付け!AP:AP,'R7件数（旧）'!L4,貼り付け!AR:AR,'R7件数（旧）'!L2,貼り付け!D:D,'R7件数（旧）'!K2) -> 1 | P3: =COUNTIFS(貼り付け!AS:AS,'R7件数（旧）'!L5,貼り付け!D:D,'R7件数（旧）'!K2) -> 1 | Q3: =M3+N3+O3+P3 -> 18
A4: ５月 | B4: 20 | F4: 年間予想申請数 | G4: =ROUND((SUM(B3:B14)/COUNTA(B3:B14))*12,0) -> 244 | L4: 抗体価が低かった
A5: ６月 | B5: 25 | L5: 抗体価が低く、ワクチンを接種した
A6: ７月 | B6: 30
A7: ８月 | B7: 16
A8: ９月 | B8: 24
A9: １０月 | B9: 16
A10: １１月 | B10: 11
A11: １２月 | B11: 28
A12: １月 | B12: 14 | H12: =$J$1&I12&"*" -> *2026-01* | I12: 1
A13: ２月 | B13: 19 | C13: 1 | E13: 30 | H13: =$J$1&I13&"*" -> *2026-02* | I13: 2
A14: ３月 | H14: =$J$1&I14&"*" -> *2026-03* | I14: 3
A15: 計 | B15: =SUM(B3:B14) -> 224 | E15: =SUM(E3:E14) -> 30
