Workbook

Sheet 入力シート
A1: 基本情報入力シート
A2: ・入力欄（着色部）の項目に入力すると各様式に反映されます（誤りのないようにご注意下さい） | M2: ※この様式集はJV用です。
A3: ・様式で個別に記入が必要な項目については、直接入力または手書きによりご記入下さい。
A4: ・入力に誤りが無いか確認し、確認欄を「確認済」としてください。
A5: ・書類を提出する際は必要なシートをPDF出力や紙印刷のうえ提出してください。
A6: ※Ｅxcelファイルのまま提出することはお控えください。
A7: ・案件ごとに前橋市ホームページから最新のExcelファイルをダウンロードしてご使用ください。
A8: ・工事が完了するまで保存していただけますと、変更や再提出の際にもご活用いただけます。
A9: 項目 | B9: 小項目 | C9: 入力欄 | J9: 備考欄 | K9: 確認欄
A10: 作成書類 | B10: 提出予定日 | C10: 西暦 | E10: 年 | G10: 月 | I10: 日 | J10: 西暦で入力してください。
B11: 発行責任者 | J11: 押印の場合は入力不要
B12: 電話番号 | J12: 押印の場合は入力不要
B13: 作成担当者 | J13: 押印の場合は入力不要
B14: 電話番号 | J14: 押印の場合は入力不要
A15: 受注者 | B15: 共同企業体の名称 | C15: （例）○○・○○○・○○ 本庁管内 ○○○○○○○○○○○○○○○○○○工事特定建設工事共同企業体
A16: 作成者 | B16: 区分 | C16: 代表者 | J16: JV代表者が作成します。
B17: 会社名 | C17: （例）○○工業株式会社
B18: 代表者（役職名） | C18: （例）代表取締役
B19: 代表者（氏名） | C19: （例）前橋 太朗
B20: 住所 | C20: （例）前橋市表町１－１－１
A21: 契約内容 | B21: 工事・業務の別 | J21: 工事または業務を選択
B22: 発注者 | J22: 前橋市長または前橋市公営企業管理者を選択
B23: 件名 | C23: （例）本庁管内○○工事 | J23: 入札公告に記載の件名と同じものを入力してください。
B24: 工事箇所 | C24: （例）前橋市表町２－２－２ | J24: 入札公告に記載の履行場所と同じものを入力してください。
B25: 契約日 | C25: 西暦 | E25: 年 | G25: 月 | I25: 日 | J25: 西暦で入力してください。
B26: 着工日 | C26: 西暦 | E26: 年 | G26: 月 | I26: 日 | J26: 西暦で入力してください。
B27: 完成予定日 | C27: 西暦 | E27: 年 | G27: 月 | I27: 日 | J27: 西暦で入力してください。
B28: 契約金額（税抜）
B29: （税込） | C29: =ROUNDDOWN(C28*1.1,0) -> 0 | J29: 自動計算ですが、確認してください。
B30: （消費税） | C30: =C29-C28 -> 0 | J30: 自動計算ですが、確認してください。
B31: 契約保証金 | J31: =ROUNDUP(C29,-1)*0.1&"円以上必要です。" -> 0円以上必要です。
A32: 現場代理人 | B32: 氏名
A33: 主任技術者 または 監理技術者 | B33: 氏名

Sheet 目次
A1: 【前橋市】入札関係様式一覧（A）※JV用
A2: （書類名をクリックすると各シートへ移動します） | F2: ※この様式集はJV用です。
A3: 番号 | B3: 様式No. | C3: 書類名称 | D3: 備考
A4: A01 | B4: 様式第１号（第７条関係） | C4: 入札参加申請書兼誓約書 | D4: 入札参加申請時に使用します。
A5: A02 | B5: 様式１号 | C5: 紙入札参加申出書 | D5: やむを得ない事由により電子入札システムが利用できない場合に使用します。（紙入札）
A6: A03 | B6: ー | C6: 入札書 | D6: やむを得ない事由により電子入札システムが利用できない場合に使用します。（紙入札）
A7: A04 | B7: 様式第１号（第７条関係） | C7: 辞退届 | D7: やむを得ない事由により電子入札システムが利用できない場合に使用します。（紙入札）
A8: A05 | B8: ー | C8: 見積書 | D8: 見積時に使用します。
A9: A05 -2 | B9: 様式第３号（第８条関係） | C9: A05-2緊急工事見積書 | D9: 緊急工事用の見積書です。
A10: A06 | B10: ー | C10: 委任状（参考） | D10: 決まった様式はございませんので、あくまで参考にしてください。そのまま使用しる場合は、左上の「（参考様式）」を消してご利用ください。
A11: A07 | B11: 様式第３号（第１４条関係：建設工事用） | C11: 入札参加資格確認申請書（工事用）
A12: A08 | B12: 様式第３号の２（第１４条関係：測量、建設コンサルタント業務等用） | C12: 入札参加資格確認申請書（業務用）
A13: A09 | B13: ー | C13: 実務経験証明書（工事用）
A14: A10 | B14: ー | C14: 実務経験証明書（業務用）
A15: A11 | B15: 様式第３号の３（第１４条関係） | C15: 関連業者報告書
A16: A12 | B16: 様式第１号（第５条関係） | C16: 社会貢献等評価型一般競争入札評価項目申告書
A17: A13 | B17: 様式第１号の２（第５条関係） | C17: 社会貢献等評価型一般競争入札評価項目申告書

Sheet 変更履歴
A1: 変更履歴（様式A JV用）
A2: 改定日 | B2: シート番号 | C2: 改定内容
A3: 46314 | C3: JV用様式A 新規作成
C4: <以下空白>

Sheet A01入札参加申請書兼誓約書
A1: 様式第１号（第７条関係） | K1: 入力シートへ戻る
A2: 入札参加申請書兼誓約書
A3: =IFERROR(IF(OR(入力シート!D10="",入力シート!F10="",入力シート!H10=""),"年 月 日","令和"&入力シート!D10-2018&"年"&入力シート!F10&"月"&入力シート!H10&"日"),"年 月 日") -> 年 月 日
A4: =IF(入力シート!C22="前橋市長","（宛先）前橋市長",IF(入力シート!C22="前橋市公営企業管理者","（宛先）前橋市公営企業管理者","「発注者」が未入力です。")) -> 「発注者」が未入力です。
A5: 共同企業体の名称 | E5: =IF(入力シート!C15="","「共同企業体の名称」が未入力です。",入力シート!C15) -> （例）○○・○○○・○○ 本庁管内 ○○○○○○○○○○○○○○○○○○工事特定建設工事共同企業体 | K5: ※この様式集はJV用です。
E6: 所在地 | G6: =IF(入力シート!C20="","「住所」が未入力です。",入力シート!C20) -> （例）前橋市表町１－１－１
A7: 代表者 | E7: 商号又は名称 | G7: =IF(入力シート!C17="","「会社名」が未入力です。",入力シート!C17) -> （例）○○工業株式会社
E8: 代表者の氏名 | G8: =IF(入力シート!C19="","「代表者（氏名）」が未入力です。",入力シート!C18&" "&入力シート!C19) -> （例）代表取締役 （例）前橋 太朗
K9: 代表者印の押印が必要です。
A10: 下記の案件の入札に関し、下記の誓約事項を誓約し、競争入札に参加します。
A12: 記
A14: １ | B14: 案件名称
A15: 件名 | D15: =IF(入力シート!C23="","「件名」が未入力です。",入力シート!C23) -> （例）本庁管内○○工事
A17: ２ | B17: 誓約事項
B18: (1) | C18: 本件の競争入札に関し、刑法（明治４０年法律第４５号）、私的独占の禁止及び公正取引の確保に関する法律（昭和２２年法律第５４号）等の規定に抵触する行為をしません。
B21: (2) | C21: この誓約が虚偽であることが発覚した場合は、前橋市が行う指名停止、契約の解除、違約金の請求、損害賠償の請求その他いかなる処置に対しても、異議は一切申立てません。
B24: (3) | C24: この申請書兼誓約書の写しが公正取引委員会、建設業許可権者及び警察等捜査機関に提供されても、異議はありません。
A33: 発行責任者及び担当者 | K33: ←発行責任者とは、代表取締役又は支店長や営業所長等といった
A34: ・ | B34: 発行責任者 | D34: =入力シート!C11&"" | F34: （電話番号） | H34: =入力シート!C12&"" | K34: 社内において権限の委任を受けた役職者です。
A35: ・ | B35: 担当者 | D35: =入力シート!C13&"" | F35: （電話番号） | G35: （電話番号） | H35: =入力シート!C14&"" | K35: また、担当者とは、本件に関する事務を担当する者です。
K36: なお、発行責任者及び担当者は同一人物でも問題ありません。
K37: ※代表者印を押印する場合は、この欄は入力不要です。

Sheet A02紙入札参加申出書
A1: 様式１号 | K1: 入力シートへ戻る
A2: =IFERROR(IF(OR(入力シート!D10="",入力シート!F10="",入力シート!H10=""),"年 月 日","令和"&入力シート!D10-2018&"年"&入力シート!F10&"月"&入力シート!H10&"日"),"年 月 日") -> 年 月 日
A3: =IF(入力シート!C22="前橋市長","（宛先）前橋市長",IF(入力シート!C22="前橋市公営企業管理者","（宛先）前橋市公営企業管理者","「発注者」が未入力です。")) -> 「発注者」が未入力です。
A5: 申し出者 | E5: =IF(入力シート!C15="","「共同企業体の名称」が未入力です。",入力シート!C15) -> （例）○○・○○○・○○ 本庁管内 ○○○○○○○○○○○○○○○○○○工事特定建設工事共同企業体 | K5: ※この様式集はJV用です。
E6: 所在地 | G6: =IF(入力シート!C20="","「住所」が未入力です。",入力シート!C20) -> （例）前橋市表町１－１－１
A7: 代表者 | E7: 商号又は名称 | G7: =IF(入力シート!C17="","「会社名」が未入力です。",入力シート!C17) -> （例）○○工業株式会社
E8: 代表者の氏名 | G8: =IF(入力シート!C19="","「代表者（氏名）」が未入力です。",入力シート!C18&" "&入力シート!C19) -> （例）代表取締役 （例）前橋 太朗 | K8: ←下欄[発行責任者及び担当者]を入力しない場合は、
K9: 代表者印の押印が必要です。
A10: 紙入札参加申出書
A12: 下記案件については電子入札対象案件となっていますが、電子入札システムを利用しての参加ができないため、紙入札での参加を申し出ます。
A15: 記
A17: １ | B17: 案件番号及び案件名称
B18: （例）5071009999 ※入札公告１(1)契約事務案件番号を入力してください。
B19: =IF(入力シート!C23="","「件名」が未入力です。",入力シート!C23) -> （例）本庁管内○○工事
A21: ２ | B21: 電子入札システムを利用できない理由
B22: （例）会社名称の変更により、現在電子証明書を再取得中であるため。
A26: 発行責任者及び担当者 | K26: ←発行責任者とは、代表取締役又は支店長や営業所長等といった
A27: ・ | B27: 発行責任者 | D27: =入力シート!C11&"" | F27: （電話番号） | H27: =入力シート!C12&"" | K27: 社内において権限の委任を受けた役職者です。
A28: ・ | B28: 担当者 | D28: =入力シート!C13&"" | F28: （電話番号） | G28: （電話番号） | H28: =入力シート!C14&"" | K28: また、担当者とは、本件に関する事務を担当する者です。
K29: なお、発行責任者及び担当者は同一人物でも問題ありません。
K30: ※代表者印を押印する場合は、この欄は入力不要です。

Sheet A03入札書
K1: 入力シートへ戻る
A2: 入札書
A4: =IFERROR(IF(OR(入力シート!D10="",入力シート!F10="",入力シート!H10=""),"年 月 日","令和"&入力シート!D10-2018&"年"&入力シート!F10&"月"&入力シート!H10&"日"),"年 月 日") -> 年 月 日
K5: ※この様式集はJV用です。
A6: =IF(入力シート!C22="前橋市長","（宛先）前橋市長",IF(入力シート!C22="前橋市公営企業管理者","（宛先）前橋市公営企業管理者","「発注者」が未入力です。")) -> 「発注者」が未入力です。
A7: 入札者 | E7: =IF(入力シート!C15="","「共同企業体の名称」が未入力です。",入力シート!C15) -> （例）○○・○○○・○○ 本庁管内 ○○○○○○○○○○○○○○○○○○工事特定建設工事共同企業体
E8: 所在地 | G8: =IF(入力シート!C20="","「住所」が未入力です。",入力シート!C20) -> （例）前橋市表町１－１－１
A9: 代表者 | E9: 商号又は名称 | G9: =IF(入力シート!C17="","「会社名」が未入力です。",入力シート!C17) -> （例）○○工業株式会社
E10: 代表者の氏名 | G10: =IF(入力シート!C19="","「代表者（氏名）」が未入力です。",入力シート!C18&" "&入力シート!C19) -> （例）代表取締役 （例）前橋 太朗 | K10: ←下欄[発行責任者及び担当者]を入力しない場合は、
K11: 代表者印および代理人印の押印が必要です。
A12: 代理人 | E12: 氏 名 | K12: ※押印、[発行責任者及び担当者]の記載のどちらも無い場合、
K13: 入札書は無効となります。
A14: =" "&IF(入力シート!C22="前橋市長","設計書、仕様書、図面その他の条件を承諾のうえ、前橋市契約規則を守り、次のとおり入札します。",IF(入力シート!C22="前橋市公営企業管理者","設計書、仕様書、図面その他の条件を承諾のうえ、前橋市水道局契約規程を守り、次のとおり入札します。","設計書、仕様書、図面その他の条件を承諾のうえ、前橋市契約規則を守り、次のとおり入札します。")) -> 設計書、仕様書、図面その他の条件を承諾のうえ、前橋市契約規則を守り、次のとおり入札します。
A15: この入札に関し、刑法（明治４０年法律第４５号）、私的独占の禁止及び公正取引の確保に関する法律（昭和２２年法律第５４号）等の規定に抵触する行為は行っていないことを誓約します。 この誓約が虚偽であることが発覚した場合は、前橋市が行う指名停止、契約の解除、違約金の請求、損害賠償の請求その他いかなる処置に対しても、異議は一切申立てません。 また、この入札書の写しが公正取引委員会及び警察等捜査機関に提供されても、異議はありません。
A20: 入札金額 | C20: （例）\5,000,000 | H20: 円
A21: 件名 | C21: =IF(入力シート!C23="","「件名」が未入力です。",入力シート!C23) -> （例）本庁管内○○工事
A22: 入札日 | E22: 年 | G22: 月 | I22: 日
A24: 発行責任者及び担当者 | K24: ←発行責任者とは、代表取締役又は支店長や営業所長等といった
A25: ・ | B25: 発行責任者 | D25: =入力シート!C11&"" | F25: （電話番号） | H25: =入力シート!C12&"" | K25: 社内において権限の委任を受けた役職者です。
A26: ・ | B26: 担当者 | D26: =入力シート!C13&"" | F26: （電話番号） | G26: （電話番号） | H26: =入力シート!C14&"" | K26: また、担当者とは、本件に関する事務を担当する者です。
K27: なお、発行責任者及び担当者は同一人物でも問題ありません。
K28: ※代表者印及び代理人印を押印する場合は、この欄は入力不要です。

Sheet A04辞退届
A1: 様式第１号（第７条関係） | L1: 入力シートへ戻る
B2: 辞退届
B4: 件名 | C4: =IF(入力シート!C23="","「件名」が未入力です。",入力シート!C23) -> （例）本庁管内○○工事
B6: 上記の入札（見積）につき、都合により辞退するので届け出ます。 | L6: ※この様式集はJV用です。
B7: =IFERROR(IF(OR(入力シート!D10="",入力シート!F10="",入力シート!H10=""),"年 月 日","令和"&入力シート!D10-2018&"年"&入力シート!F10&"月"&入力シート!H10&"日"),"年 月 日") -> 年 月 日
B9: 辞退の理由（具体的に記入してください。）
B10: （例）人員を確保できなくなったため。
B14: =IF(入力シート!C22="前橋市長","（宛先）前橋市長",IF(入力シート!C22="前橋市公営企業管理者","（宛先）前橋市公営企業管理者","「発注者」が未入力です。")) -> 「発注者」が未入力です。
A15: 共同企業体の名称 | E15: =IF(入力シート!C15="","「共同企業体の名称」が未入力です。",入力シート!C15) -> （例）○○・○○○・○○ 本庁管内 ○○○○○○○○○○○○○○○○○○工事特定建設工事共同企業体
E16: 所在地 | G16: =IF(入力シート!C20="","「住所」が未入力です。",入力シート!C20) -> （例）前橋市表町１－１－１
A17: 代表者 | E17: 商号又は名称 | G17: =IF(入力シート!C17="","「会社名」が未入力です。",入力シート!C17) -> （例）○○工業株式会社
E18: 代表者の氏名 | G18: =IF(入力シート!C19="","「代表者（氏名）」が未入力です。",入力シート!C18&" "&入力シート!C19) -> （例）代表取締役 （例）前橋 太朗 | L18: ←下欄[発行責任者及び担当者]を入力しない場合は、
L19: 代表者印の押印が必要です。
B20: 発行責任者及び担当者 | L20: ←発行責任者とは、代表取締役又は支店長や営業所長等といった
A21: ・ | B21: 発行責任者 | D21: =入力シート!C11&"" | F21: （電話番号） | H21: =入力シート!C12&"" | L21: 社内において権限の委任を受けた役職者です。
A22: ・ | B22: 担当者 | D22: =入力シート!C13&"" | F22: （電話番号） | G22: （電話番号） | H22: =入力シート!C14&"" | L22: また、担当者とは、本件に関する事務を担当する者です。
L23: なお、発行責任者及び担当者は同一人物でも問題ありません。
B24: 辞退届提出上の注意 | L24: ※代表者印を押印する場合は、この欄は入力不要です。
A25: １ | B25: この辞退届の提出により、今後の指名等について不利益な取扱いを受けること
B26: はありません。
A27: ２ | B27: この辞退届は、入札執行前にあっては契約担当者に直接提出するか、又は郵送
B28: （入札日の前日までに到達することが確実の場合に限る。）し、入札執行中にあっ
B29: てはこの辞退届又は入札書に辞退する旨を明記して入札執行者に直接提出してく
B30: ださい。

Sheet A05見積書
K1: 入力シートへ戻る
A2: 見積書
A4: =IFERROR(IF(OR(入力シート!D10="",入力シート!F10="",入力シート!H10=""),"年 月 日","令和"&入力シート!D10-2018&"年"&入力シート!F10&"月"&入力シート!H10&"日"),"年 月 日") -> 年 月 日
K5: ※この様式集はJV用です。
A6: =IF(入力シート!C22="前橋市長","（宛先）前橋市長",IF(入力シート!C22="前橋市公営企業管理者","（宛先）前橋市公営企業管理者","「発注者」が未入力です。")) -> 「発注者」が未入力です。
A7: 見積者 | E7: =IF(入力シート!C15="","「共同企業体の名称」が未入力です。",入力シート!C15) -> （例）○○・○○○・○○ 本庁管内 ○○○○○○○○○○○○○○○○○○工事特定建設工事共同企業体
E8: 所在地 | G8: =IF(入力シート!C20="","「住所」が未入力です。",入力シート!C20) -> （例）前橋市表町１－１－１
A9: 代表者 | E9: 商号又は名称 | G9: =IF(入力シート!C17="","「会社名」が未入力です。",入力シート!C17) -> （例）○○工業株式会社
E10: 代表者の氏名 | G10: =IF(入力シート!C19="","「代表者（氏名）」が未入力です。",入力シート!C18&" "&入力シート!C19) -> （例）代表取締役 （例）前橋 太朗
K11: ←下欄[発行責任者及び担当者]を入力しない場合は、
A12: 代理人 | E12: 氏名 | K12: 代表者印の押印が必要です。
K13: また、代理人を設定する場合は代理人の押印もしてください。
A14: =IF(入力シート!C22="前橋市長"," 設計書、仕様書、図面その他の条件を承諾のうえ、前橋市契約規則を守り、次のとおり見積します。",IF(入力シート!C22="前橋市公営企業管理者"," 設計書、仕様書、図面その他の条件を承諾のうえ、前橋市水道局契約規程を守り、次のとおり見積します。"," 設計書、仕様書、図面その他の条件を承諾のうえ、前橋市契約規則を守り、次のとおり見積します。")) -> 設計書、仕様書、図面その他の条件を承諾のうえ、前橋市契約規則を守り、次のとおり見積します。 | K14: （委任状添付）
K16: ※押印、[発行責任者及び担当者]の記載のどちらも無い場合、
A17: 見積金額 | C17: （例）\1,500,000 | H17: 円 | K17: 見積書は無効となります。
A20: 件名 | C20: =IF(入力シート!C23="","「件名」が未入力です。",入力シート!C23) -> （例）本庁管内○○工事
A23: 見積合わせ日 | E23: 年 | G23: 月 | I23: 日
A27: 発行責任者及び担当者 | K27: ←発行責任者とは、代表取締役又は支店長や営業所長等といった
A28: ・ | B28: 発行責任者 | D28: =入力シート!C11&"" | F28: （電話番号） | H28: =入力シート!C12&"" | K28: 社内において権限の委任を受けた役職者です。
A29: ・ | B29: 担当者 | D29: =入力シート!C13&"" | F29: （電話番号） | G29: （電話番号） | H29: =入力シート!C14&"" | K29: また、担当者とは、本件に関する事務を担当する者です。
K30: なお、発行責任者及び担当者は同一人物でも問題ありません。
K31: ※代表者印および代理人印を押印する場合は、この欄は入力不要です。

Sheet A05-2緊急工事見積書
A1: 様式第３号（第８条関係） | K1: 入力シートへ戻る
A2: 緊急工事見積書
A3: =IFERROR(IF(OR(入力シート!D10="",入力シート!F10="",入力シート!H10=""),"年 月 日","令和"&入力シート!D10-2018&"年"&入力シート!F10&"月"&入力シート!H10&"日"),"年 月 日") -> 年 月 日
A4: =IF(入力シート!C22="前橋市長","（宛先）前橋市長",IF(入力シート!C22="前橋市公営企業管理者","（宛先）前橋市公営企業管理者","「発注者」が未入力です。")) -> 「発注者」が未入力です。
A5: 見積者 | E5: =IF(入力シート!C15="","「共同企業体の名称」が未入力です。",入力シート!C15) -> （例）○○・○○○・○○ 本庁管内 ○○○○○○○○○○○○○○○○○○工事特定建設工事共同企業体 | K5: ※緊急工事(JV)用の見積書です。
E6: 所在地 | G6: =IF(入力シート!C20="","「住所」が未入力です。",入力シート!C20) -> （例）前橋市表町１－１－１
A7: 代表者 | E7: 商号又は名称 | G7: =IF(入力シート!C17="","「会社名」が未入力です。",入力シート!C17) -> （例）○○工業株式会社
E8: 代表者の氏名 | G8: =IF(入力シート!C19="","「代表者（氏名）」が未入力です。",入力シート!C18&" "&入力シート!C19) -> （例）代表取締役 （例）前橋 太朗
A10: 下記の緊急工事について、次のとおり見積りいたします。
A11: 見積金額 | C11: （例）\1,500,000 | I11: 円 | K11: ※押印、[発行責任者及び担当者]の記載のどちらも無い場合、
K12: 見積書は無効となります。
C13: （うち消費税及び地方消費税の額 | I13: 円）
A14: 件名 | C14: =IF(入力シート!C23="","「件名」が未入力です。",入力シート!C23) -> （例）本庁管内○○工事
A16: 履行場所 | C16: =IF(入力シート!C24="","「工事箇所」が未入力です。",入力シート!C24) -> （例）前橋市表町２－２－２
A18: 工事内訳明細書 | K18: ←入力内容が多い場合は非表示にしている行を再表示にしてご活用ください。
A19: 工種 | D19: 形状寸法 | E19: 数量 | F19: 単位 | G19: 単価 | H19: 金額 | I19: 摘要 | K19: （２０行目～３４行目、４２行目～７５行目を非表示にしています。）
A76: 小計
A77: 諸経費
A78: 工事価格
A79: 消費税及び地方 消費税の額
A80: 合計
A82: 発行責任者及び担当者
A83: ・ | B83: 発行責任者 | D83: =入力シート!C11&"" | F83: （電話番号） | H83: =入力シート!C12&"" | K83: ←発行責任者とは、代表取締役又は支店長や営業所長等といった
A84: ・ | B84: 担当者 | D84: =入力シート!C13&"" | F84: （電話番号） | G84: （電話番号） | H84: =入力シート!C14&"" | K84: 社内において権限の委任を受けた役職者です。
K85: また、担当者とは、本件に関する事務を担当する者です。
K86: なお、発行責任者及び担当者は同一人物でも問題ありません。
K87: ※代表者印および代理人印を押印する場合は、この欄は入力不要です。

Sheet A06委任状（参考）
A1: （参考様式） | L1: 入力シートへ戻る
A2: 委 任 状
A3: =IFERROR(IF(OR(入力シート!D10="",入力シート!F10="",入力シート!H10=""),"年 月 日","令和"&入力シート!D10-2018&"年"&入力シート!F10&"月"&入力シート!H10&"日"),"年 月 日") -> 年 月 日
A4: =IF(入力シート!C22="前橋市長","（宛先）前橋市長",IF(入力シート!C22="前橋市公営企業管理者","（宛先）前橋市公営企業管理者","「発注者」が未入力です。")) -> 「発注者」が未入力です。
A5: 委任者 | E5: =IF(入力シート!C15="","「共同企業体の名称」が未入力です。",入力シート!C15) -> （例）○○・○○○・○○ 本庁管内 ○○○○○○○○○○○○○○○○○○工事特定建設工事共同企業体 | L5: ※この様式集はJV用です。
E6: 所在地 | G6: =IF(入力シート!C20="","「住所」が未入力です。",入力シート!C20) -> （例）前橋市表町１－１－１
A7: 代表者 | E7: 商号又は名称 | G7: =IF(入力シート!C17="","「会社名」が未入力です。",入力シート!C17) -> （例）○○工業株式会社 | L7: ※こちらは参考です。委任状の決まった様式はございません。
E8: 代表者の氏名 | G8: =IF(入力シート!C19="","「代表者（氏名）」が未入力です。",入力シート!C18&" "&入力シート!C19) -> （例）代表取締役 （例）前橋 太朗 | L8: ※この様式を使用する場合は、左上の「（参考様式）」を
L9: 消してからご使用ください。
A10: 受任者 | E10: 受任者の氏名 | L10: ←下欄[発行責任者及び担当者]を入力しない場合は、
L11: 代表者印及び受任者印の押印が必要です。
A12: 上記の受任者を代理人と定め、次の工事の入札及び見積りに関する一切の権限を委任します。
A15: １ | B15: 工事名 | D15: =IF(入力シート!C23="","「件名」が未入力です。",入力シート!C23) -> （例）本庁管内○○工事
A17: ２ | B17: 入札日 | F17: 年 | H17: 月 | J17: 日
A19: 発行責任者及び担当者 | L19: ←発行責任者とは、代表取締役又は支店長や営業所長等といった
A20: ・ | B20: 発行責任者 | D20: =入力シート!C11&"" | F20: （電話番号） | H20: =入力シート!C12&"" | L20: 社内において権限の委任を受けた役職者です。
A21: ・ | B21: 担当者 | D21: =入力シート!C13&"" | F21: （電話番号） | G21: （電話番号） | H21: =入力シート!C14&"" | L21: また、担当者とは、本件に関する事務を担当する者です。
L22: なお、発行責任者及び担当者は同一人物でも問題ありません。
L23: ※代表者印を押印する場合は、この欄は入力不要です。

Sheet A07入札参加資格確認申請書（工事用）
A1: 様式第３号（第１４条関係：建設工事用） | Q1: 入力シートへ戻る
A2: 入札参加資格確認申請書
A3: =IFERROR(IF(OR(入力シート!D10="",入力シート!F10="",入力シート!H10=""),"年 月 日","令和"&入力シート!D10-2018&"年"&入力シート!F10&"月"&入力シート!H10&"日"),"年 月 日") -> 年 月 日
A4: =IF(入力シート!C22="前橋市長","（宛先）前橋市長",IF(入力シート!C22="前橋市公営企業管理者","（宛先）前橋市公営企業管理者","「発注者」が未入力です。")) -> 「発注者」が未入力です。
A5: 共同企業体の名称 | I5: =IF(入力シート!C15="","「共同企業体の名称」が未入力です。",入力シート!C15) -> （例）○○・○○○・○○ 本庁管内 ○○○○○○○○○○○○○○○○○○工事特定建設工事共同企業体 | Q5: ※この様式集はJV用です。
I6: 所在地 | K6: =IF(入力シート!C20="","「住所」が未入力です。",入力シート!C20) -> （例）前橋市表町１－１－１
A7: 代表者 | I7: 商号又は名称 | K7: =IF(入力シート!C17="","「会社名」が未入力です。",入力シート!C17) -> （例）○○工業株式会社
I8: 代表者の氏名 | K8: =IF(入力シート!C19="","「代表者（氏名）」が未入力です。",入力シート!C18&" "&入力シート!C19) -> （例）代表取締役 （例）前橋 太朗 | Q8: ←下欄[発行責任者及び担当者]を入力しない場合は、
A9: 契約事務案件番号 | C9: （例）5071009999 ※入札公告１(1)契約事務案件番号を入力してください。 | Q9: 代表者印の押印が必要です。
A10: 件名 | C10: =IF(入力シート!C23="","「件名」が未入力です。",入力シート!C23) -> （例）本庁管内○○工事
A11: フレックス工期 | C11: □ | D11: 該当 | F11: （該当の場合は以下に設定する履行期間を記入）・ | N11: □ | O11: 非該当 | Q11: ←該当するものにチェック（□→■）してください。
C12: =IF(C11="□","",IFERROR(IF(OR(入力シート!D26="",入力シート!F26="",入力シート!H26=""),"「着工日」が未入力です。","令和"&入力シート!D26-2018&"年"&入力シート!F26&"月"&入力シート!H26&"日"),"「着工日」が未入力です。")) | J12: から | L12: =IF(C11="□","",IFERROR(IF(OR(入力シート!D27="",入力シート!F27="",入力シート!H27=""),"「完成予定日」が未入力です。","令和"&入力シート!D27-2018&"年"&入力シート!F27&"月"&入力シート!H27&"日"),"「完成予定日」が未入力です。"))
A13: 配置予定技術者等
A14: 現場代理人
A15: 氏名 | D15: =IF(入力シート!C32="","「現場代理人 氏名」が未入力です。",入力シート!C32) -> 「現場代理人 氏名」が未入力です。
A16: 上記の者が該当するものにチェックしてください。 | R16: 該当するものにチェック（□→■）してください。
A17: □ | B17: １．「他の工事の専任技術者」ではない
A18: □ | B18: ２.「他の工事の主任技術者」ではない | I18: ※同一工事で現場代理人と主任技術者の兼任をしている場合は含めない。 | R18: なお、該当するものが無い場合は、チェックは不要です。
A19: □ | B19: ３．現場代理人として配置する工事は本工事を含めて２件以内である※本工事と重複する履行期間のものに限る。
A20: 上記の者が他の工事で現場代理人として配置されている場合は、下記を記入のうえ
A21: 「現場代理人兼任届出書」を提出してください。※本工事と重複する履行期間のものに限る。
A22: 件名
A23: 履行場所
D24: ※所在地が本市以外の場合は兼任できません。 | R24: ※こちらの欄に入力した場合は、「現場代理人兼任届出書」を提出してください。
A25: 発注者
A26: 履行期間 | J26: 請負金額
A27: 役職 | D27: □ | E27: 現場代理人 | H27: □ | I27: 主任技術者 | K27: □ | L27: 監理技術者 | N27: □ | O27: 監理技術者補佐 | R27: ←該当するものにチェック（□→■）してください。
A29: 主任技術者（監理技術者）
A30: 氏名 | D30: =IF(入力シート!C33="","「主任技術者又は監理技術者 氏名」が未入力です。",入力シート!C33) -> 「主任技術者又は監理技術者 氏名」が未入力です。
A31: 上記の者が該当するものにチェックしてください。 | R31: 該当するものにチェック（□→■）してください。
A32: □ | B32: １.「他の工事の専任技術者」ではない
A33: □ | B33: ２.「他の工事の現場代理人」ではない | I33: ※同一工事で現場代理人と主任技術者の兼任をしている場合は含めない。 | R33: なお、該当するものが無い場合は、チェックは不要です。
A34: □ | B34: ３.「現場代理人兼任届出書」を提出していない | J34: ※本工事と重複する履行期間のものに限る。
A35: 申請時において従事又は従事予定の工事 | D35: □ | E35: 有・ | F35: □ | G35: 無 | I35: ※有にチェックした場合は下記もチェックする。
Q36: ←該当するものにチェック（□→■）してください。
A37: 役職 | D37: □ | E37: 現場代理人 | H37: □ | I37: 主任技術者 | K37: □ | L37: 監理技術者 | N37: □ | O37: 監理技術者補佐 | Q37: また、「有」にチェックした場合は、役職欄もチェックしてください。
A39: 監理技術者補佐（配置する場合は以下に氏名を記入）
A40: 氏名 | Q40: ←監理技術者補佐を配置する場合は入力してください。
A41: 注１ | B41: 資格証明書類（資格証、監理技術者証等の写し）、3か月以上の継続的雇用の確認書類、及びその他入札公告で定めるものを添付すること。
A43: 注２ | B43: 入札参加資格審査のため、工事経歴が確認できる書類（竣工時コリンズカルテ、契約書等写し）を求める場合があります。
...

Sheet A08入札参加資格確認申請書（業務用）
A1: 様式第３号の２（第１４条関係：測量、建設コンサルタント業務等用） | R1: 入力シートへ戻る
A2: 入札参加資格確認申請書
A3: =IFERROR(IF(OR(入力シート!D10="",入力シート!F10="",入力シート!H10=""),"年 月 日","令和"&入力シート!D10-2018&"年"&入力シート!F10&"月"&入力シート!H10&"日"),"年 月 日") -> 年 月 日
A4: =IF(入力シート!C22="前橋市長","（宛先）前橋市長",IF(入力シート!C22="前橋市公営企業管理者","（宛先）前橋市公営企業管理者","「発注者」が未入力です。")) -> 「発注者」が未入力です。
A5: 共同企業体の名称 | I5: =IF(入力シート!C15="","「共同企業体の名称」が未入力です。",入力シート!C15) -> （例）○○・○○○・○○ 本庁管内 ○○○○○○○○○○○○○○○○○○工事特定建設工事共同企業体 | R5: ※この様式集はJV用です。
I6: 所在地 | K6: =IF(入力シート!C20="","「住所」が未入力です。",入力シート!C20) -> （例）前橋市表町１－１－１
A7: 代表者 | I7: 商号又は名称 | K7: =IF(入力シート!C17="","「会社名」が未入力です。",入力シート!C17) -> （例）○○工業株式会社
I8: 代表者の氏名 | K8: =IF(入力シート!C19="","「代表者（氏名）」が未入力です。",入力シート!C18&" "&入力シート!C19) -> （例）代表取締役 （例）前橋 太朗 | R8: ←下欄[発行責任者及び担当者]を入力しない場合は、
A9: 契約事務案件番号 | C9: （例）5071009999 ※入札公告１(1)契約事務案件番号を入力してください。 | R9: 代表者印の押印が必要です。
A10: 件名 | C10: =IF(入力シート!C23="","「件名」が未入力です。",入力シート!C23) -> （例）本庁管内○○工事
A11: フレックス工期 | C11: □ | D11: 該当 | F11: （該当の場合は以下に設定する履行期間を記入）・ | N11: □ | O11: 非該当 | R11: ←該当するものにチェック（□→■）してください。
C12: =IF(C11="□","",IFERROR(IF(OR(入力シート!D26="",入力シート!F26="",入力シート!H26=""),"「着工日」が未入力です。","令和"&入力シート!D26-2018&"年"&入力シート!F26&"月"&入力シート!H26&"日"),"「着工日」が未入力です。")) | J12: から | L12: =IF(C11="□","",IFERROR(IF(OR(入力シート!D27="",入力シート!F27="",入力シート!H27=""),"「完成予定日」が未入力です。","令和"&入力シート!D27-2018&"年"&入力シート!F27&"月"&入力シート!H27&"日"),"「完成予定日」が未入力です。"))
A14: 配置予定技術者等
A15: 主任技術者 | J15: 照査技術者
A16: 氏 名 | J16: 氏 名 | S16: 配置予定技術者を入力してください。
A17: 担当技術者（ | I17: ） | J17: 担当技術者（ | P17: )
A18: 氏 名 | J18: 氏 名
A20: 注１ | B20: 資格証明書類（資格証、監理技術者証等の写し）、3か月以上の継続的雇用の確認書類、及びその他入札公告で定めるものを添付すること。
A22: 注２ | B22: 入札参加資格審査のため、工事経歴が確認できる書類（竣工時コリンズカルテ、契約書等写し）を求める場合があります。
A24: 注３ | B24: 申請書類に虚偽の記載をし、又は重要な記載をしなかった場合は、指名停止措置をすることがあります。
A26: 発行責任者及び担当者 | R26: ←発行責任者とは、代表取締役又は支店長や営業所長等といった
A27: ・ | B27: 発行責任者 | D27: =入力シート!C11&"" | J27: （電話番号） | M27: =入力シート!C12&"" | R27: 社内において権限の委任を受けた役職者です。
A28: ・ | B28: 担当者 | D28: =入力シート!C13&"" | J28: （電話番号） | M28: =入力シート!C14&"" | R28: また、担当者とは、本件に関する事務を担当する者です。
R29: なお、発行責任者及び担当者は同一人物でも問題ありません。
R30: ※代表者印を押印する場合は、この欄は入力不要です。

Sheet A09実務経験証明書（工事用）
A1: 実務経験証明書 | V1: 入力シートへ戻る
B2: 下記の者は、 | C2: （例）機械器具設置 | E2: に関し、下記のとおり実務の経験を有することに相違ないことを証明します。
A4: =IFERROR(IF(OR(入力シート!D10="",入力シート!F10="",入力シート!H10=""),"年 月 日","令和"&入力シート!D10-2018&"年"&入力シート!F10&"月"&入力シート!H10&"日"),"年 月 日") -> 年 月 日
I5: =IF(入力シート!C20="","「住所」が未入力です。",入力シート!C20) -> （例）前橋市表町１－１－１
A6: 証明者 | I6: =IF(入力シート!C17="","「会社名」が未入力です。",入力シート!C17) -> （例）○○工業株式会社
I7: =IF(入力シート!C19="","「代表者（氏名）」が未入力です。",入力シート!C18&" "&入力シート!C19) -> （例）代表取締役 （例）前橋 太朗 | V7: ←下欄[発行責任者及び担当者]を入力しない場合は、
A8: 記 | V8: 代表者印の押印が必要です。
A9: 技術者の氏名 | C9: （例）群馬 次郎 | F9: 生年月日 | G9: （例）昭和45年1月1日 | I9: 使用された 期間 | M9: （例）平成3 | O9: 年 | Q9: ="3" -> 3 | S9: 月 | T9: から
V10: ←雇用期間を書いてください。現在も雇用している場合は、
A11: 使用者の商号 又は名称 | C11: =IF(入力シート!C17="","「会社名」が未入力です。",入力シート!C17) -> （例）○○工業株式会社 | O11: 年 | S11: 月 | T11: まで | V11: 二行目は不要です。
A13: 職名 | D13: 実務経験の内容 | L13: 実務経験年数
A14: （例）工事主任 | C14: （例）前橋リゾートマンション外構植栽工事 他３件 | I14: （例）平成3 | K14: 年 | L14: ="3" -> 3 | M14: 月から | O14: （例）平成3 | Q14: 年 | R14: ="2" -> 2 | S14: 月 | T14: まで | W14: ※実務経験年数について
K15: 年 | M15: 月から | Q15: 年 | S15: 月 | T15: まで | W15: 実務経験年数は重複しないようご注意ください。
K16: 年 | M16: 月から | Q16: 年 | S16: 月 | T16: まで
K17: 年 | M17: 月から | Q17: 年 | S17: 月 | T17: まで | W17: ※実務経験の内容について
K18: 年 | M18: 月から | Q18: 年 | S18: 月 | T18: まで | W18: その年の代表的工事の件名を記入し、その他の工事は
K19: 年 | M19: 月から | Q19: 年 | S19: 月 | T19: まで | W19: ※実務経験の内容について
K20: 年 | M20: 月から | Q20: 年 | S20: 月 | T20: まで | W20: その年の代表的工事の件名を記入し、その他の工事は
K21: 年 | M21: 月から | Q21: 年 | S21: 月 | T21: まで | W21: 「他〇件」として、１年分を１行にまとめてください。
K22: 年 | M22: 月から | Q22: 年 | S22: 月 | T22: まで | W22: （実務経験１０年で申請する場合は、１０行に記入する。）
K23: 年 | M23: 月から | Q23: 年 | S23: 月 | T23: まで
A24: 使用者の証明を得ることができない場合 | C24: その理由 | I24: 合計 | L24: 満 | Q24: 年 | T24: 月 | V24: ←実務経験年数の合計を記入してください。
I25: 証明者と被証 明者との関係 | N25: （例）社員
V26: ←証明者の立場からみた被証明者との関係を記入してください。
A27: 記載要領 | V27: 以前雇用していた社員の証明を行う場合は「元社員」、
A28: １ | B28: この証明書は、申請する建設工事の種類ごとに、技術者１人について、証明者別に作成すること。
A29: ２ | B29: 「実務経験の内容」の欄は、従事した主な工事名等を具体的に記載すること。 | V29: 代表者が本人の証明を行う場合は「本人」などと記入してください。
A30: 発行責任者及び担当者
A31: ・ | B31: 発行責任者 | C31: =入力シート!C11&"" | G31: （電話番号） | I31: =入力シート!C12&""
A32: ・ | B32: 担当者 | C32: =入力シート!C13&"" | G32: （電話番号） | I32: =入力シート!C14&""
V33: ←発行責任者とは、代表取締役又は支店長や営業所長等といった
V34: 社内において権限の委任を受けた役職者です。
V35: また、担当者とは、本件に関する事務を担当する者です。
V36: なお、発行責任者及び担当者は同一人物でも問題ありません。
V37: ※代表者印を押印する場合は、この欄は入力不要です。

Sheet A10実務経験証明書（業務用）
A1: 実務経験証明書 | AB1: 入力シートへ戻る
A2: =IFERROR(IF(OR(入力シート!D10="",入力シート!F10="",入力シート!H10=""),"年 月 日","令和"&入力シート!D10-2018&"年"&入力シート!F10&"月"&入力シート!H10&"日"),"年 月 日") -> 年 月 日
B3: 下記のものは、補償業務（ | F3: （例）物件 | J3: 部門）に関し、
B4: 下記のとおり実務経験を有することに相違ないことを証明します。
P5: =IF(入力シート!C20="","「住所」が未入力です。",入力シート!C20) -> （例）前橋市表町１－１－１
A6: 証明者（使用者） | P6: =IF(入力シート!C17="","「会社名」が未入力です。",入力シート!C17) -> （例）○○工業株式会社
P7: =IF(入力シート!C19="","「代表者（氏名）」が未入力です。",入力シート!C18&" "&入力シート!C19) -> （例）代表取締役 （例）前橋 太朗 | AB7: ←下欄[発行責任者及び担当者]を入力しない場合は、
A8: 記 | AB8: 代表者印の押印が必要です。
A9: 氏名 | C9: （例）群馬 次郎 | I9: 生年月日 | J9: （例）昭和45年1月1日 | O9: 使用期間 | S9: （例）平成10 | U9: 年 | W9: ="3" -> 3 | Y9: 月 | Z9: から
U10: 年 | Y10: 月 | Z10: まで | AB10: ←雇用期間を書いてください。現在も雇用している場合は、
A11: 実務経験の内容 | C11: 業務名 | D11: （例）急傾斜地崩壊対策事業 用地調査委託 | O11: 概要 | Q11: （例）・用地調査Ａ＝２４００ｍ２ ・物件調査 立木調査 ４８０ｍ２ | AB11: 二行目は不要です。
C13: 履行期間 | D13: （例）平成10 | E13: 年 | F13: ="3" -> 3 | G13: 月 | H13: ～ | I13: （例）平成11 | J13: 年 | K13: ="3" -> 3 | L13: 月（ | M13: ="12" -> 12 | N13: か月）
C14: 業務名 | O14: 概要
AC15: ※業務名と履行期間について
C16: 履行期間 | E16: 年 | G16: 月 | H16: ～ | J16: 年 | L16: 月（ | N16: か月） | AC16: 合計期間が７年以上になるようにしてください。
C17: 業務名 | O17: 概要 | AC17: １枚で７年に達しない場合、複数枚作成してください。
C19: 履行期間 | E19: 年 | G19: 月 | H19: ～ | J19: 年 | L19: 月（ | N19: か月） | AC19: ※概要について
C20: 業務名 | O20: 概要 | AC20: 証明を行う部門に携わったことがわかるよう、業務の概要を書いてください。
AC21: 社内システム等で、業務名や履行期間、業務概要がわかるものを打ち出せる場合、
C22: 履行期間 | E22: 年 | G22: 月 | H22: ～ | J22: 年 | L22: 月（ | N22: か月） | AC22: 概要については別紙添付でもかまいません。（業務名と履行期間は記入してください。）
C23: 業務名 | O23: 概要
C25: 履行期間 | E25: 年 | G25: 月 | H25: ～ | J25: 年 | L25: 月（ | N25: か月）
A26: 合計 | D26: 満 | I26: 年 | M26: 月 | O26: 証明者と被証 明者との関係 | T26: （例）社員 | AB26: ←証明者の立場からみた被証明者との関係を記入してください。
AB27: 以前雇用していた社員の証明を行う場合は「元社員」、
A28: 記載要領 | AB28: 代表者が本人の証明を行う場合は「本人」などと記入してください。
A29: １ | B29: この証明書は、証明者別に作成し、１枚に１人のみ記載すること。７年に満たない場合は複数枚作成する。
A30: ２ | B30: 「概要」の欄は、指定した部門への従事が明らかになるよう、業務概要（発注内容）を記載すること。
A31: ３ | B31: 「実務経験の内容」の欄は、業務名と履行期間のみを記載し概要については別紙添付でも可能とする。
A32: 発行責任者及び担当者 | AB32: ←発行責任者とは、代表取締役又は支店長や営業所長等といった
A33: ・ | B33: 発行責任者 | D33: =入力シート!C11&"" | L33: （電話番号） | O33: =入力シート!C12&""
A34: ・ | B34: 担当者 | D34: =入力シート!C13&"" | L34: （電話番号） | O34: =入力シート!C14&"" | AB34: 社内において権限の委任を受けた役職者です。
AB36: また、担当者とは、本件に関する事務を担当する者です。
AB37: なお、発行責任者及び担当者は同一人物でも問題ありません。
AB38: ※代表者印を押印する場合は、この欄は入力不要です。

Sheet A11関連業者報告書
A1: 様式第３号の３（第１４条関係） | L1: 入力シートへ戻る
A2: 関連業者報告書
A3: =IFERROR(IF(OR(入力シート!D10="",入力シート!F10="",入力シート!H10=""),"年 月 日","令和"&入力シート!D10-2018&"年"&入力シート!F10&"月"&入力シート!H10&"日"),"年 月 日") -> 年 月 日
A4: =IF(入力シート!C22="前橋市長","（宛先）前橋市長",IF(入力シート!C22="前橋市公営企業管理者","（宛先）前橋市公営企業管理者","「発注者」が未入力です。")) -> 「発注者」が未入力です。
L5: ※この様式集はJV用です。
A6: 共同企業体の名称 | E6: =IF(入力シート!C15="","「共同企業体の名称」が未入力です。",入力シート!C15) -> （例）○○・○○○・○○ 本庁管内 ○○○○○○○○○○○○○○○○○○工事特定建設工事共同企業体
E7: 所在地 | G7: =IF(入力シート!C20="","「住所」が未入力です。",入力シート!C20) -> （例）前橋市表町１－１－１
A8: 代表者 | E8: 商号又は名称 | G8: =IF(入力シート!C17="","「会社名」が未入力です。",入力シート!C17) -> （例）○○工業株式会社
E9: 代表者の氏名 | G9: =IF(入力シート!C19="","「代表者（氏名）」が未入力です。",入力シート!C18&" "&入力シート!C19) -> （例）代表取締役 （例）前橋 太朗 | L9: ←下欄[発行責任者及び担当者]を入力しない場合は、
A10: 当社と関連のある建設工事及び測量、建設コンサルタント業務等業者について次のとおり報告します。（該当する項目に■を記入してください。） | L10: 代表者印の押印が必要です。
A12: □ | B12: １ 該当有り
F13: 記載内容
A14: 関連業者との関係 | D14: 業者名 | F14: 株式総数・ 出資総額 | H14: 所有株数・ 出資額 | J14: 割合
B16: 資本との関連
B18: 株式（総数に 対する割合）
N19: ←該当するものにチェック（□→■）してください。
B21: 出資（総額に 対する割合） | N21: なお、「該当有り」にチェックした場合は、関連業者との関係を記入してください。
D24: 業者名 | G24: 関係内容
B25: 人事面の関連 役員の兼務 状況
D31: 業者名 | G31: 関係内容
B32: その他 特別な提携 関係
A39: □ | B39: ２ 該当なし
A41: 発行責任者及び担当者 | L41: ←発行責任者とは、代表取締役又は支店長や営業所長等といった
A42: ・ | B42: 発行責任者 | D42: =入力シート!C11&"" | G42: （電話番号） | I42: =入力シート!C12&"" | L42: 社内において権限の委任を受けた役職者です。
A43: ・ | B43: 担当者 | D43: =入力シート!C13&"" | G43: （電話番号） | I43: =入力シート!C14&"" | L43: また、担当者とは、本件に関する事務を担当する者です。
L44: なお、発行責任者及び担当者は同一人物でも問題ありません。
L45: ※代表者印を押印する場合は、この欄は入力不要です。
