Workbook

Sheet 入力シート
A1: 基本情報入力シート
A2: ・入力欄（着色部）の項目に入力すると各様式に反映されます（誤りのないようにご注意下さい） | M2: ※この様式集はJV用です。
A3: ・様式で個別に記入が必要な項目については、直接入力または手書きによりご記入下さい。
A4: ・入力に誤りが無いか確認し、確認欄を「確認済」としてください。
A5: ・書類を提出する際は必要なシートをPDF出力や紙印刷のうえ提出してください。
A6: ※Ｅxcelファイルのまま提出することはお控えください。
A7: ・案件ごとに前橋市ホームページから最新のExcelファイルをダウンロードしてご使用ください。
A8: ・工事が完了するまで保存していただけますと、変更や再提出の際にもご活用いただけます。
A9: 項目 | B9: 小項目 | C9: 入力欄 | J9: 備考欄 | K9: 確認欄
A10: 作成書類 | B10: 提出予定日 | C10: 西暦 | E10: 年 | G10: 月 | I10: 日 | J10: 西暦で入力してください。
B11: 発行責任者 | J11: 押印の場合は入力不要
B12: 電話番号 | J12: 押印の場合は入力不要
B13: 作成担当者 | J13: 押印の場合は入力不要
B14: 電話番号 | J14: 押印の場合は入力不要
A15: 受注者 | B15: 共同企業体名 | C15: （例）○○・○○○・○○ 本庁管内 ○○○○○○○○○○○○○○○○○○工事特定建設工事共同企業体
A16: 代表者 | B16: 会社名 | C16: （例）○○工業株式会社 | J16: JV代表者の情報を入力してください。
B17: 代表者（役職名） | C17: （例）代表取締役 | J17: JV代表者の情報を入力してください。
B18: 代表者（氏名） | C18: （例）前橋 太朗 | J18: JV代表者の情報を入力してください。
B19: 住所 | C19: （例）前橋市表町１－１－１ | J19: JV代表者の情報を入力してください。
A20: 構成員１ | B20: 会社名 | C20: （例）株式会社○○○ | J20: 構成員の情報を入力してください。
B21: 代表者（役職名） | C21: （例）代表取締役 | J21: 構成員の情報を入力してください。
B22: 代表者（氏名） | C22: （例）赤城 次郎 | J22: 構成員の情報を入力してください。
B23: 住所 | C23: （例）前橋市表町２－２－２ | J23: 構成員の情報を入力してください。
A24: 構成員２ | B24: 会社名 | J24: 構成員が２業者いる場合は情報を入力してください。不要な場合は入力しないでください。
B25: 代表者（役職名） | J25: 不要な場合は入力しないでください。
B26: 代表者（氏名） | J26: 不要な場合は入力しないでください。
B27: 住所 | J27: 不要な場合は入力しないでください。
A28: 書類作成者 | B28: 会社名 | C28: （例）○○工業株式会社
A29: 契約内容 | B29: 工事・業務の別 | J29: 工事または業務を選択
B30: 発注者 | J30: 前橋市長または前橋市公営企業管理者を選択 | L30: =IF(C30="前橋市長","小 川 晶",IF(C30="前橋市公営企業管理者","膽 熊 桂 二","「発注者」が未入力です。")) -> 「発注者」が未入力です。
B31: 件名 | C31: （例）本庁管内○○工事 | J31: 入札公告に記載の件名と同じものを入力してください。
B32: 工事箇所 | C32: （例）前橋市表町２－２－２ | J32: 入札公告に記載の履行場所と同じものを入力してください。
B33: 契約日 | C33: 西暦 | E33: 年 | G33: 月 | I33: 日 | J33: 西暦で入力してください。
B34: 着工日 | C34: 西暦 | E34: 年 | G34: 月 | I34: 日 | J34: 西暦で入力してください。
B35: 完成予定日 | C35: 西暦 | E35: 年 | G35: 月 | I35: 日 | J35: 西暦で入力してください。
B36: 契約金額（税抜）
B37: （税込） | C37: =ROUNDDOWN(C36*1.1,0) -> 0 | J37: 自動計算ですが、確認してください。
B38: （消費税） | C38: =C37-C36 -> 0 | J38: 自動計算ですが、確認してください。
B39: 契約保証金 | J39: =ROUNDUP(C37,-1)*0.1&"円以上必要です。" -> 0円以上必要です。
A40: 現場代理人 | B40: 氏名
...

Sheet 目次
A1: 【前橋市】契約関係様式（工事）一覧（B）※JV用
A2: （書類名をクリックすると各シートへ移動します）
A3: 番号 | B3: 様式No. | C3: 書類名称 | D3: 備考
A4: B01 | B4: ー | C4: 建設工事請負契約書
A5: B02 | B5: ー | C5: 解体工事に要する費用等確認書 | D5: 工事担当課で確認後、契約監理課へ提出
A6: B03 | B6: ー | C6: 解体工事に要する費用等 | D6: 契約書用です。 B02確認書の内容を自動で入力します。 両面印刷して袋とじしてください。
A7: B04 | B7: ー | C7: 実務経験証明書
A8: B05 | B8: 様式第１号（第５条関係） | C8: 現場代理人兼任届出書 | D8: 現場代理人を兼任する場合に使用します。
A9: B06 | B9: 様式第３号（第１７条関係） | C9: 免税事業者届出書
A10: B07 | B10: 様式第１号（第８条関係） | C10: 契約保証金納付報告書
A11: B08 | B11: 様式第２号（第８条関係） | C11: 契約保証金還付口座変更届
A12: B09 | B12: 様式第３号（第９条関係） | C12: 保証書に係る受領書
A13: B10 | B13: 様式第１号（第４条関係） | C13: 労働環境報告書 | D13: 工事担当課提出 JVの場合は各構成員毎に作成してください。
A14: B11 | B14: 様式第４号（第５条第３項関係） | C14: 労働環境改善報告書 | D14: 工事担当課提出 JVの場合は各構成員毎に作成してください。
A15: B12 | B15: 様式第２号（第１４条関係） | C15: 中間前金払・部分払選択届
A16: B13 | B16: 様式第１号（第５条関係） | C16: 債権譲渡承諾依頼書
A17: B14 | B17: 様式第２号（第５条関係） | C17: 工事履行報告書
A18: B15 | B18: 様式第４号（第９条関係） | C18: 債権譲渡通知書
A19: B16 | B19: ー | C19: 債権譲渡契約証書（参考）
A20: B17 | B20: 様式第５号（第１０条関係） | C20: 融資実行報告書
A21: B18 | B21: ー | C21: 工事請負請書 | D21: 工事担当課
A22: B19 | B22: ー | C22: 通知書 | D22: 建設業法第２０条の２第２項関係

Sheet 変更履歴
A1: 変更履歴（様式B JV用）
A2: 改定日 | B2: シート番号 | C2: 改定内容
A3: 46314 | C3: JV用様式B 新規作成
C4: <以下空白>

Sheet B01契約書
J1: 年度 第 | L1: 号 | N1: 入力シートへ戻る
D3: 建設工事請負契約書
N4: ※この様式集はJV用です。
A5: 1 | B5: 工事名 | E5: =IF(入力シート!C31="","「件名」が未入力です。",入力シート!C31) -> （例）本庁管内○○工事
A7: 2 | B7: 工事場所 | E7: =IF(入力シート!C32="","「工事箇所」が未入力です。",入力シート!C32) -> （例）前橋市表町２－２－２
A9: 3 | B9: 請負代金額 | E9: =IFERROR(IF(入力シート!C36="","「契約金額(税抜)」が未入力です。",入力シート!C37),"「契約金額(税抜)」が未入力です。") -> 「契約金額(税抜)」が未入力です。 | I9: 円
B11: うち取引に係る消費税及び地方消費税の額 | J11: =入力シート!C38 -> 0 | L11: 円
A13: 4 | B13: 工期 | E13: =IFERROR(IF(OR(入力シート!D34="",入力シート!F34="",入力シート!H34=""),"令和 年 月 日","令和"&入力シート!D34-2018&"年"&入力シート!F34&"月"&入力シート!H34&"日"),"令和 年 月 日") -> 令和 年 月 日 | G13: から | H13: =IFERROR(IF(OR(入力シート!D35="",入力シート!F35="",入力シート!H35=""),"令和 年 月 日","令和"&入力シート!D35-2018&"年"&入力シート!F35&"月"&入力シート!H35&"日"),"令和 年 月 日") -> 令和 年 月 日 | J13: まで
A15: 5 | B15: 契約保証金 | E15: 金 | F15: =IF(E15="免除","",IFERROR(IF(入力シート!C39="","「契約保証金」が未入力です。",入力シート!C39),"「契約保証金」が未入力です。")) -> 「契約保証金」が未入力です。 | H15: =IF(E15="金","円","") -> 円
A17: 6 | B17: 前金払の有無
A19: 7 | B19: 部分払の有無 | O19: 6前払の有無 ～ 9解体工事に要する費用等について
A21: 8 | B21: 建設発生土の | O21: プルダウンから該当するものを選択して入力してください。
B22: 搬出先等
A24: 9 | B24: 解体工事に
B25: 要する費用等
B27: 上記の工事について、発注者と受注者は、各々の対等な立場における合意に基づいて、別
A28: 添の条項によって公正な請負契約を締結し、信義に従って誠実にこれを履行するものと
A29: する。
B30: この契約の締結を証するため本書２通を作成し、当事者記名押印の上、各自1通を保有す
A31: る。
B33: =IFERROR(IF(OR(入力シート!D33="",入力シート!F33="",入力シート!H33=""),"令和 年 月 日","令和"&入力シート!D33-2018&"年"&入力シート!F33&"月"&入力シート!H33&"日"),"令和 年 月 日") -> 令和 年 月 日
G34: =IF(入力シート!C30="前橋市長","前橋市大手町二丁目12番1号",IF(入力シート!C30="前橋市公営企業管理者","前橋市岩神町三丁目13番15号",""))
F35: 発注者 | G35: =IF(入力シート!C30="前橋市長","前橋市",IF(入力シート!C30="前橋市公営企業管理者","前橋市公営企業管理者","入力シート「発注者」が未入力です。")) -> 入力シート「発注者」が未入力です。
G36: =IF(入力シート!C30="前橋市長","代表者 市長"&" "&入力シート!L30,IF(入力シート!C30="前橋市公営企業管理者",入力シート!L30,""))
F39: 受注者 | G39: =IF(入力シート!C15=""," 「共同企業体名」が未入力です。"," "&入力シート!C15) -> （例）○○・○○○・○○ 本庁管内 ○○○○○○○○○○○○○○○○○○工事特定建設工事共同企業体
F43: 代表者 | G43: 所在地 | I43: =IF(入力シート!C19=""," 代表者の「住所」が未入力です。"," "&入力シート!C19) -> （例）前橋市表町１－１－１
G44: 商号又は名称 | I44: =IF(入力シート!C16=""," 代表者の「会社名」が未入力です。"," "&入力シート!C16) -> （例）○○工業株式会社
G45: 代表者の氏名 | I45: =IF(入力シート!C18=""," 代表者の「代表者(氏名)」が未入力です。"," "&入力シート!C17&" "&入力シート!C18) -> （例）代表取締役 （例）前橋 太朗
F48: 構成員 | G48: 所在地 | I48: =IF(入力シート!C23=""," 構成員１の 「住所」が未入力です。"," "&入力シート!C23) -> （例）前橋市表町２－２－２
G49: 商号又は名称 | I49: =IF(入力シート!C20=""," 構成員１の「会社名」が未入力です。"," "&入力シート!C20) -> （例）株式会社○○○
G50: 代表者の氏名 | I50: =IF(入力シート!C22=""," 構成員１の「代表者(氏名)」が未入力です。"," "&入力シート!C21&" "&入力シート!C22) -> （例）代表取締役 （例）赤城 次郎
F53: =IF(入力シート!C24="","","構成員") | G53: =IF(入力シート!C24="","","所在地") | I53: =IF(入力シート!C24="",""," "&入力シート!C27)
G54: =IF(入力シート!C24="","","商号又は名称") | I54: =IF(入力シート!C24="",""," "&入力シート!C24)
G55: =IF(入力シート!C24="","","代表者の氏名") | I55: =IF(入力シート!C24="",""," "&入力シート!C25&" "&入力シート!C26)

Sheet B02解体工事（担当課確認用）
A1: 解体工事に要する費用等確認書 | T1: 入力シートへ戻る
Z2: ※この様式集はJV用です。
A3: =IF(入力シート!C30="前橋市長","（宛先）前橋市長",IF(入力シート!C30="前橋市公営企業管理者","（宛先）前橋市公営企業管理者","「発注者」が未入力です。")) -> 「発注者」が未入力です。
D4: 受注者 | G4: =IF(入力シート!C15="","「共同企業体名」が未入力です。",入力シート!C15) -> （例）○○・○○○・○○ 本庁管内 ○○○○○○○○○○○○○○○○○○工事特定建設工事共同企業体
G5: 所在地 | J5: =IF(入力シート!C46=入力シート!A16,入力シート!C19,IF(入力シート!C46=入力シート!A20,入力シート!C23,入力シート!C27)) -> （例）前橋市表町１－１－１ | T5: 【注意】本書類は必ず両面印刷で提出してください。
D6: =入力シート!B46 -> 代表者 | G6: 商号又は名称 | J6: =IF(入力シート!C46=入力シート!A16,入力シート!C16,IF(入力シート!C46=入力シート!A20,入力シート!C20,入力シート!C24)) -> （例）○○工業株式会社
G7: 代表者の氏名 | J7: =IF(入力シート!C46=入力シート!A16,入力シート!C17&入力シート!C18,IF(入力シート!C46=入力シート!A20,入力シート!C21&入力シート!C22,入力シート!C25&入力シート!C26)) -> （例）代表取締役（例）前橋 太朗
G8: 工事名 | J8: =IF(入力シート!C31="","「件名」が未入力です。",入力シート!C31) -> （例）本庁管内○○工事 | T8: ←下欄[発行責任者及び担当者]を入力しない場合は、
T9: 代表者印の押印が必要です。
A10: １ | B10: 分別解体等の方法（工事内容に応じて選択し、該当の枠内を記入する）
A11: 内 容 | B11: 工程 | F11: 作業内容 | M11: 分別解体等の方法 （土木工事は、解体工事のみ）
A12: □ | B12: 建築物以外のものの解体・新築等（土木工事等）
B13: 工程ごとの作業内容 及び解体方法 | C13: ①仮設 | F13: 仮設工事 | I13: □ | J13: 有 | K13: □ | L13: 無 | M13: □ | N13: 手作業 | O13: □ | P13: 手作業・機械の併用
C14: ②土工 | E14: ②土工 | F14: 土工事 | I14: □ | J14: 有 | K14: □ | L14: 無 | M14: □ | N14: 手作業 | O14: □ | P14: 手作業・機械の併用
C15: ③基礎 | E15: ③基礎 | F15: 基礎工事 | I15: □ | J15: 有 | K15: □ | L15: 無 | M15: □ | N15: 手作業 | O15: □ | P15: 手作業・機械の併用
C16: ④本体構造 | E16: ④本体構造 | F16: 本体構造の工事 | I16: □ | J16: 有 | K16: □ | L16: 無 | M16: □ | N16: 手作業 | O16: □ | P16: 手作業・機械の併用
C17: ⑤本体付属品 | E17: ⑤本体付属品 | F17: 本体付属品の工事 | I17: □ | J17: 有 | K17: □ | L17: 無 | M17: □ | N17: 手作業 | O17: □ | P17: 手作業・機械の併用
C18: ⑥その他( | E18: ) | F18: その他の工事 | I18: □ | J18: 有 | K18: □ | L18: 無 | M18: □ | N18: 手作業 | O18: □ | P18: 手作業・機械の併用 | V18: 該当するものにチェック（□→■）してください。
A19: □ | B19: 建築物の新築・増築
B20: 工程ごとの作業内容 及び解体方法 | C20: ①造成等 | F20: 造成等の工事 | I20: □ | J20: 有 | K20: □ | L20: 無 | M20: □ | N20: 手作業 | O20: □ | P20: 手作業・機械の併用
C21: ②基礎・基礎ぐい | F21: 基礎・基礎ぐいの工事 | I21: □ | J21: 有 | K21: □ | L21: 無 | M21: □ | N21: 手作業 | O21: □ | P21: 手作業・機械の併用
C22: ③上部構造部分・外装 | F22: 上部構造部分・外装の工事 | I22: □ | J22: 有 | K22: □ | L22: 無 | M22: □ | N22: 手作業 | O22: □ | P22: 手作業・機械の併用
C23: ④屋根 | F23: 屋根の工事 | I23: □ | J23: 有 | K23: □ | L23: 無 | M23: □ | N23: 手作業 | O23: □ | P23: 手作業・機械の併用
C24: ⑤建築設備・内装等 | F24: 建築設備・内装等の工事 | I24: □ | J24: 有 | K24: □ | L24: 無 | M24: □ | N24: 手作業 | O24: □ | P24: 手作業・機械の併用
C25: ⑥その他( | E25: ) | F25: その他の工事 | I25: □ | J25: 有 | K25: □ | L25: 無 | M25: □ | N25: 手作業 | O25: □ | P25: 手作業・機械の併用
A26: □ | B26: 建築物の解体、建築物の修繕・模様替（リフォーム等）
B27: 工程ごとの作業内容 及び解体方法 | C27: ①建築設備・内装材等 | F27: 建築設備・内装材等の 取外し | I27: □ | J27: 有 | K27: □ | L27: 無 | M27: □ | N27: 手作業 | O27: □ | P27: 手作業・機械の併用
N28: 併用の場合の理由 （ | R28: ）
C29: ②屋根ふき材 | F29: 屋根ふき材の取外し | I29: □ | J29: 有 | K29: □ | L29: 無 | M29: □ | N29: 手作業 | O29: □ | P29: 手作業・機械の併用
N30: 併用の場合の理由 （ | R30: ）
C31: ③外装材・上部構造 部分 | F31: 外装材・上部構造部分の 取壊し | I31: □ | J31: 有 | K31: □ | L31: 無 | M31: □ | N31: 手作業 | O31: □ | P31: 手作業・機械の併用
C32: ④基礎・基礎ぐい | F32: 基礎・基礎ぐいの取壊し | I32: □ | J32: 有 | K32: □ | L32: 無 | M32: □ | N32: 手作業 | O32: □ | P32: 手作業・機械の併用
C33: ⑤その他( | E33: ) | F33: その他の取壊し | I33: □ | J33: 有 | K33: □ | L33: 無 | M33: □ | N33: 手作業 | O33: □ | P33: 手作業・機械の併用
A35: ２ | B35: 解体工事に要する費用（解体工事の場合にのみ記載） | I35: 金 | Q35: 円 | T35: ←解体工事の場合は金額を入力してください。
B36: （受注者の見積金額） | I36: （消費税及び地方消費税の額を含む）
A38: ３ | B38: 再資源化等をするための施設の名称及び所在地 | I38: 裏面のとおり
A40: ４ | B40: 特定建設資材廃棄物の再資源化等に要する費用 | I40: 金 | Q40: 円
B41: （受注者の見積金額） | I41: （消費税及び地方消費税の額を含む）
A43: 再資源化等をするための施設の名称及び所在地
A44: 特定建設資材廃棄物の種類 | F44: 施設の名称 | K44: 施設の所在地
...

Sheet B03解体工事（契約書添付用）
A1: 解体工事に要する費用等 | S1: 入力シートへ戻る
Y2: ※この様式集はJV用です。
A3: １ | B3: 分別解体等の方法（工事内容に応じて選択し、該当の枠内を記入する）
A4: 内 容 | B4: 工程 | F4: 作業内容 | L4: 分別解体等の方法 （土木工事は、解体工事のみ） | T4: 【注意】本書類は必ず両面印刷で提出してください。
A5: ='B02解体工事（担当課確認用）'!A12 -> □ | B5: 建築物以外のものの解体・新築等（土木工事等）
B6: 工程ごとの作業内容 及び解体方法 | C6: ①仮設 | F6: 仮設工事 | H6: ='B02解体工事（担当課確認用）'!I13 -> □ | I6: 有 | J6: ='B02解体工事（担当課確認用）'!K13 -> □ | K6: 無 | L6: ='B02解体工事（担当課確認用）'!M13 -> □ | M6: 手作業 | N6: ='B02解体工事（担当課確認用）'!O13 -> □ | O6: 手作業・機械の併用
C7: ②土工 | E7: ②土工 | F7: 土工事 | H7: ='B02解体工事（担当課確認用）'!I14 -> □ | I7: 有 | J7: ='B02解体工事（担当課確認用）'!K14 -> □ | K7: 無 | L7: ='B02解体工事（担当課確認用）'!M14 -> □ | M7: 手作業 | N7: ='B02解体工事（担当課確認用）'!O14 -> □ | O7: 手作業・機械の併用
C8: ③基礎 | E8: ③基礎 | F8: 基礎工事 | H8: ='B02解体工事（担当課確認用）'!I15 -> □ | I8: 有 | J8: ='B02解体工事（担当課確認用）'!K15 -> □ | K8: 無 | L8: ='B02解体工事（担当課確認用）'!M15 -> □ | M8: 手作業 | N8: ='B02解体工事（担当課確認用）'!O15 -> □ | O8: 手作業・機械の併用
C9: ④本体構造 | E9: ④本体構造 | F9: 本体構造の工事 | H9: ='B02解体工事（担当課確認用）'!I16 -> □ | I9: 有 | J9: ='B02解体工事（担当課確認用）'!K16 -> □ | K9: 無 | L9: ='B02解体工事（担当課確認用）'!M16 -> □ | M9: 手作業 | N9: ='B02解体工事（担当課確認用）'!O16 -> □ | O9: 手作業・機械の併用
C10: ⑤本体付属品 | E10: ⑤本体付属品 | F10: 本体付属品の工事 | H10: ='B02解体工事（担当課確認用）'!I17 -> □ | I10: 有 | J10: ='B02解体工事（担当課確認用）'!K17 -> □ | K10: 無 | L10: ='B02解体工事（担当課確認用）'!M17 -> □ | M10: 手作業 | N10: ='B02解体工事（担当課確認用）'!O17 -> □ | O10: 手作業・機械の併用 | U10: 契約書添付用の書式です。
C11: ⑥その他( | D11: ='B02解体工事（担当課確認用）'!D18&"" | E11: ) | F11: その他の工事 | H11: ='B02解体工事（担当課確認用）'!I18 -> □ | I11: 有 | J11: ='B02解体工事（担当課確認用）'!K18 -> □ | K11: 無 | L11: ='B02解体工事（担当課確認用）'!M18 -> □ | M11: 手作業 | N11: ='B02解体工事（担当課確認用）'!O18 -> □ | O11: 手作業・機械の併用 | U11: B02（担当課確認用）の入力内容が反映されます。
A12: ='B02解体工事（担当課確認用）'!A19 -> □ | B12: 建築物の新築・増築
B13: 工程ごとの作業内容 及び解体方法 | C13: ①造成等 | F13: 造成等の工事 | H13: ='B02解体工事（担当課確認用）'!I20 -> □ | I13: 有 | J13: ='B02解体工事（担当課確認用）'!K20 -> □ | K13: 無 | L13: ='B02解体工事（担当課確認用）'!M20 -> □ | M13: 手作業 | N13: ='B02解体工事（担当課確認用）'!O20 -> □ | O13: 手作業・機械の併用
C14: ②基礎・基礎ぐい | F14: 基礎・基礎ぐいの工事 | H14: ='B02解体工事（担当課確認用）'!I21 -> □ | I14: 有 | J14: ='B02解体工事（担当課確認用）'!K21 -> □ | K14: 無 | L14: ='B02解体工事（担当課確認用）'!M21 -> □ | M14: 手作業 | N14: ='B02解体工事（担当課確認用）'!O21 -> □ | O14: 手作業・機械の併用
C15: ③上部構造部分・外装 | F15: 上部構造部分・外装の工事 | H15: ='B02解体工事（担当課確認用）'!I22 -> □ | I15: 有 | J15: ='B02解体工事（担当課確認用）'!K22 -> □ | K15: 無 | L15: ='B02解体工事（担当課確認用）'!M22 -> □ | M15: 手作業 | N15: ='B02解体工事（担当課確認用）'!O22 -> □ | O15: 手作業・機械の併用
C16: ④屋根 | F16: 屋根の工事 | H16: ='B02解体工事（担当課確認用）'!I23 -> □ | I16: 有 | J16: ='B02解体工事（担当課確認用）'!K23 -> □ | K16: 無 | L16: ='B02解体工事（担当課確認用）'!M23 -> □ | M16: 手作業 | N16: ='B02解体工事（担当課確認用）'!O23 -> □ | O16: 手作業・機械の併用
C17: ⑤建築設備・内装等 | F17: 建築設備・内装等の工事 | H17: ='B02解体工事（担当課確認用）'!I24 -> □ | I17: 有 | J17: ='B02解体工事（担当課確認用）'!K24 -> □ | K17: 無 | L17: ='B02解体工事（担当課確認用）'!M24 -> □ | M17: 手作業 | N17: ='B02解体工事（担当課確認用）'!O24 -> □ | O17: 手作業・機械の併用
C18: ⑥その他( | D18: ='B02解体工事（担当課確認用）'!D25&"" | E18: ) | F18: その他の工事 | H18: ='B02解体工事（担当課確認用）'!I25 -> □ | I18: 有 | J18: ='B02解体工事（担当課確認用）'!K25 -> □ | K18: 無 | L18: ='B02解体工事（担当課確認用）'!M25 -> □ | M18: 手作業 | N18: ='B02解体工事（担当課確認用）'!O25 -> □ | O18: 手作業・機械の併用
A19: ='B02解体工事（担当課確認用）'!A26 -> □ | B19: 建築物の解体、建築物の修繕・模様替（リフォーム等）
B20: 工程ごとの作業内容 及び解体方法 | C20: ①建築設備・内装材等 | F20: 建築設備・内装材等の 取外し | H20: ='B02解体工事（担当課確認用）'!I27 -> □ | I20: 有 | J20: ='B02解体工事（担当課確認用）'!K27 -> □ | K20: 無 | L20: ='B02解体工事（担当課確認用）'!M27 -> □ | M20: 手作業 | N20: ='B02解体工事（担当課確認用）'!O27 -> □ | O20: 手作業・機械の併用
M21: 併用の場合の理由 （ | P21: ='B02解体工事（担当課確認用）'!Q28&"" | Q21: ）
C22: ②屋根ふき材 | F22: 屋根ふき材の取外し | H22: ='B02解体工事（担当課確認用）'!I29 -> □ | I22: 有 | J22: ='B02解体工事（担当課確認用）'!K29 -> □ | K22: 無 | L22: ='B02解体工事（担当課確認用）'!M29 -> □ | M22: 手作業 | N22: ='B02解体工事（担当課確認用）'!O29 -> □ | O22: 手作業・機械の併用
M23: 併用の場合の理由 （ | P23: ='B02解体工事（担当課確認用）'!Q30&"" | Q23: ）
C24: ③外装材・上部構造 部分 | F24: 外装材・上部構造部分の 取壊し | H24: ='B02解体工事（担当課確認用）'!I31 -> □ | I24: 有 | J24: ='B02解体工事（担当課確認用）'!K31 -> □ | K24: 無 | L24: ='B02解体工事（担当課確認用）'!M31 -> □ | M24: 手作業 | N24: ='B02解体工事（担当課確認用）'!O31 -> □ | O24: 手作業・機械の併用
C25: ④基礎・基礎ぐい | F25: 基礎・基礎ぐいの取壊し | H25: ='B02解体工事（担当課確認用）'!I32 -> □ | I25: 有 | J25: ='B02解体工事（担当課確認用）'!K32 -> □ | K25: 無 | L25: ='B02解体工事（担当課確認用）'!M32 -> □ | M25: 手作業 | N25: ='B02解体工事（担当課確認用）'!O32 -> □ | O25: 手作業・機械の併用
C26: ⑤その他( | D26: ='B02解体工事（担当課確認用）'!D33&"" | E26: ) | F26: その他の取壊し | H26: ='B02解体工事（担当課確認用）'!I33 -> □ | I26: 有 | J26: ='B02解体工事（担当課確認用）'!K33 -> □ | K26: 無 | L26: ='B02解体工事（担当課確認用）'!M33 -> □ | M26: 手作業 | N26: ='B02解体工事（担当課確認用）'!O33 -> □ | O26: 手作業・機械の併用
A28: ２ | B28: 解体工事に要する費用（解体工事の場合にのみ記載） | H28: 金 | J28: =IF('B02解体工事（担当課確認用）'!K35="","",'B02解体工事（担当課確認用）'!K35) | P28: 円
B29: （受注者の見積金額） | H29: （消費税及び地方消費税の額を含む）
A31: ３ | B31: 再資源化等をするための施設の名称及び所在地 | H31: 裏面のとおり
A33: ４ | B33: 特定建設資材廃棄物の再資源化等に要する費用 | H33: 金 | J33: =IF('B02解体工事（担当課確認用）'!K40="","",'B02解体工事（担当課確認用）'!K40) | P33: 円
B34: （受注者の見積金額） | H34: （消費税及び地方消費税の額を含む）
A36: 再資源化等をするための施設の名称及び所在地
A37: 特定建設資材廃棄物の種類 | F37: 施設の名称 | J37: 施設の所在地
A38: ='B02解体工事（担当課確認用）'!A45&"" | F38: ='B02解体工事（担当課確認用）'!F45&"" | J38: ='B02解体工事（担当課確認用）'!K45&""
A39: ='B02解体工事（担当課確認用）'!A46&"" | F39: ='B02解体工事（担当課確認用）'!F46&"" | J39: ='B02解体工事（担当課確認用）'!K46&""
A40: ='B02解体工事（担当課確認用）'!A47&"" | F40: ='B02解体工事（担当課確認用）'!F47&"" | J40: ='B02解体工事（担当課確認用）'!K47&""
A41: ='B02解体工事（担当課確認用）'!A48&"" | F41: ='B02解体工事（担当課確認用）'!F48&"" | J41: ='B02解体工事（担当課確認用）'!K48&""
A42: ='B02解体工事（担当課確認用）'!A49&"" | F42: ='B02解体工事（担当課確認用）'!F49&"" | J42: ='B02解体工事（担当課確認用）'!K49&""
A43: ='B02解体工事（担当課確認用）'!A50&"" | F43: ='B02解体工事（担当課確認用）'!F50&"" | J43: ='B02解体工事（担当課確認用）'!K50&""
A44: ='B02解体工事（担当課確認用）'!A51&"" | F44: ='B02解体工事（担当課確認用）'!F51&"" | J44: ='B02解体工事（担当課確認用）'!K51&""
...

Sheet B04実務経験証明書（工事用）
D1: 実務経験証明書 | V1: 入力シートへ戻る
B2: 下記の者は、 | C2: （例）機械器具設置 | E2: 工事に関し、下記のとおり実務の経験を有することに相違ないことを証明します。
A4: =IFERROR(IF(OR(入力シート!D10="",入力シート!F10="",入力シート!H10=""),"年 月 日","令和"&入力シート!D10-2018&"年"&入力シート!F10&"月"&入力シート!H10&"日"),"年 月 日") -> 年 月 日 | V4: ※この様式集はJV用です。
H5: =IF(入力シート!C46=入力シート!A16,入力シート!C19,IF(入力シート!C46=入力シート!A20,入力シート!C23,入力シート!C27)) -> （例）前橋市表町１－１－１
A6: ="証明者（"&入力シート!B46&"）" -> 証明者（代表者） | H6: =IF(入力シート!C46=入力シート!A16,入力シート!C16,IF(入力シート!C46=入力シート!A20,入力シート!C20,入力シート!C24)) -> （例）○○工業株式会社
H7: =IF(入力シート!C46=入力シート!A16,入力シート!C17&入力シート!C18,IF(入力シート!C46=入力シート!A20,入力シート!C21&入力シート!C22,入力シート!C25&入力シート!C26)) -> （例）代表取締役（例）前橋 太朗 | V7: ←下欄[発行責任者及び担当者]を入力しない場合は、
A8: 記 | V8: 代表者印の押印が必要です。
A9: 技術者の氏名 | C9: （例）群馬 次郎 | F9: 生年月日 | G9: （例）昭和45年1月1日 | I9: 使用された 期間 | M9: （例）平成3 | O9: 年 | Q9: ="3" -> 3 | S9: 月 | T9: から
V10: ←雇用期間を書いてください。現在も雇用している場合は、
A11: 使用者の商号 又は名称 | C11: =IF(入力シート!C46=入力シート!A16,入力シート!C16,IF(入力シート!C46=入力シート!A20,入力シート!C20,入力シート!C24)) -> （例）○○工業株式会社 | O11: 年 | S11: 月 | T11: まで | V11: 二行目は不要です。
A13: 職名 | D13: 実務経験の内容 | L13: 実務経験年数
A14: （例）工事主任 | C14: （例）前橋リゾートマンション外構植栽工事 他３件 | I14: （例）平成3 | K14: 年 | L14: ="3" -> 3 | M14: 月から | O14: （例）平成3 | Q14: 年 | R14: ="2" -> 2 | S14: 月 | T14: まで | W14: ※実務経験年数について
K15: 年 | M15: 月から | Q15: 年 | S15: 月 | T15: まで | W15: 実務経験年数は重複しないようご注意ください。
K16: 年 | M16: 月から | Q16: 年 | S16: 月 | T16: まで
K17: 年 | M17: 月から | Q17: 年 | S17: 月 | T17: まで | W17: ※実務経験の内容について
K18: 年 | M18: 月から | Q18: 年 | S18: 月 | T18: まで | W18: その年の代表的工事の件名を記入し、その他の工事は
K19: 年 | M19: 月から | Q19: 年 | S19: 月 | T19: まで | W19: ※実務経験の内容について
K20: 年 | M20: 月から | Q20: 年 | S20: 月 | T20: まで | W20: その年の代表的工事の件名を記入し、その他の工事は
K21: 年 | M21: 月から | Q21: 年 | S21: 月 | T21: まで | W21: 「他〇件」として、１年分を１行にまとめてください。
K22: 年 | M22: 月から | Q22: 年 | S22: 月 | T22: まで | W22: （実務経験１０年で申請する場合は、１０行に記入する。）
K23: 年 | M23: 月から | Q23: 年 | S23: 月 | T23: まで
A24: 使用者の証明を得ることができない場合 | C24: その理由 | I24: 合計 | L24: 満 | Q24: 年 | T24: 月 | V24: ←実務経験年数の合計を記入してください。
I25: 証明者と被証 明者との関係 | N25: （例）社員
V26: ←証明者の立場からみた被証明者との関係を記入してください。
A27: 記載要領 | V27: 以前雇用していた社員の証明を行う場合は「元社員」、
A28: １ | B28: この証明書は、申請する建設工事の種類ごとに、技術者１人について、証明者別に作成すること。
A29: ２ | B29: 「実務経験の内容」の欄は、従事した主な工事名等を具体的に記載すること。 | V29: 代表者が本人の証明を行う場合は「本人」などと記入してください。
A30: 発行責任者及び担当者
A31: ・ | B31: 発行責任者 | C31: =入力シート!C11&"" | G31: （電話番号） | I31: =入力シート!C12&""
A32: ・ | B32: 担当者 | C32: =入力シート!C13&"" | G32: （電話番号） | I32: =入力シート!C14&""
V33: ←発行責任者とは、代表取締役又は支店長や営業所長等といった
V34: 社内において権限の委任を受けた役職者です。
V35: また、担当者とは、本件に関する事務を担当する者です。
V36: なお、発行責任者及び担当者は同一人物でも問題ありません。
V37: ※代表者印を押印する場合は、この欄は入力不要です。

Sheet B05兼任届
A1: 様式第１号（第５条関係） | Q1: 入力シートへ戻る
A2: 現場代理人兼任届出書
A3: =IFERROR(IF(OR(入力シート!D33="",入力シート!F33="",入力シート!H33=""),"年 月 日","令和"&入力シート!D33-2018&"年"&入力シート!F33&"月"&入力シート!H33&"日"),"年 月 日") -> 年 月 日
A4: =IF(入力シート!C30="前橋市長","（宛先）前橋市長",IF(入力シート!C30="前橋市公営企業管理者","（宛先）前橋市公営企業管理者","「発注者」が未入力です。")) -> 「発注者」が未入力です。 | Q4: ※この様式集はJV用です。
A5: 受注者 | G5: =IF(入力シート!C15="","「共同企業体名」が未入力です。",入力シート!C15) -> （例）○○・○○○・○○ 本庁管内 ○○○○○○○○○○○○○○○○○○工事特定建設工事共同企業体
G6: 所在地 | I6: =IF(入力シート!C46=入力シート!A16,入力シート!C19,IF(入力シート!C46=入力シート!A20,入力シート!C23,入力シート!C27)) -> （例）前橋市表町１－１－１
A7: =入力シート!B46 -> 代表者 | G7: 商号又は名称 | I7: =IF(入力シート!C46=入力シート!A16,入力シート!C16,IF(入力シート!C46=入力シート!A20,入力シート!C20,入力シート!C24)) -> （例）○○工業株式会社
G8: 代表者の氏名 | I8: =IF(入力シート!C46=入力シート!A16,入力シート!C17&入力シート!C18,IF(入力シート!C46=入力シート!A20,入力シート!C21&入力シート!C22,入力シート!C25&入力シート!C26)) -> （例）代表取締役（例）前橋 太朗
A10: 工事現場の運営、取り締まりの他、工事の施工(安全管理、工程管理等)及び契約関係事務や、 発注者との連絡に支障が生じると判断された場合、兼任の解除を指示されても異議ありません。
A12: 件名 | B12: =IF(入力シート!C31="","「件名」が未入力です。",入力シート!C31) -> （例）本庁管内○○工事
A13: 履行場所 | B13: =IF(入力シート!C32="","「工事箇所」が未入力です。",入力シート!C32) -> （例）前橋市表町２－２－２
A14: 履行期間 | B14: =IFERROR(IF(OR(入力シート!D34="",入力シート!F34="",入力シート!H34=""),"「着工日」が未入力です。","令和"&入力シート!D34-2018&"年"&入力シート!F34&"月"&入力シート!H34&"日"),"「着工日」が未入力です。") -> 「着工日」が未入力です。 | H14: から | I14: =IFERROR(IF(OR(入力シート!D35="",入力シート!F35="",入力シート!H35=""),"「完成予定日」が未入力です。","令和"&入力シート!D35-2018&"年"&入力シート!F35&"月"&入力シート!H35&"日"),"「完成予定日」が未入力です。") -> 「完成予定日」が未入力です。 | O14: まで
A15: 当初の請負代金額 | B15: 金 | G15: =IF(入力シート!C36="","「契約金額（税抜）」が未入力です。",入力シート!C37) -> 「契約金額（税抜）」が未入力です。 | K15: 円
A16: 工事担当課
A18: 上記工事の現場代理人は、下記工事の現場代理人と兼任し、現場に常駐できないため届出します。
A20: 現場代理人 | B20: 氏名
B21: 緊急時の連絡先
A22: 件名 | B22: 発注団体名 | G22: (例）前橋市長
B23: （例）本庁管内 ○○工事（第〇号）
A24: 履行場所
A25: 履行期間
A26: 当初の請負代金額 | B26: 金 | K26: 円
A27: 工事担当課
A28: 監督員氏名 | Q28: ←監督員の通知を受けている場合は監督員氏名を入力してください。
A30: 発行責任者及び担当者 | Q30: ←発行責任者とは、代表取締役又は支店長や営業所長等といった
A31: ・発行責任者 | C31: =入力シート!C11&"" | H31: （電話番号） | J31: =入力シート!C12&"" | Q31: 社内において権限の委任を受けた役職者です。
A32: ・担当者 | C32: =入力シート!C13&"" | H32: （電話番号） | J32: =入力シート!C14&"" | Q32: また、担当者とは、本件に関する事務を担当する者です。
A33: 注１ 現場代理人の常駐緩和を認めるのは、他の工事の現場代理人になる場合に限ります。 | Q33: なお、発行責任者及び担当者は同一人物でも問題ありません。
A34: 注２ 兼任する工事が複数となる場合は、別紙にて提出すること。 | Q34: ※代表者印を押印する場合は、この欄は入力不要です。

Sheet B06免税事業者届出書
A1: 様式第３号（第１７条関係） | J1: 入力シートへ戻る
A4: 免税事業者届出書
J5: ※この様式集はJV用です。
A6: =IFERROR(IF(OR(入力シート!D33="",入力シート!F33="",入力シート!H33=""),"年 月 日","令和"&入力シート!D33-2018&"年"&入力シート!F33&"月"&入力シート!H33&"日"),"年 月 日") -> 年 月 日
A7: =IF(入力シート!C30="前橋市長","（宛先）前橋市長",IF(入力シート!C30="前橋市公営企業管理者","（宛先）前橋市公営企業管理者","「発注者」が未入力です。")) -> 「発注者」が未入力です。
A8: 特定建設工事共同企業体の名称 | F8: =IF(入力シート!C15="","「共同企業体名」が未入力です。",入力シート!C15) -> （例）○○・○○○・○○ 本庁管内 ○○○○○○○○○○○○○○○○○○工事特定建設工事共同企業体
D9: 所在地 | F9: =IF(入力シート!C46=入力シート!A16,入力シート!C19,IF(入力シート!C46=入力シート!A20,入力シート!C23,入力シート!C27)) -> （例）前橋市表町１－１－１
C10: =入力シート!B46 -> 代表者 | D10: 商号又は名称 | F10: =IF(入力シート!C46=入力シート!A16,入力シート!C16,IF(入力シート!C46=入力シート!A20,入力シート!C20,入力シート!C24)) -> （例）○○工業株式会社
D11: 代表者の氏名 | F11: =IF(入力シート!C46=入力シート!A16,入力シート!C17&入力シート!C18,IF(入力シート!C46=入力シート!A20,入力シート!C21&入力シート!C22,入力シート!C25&入力シート!C26)) -> （例）代表取締役（例）前橋 太朗
A13: 下記の期間については、消費税及び地方消費税に係る免税事業者（消費税法第９条第１項本文及び地方税法第７２条の７８第１項の規定により消費税及び地方税を納める義務が免除される事業者）であるのでその旨を届け出ます。
A14: なお、課税又は免税事業者であるかの事実確認で、所轄税務署に提出した書類の写しの提出を求められたときは、速やかに提出いたします。
A16: 記
A18: 課税期間 | D18: 年 | F18: 月 | H18: 日から
D19: 年 | F19: 月 | H19: 日まで
A21: 発行責任者及び担当者 | J21: ←発行責任者とは、代表取締役又は支店長や営業所長等といった
A22: ・ | B22: 発行責任者 | C22: =入力シート!C11&"" | F22: （電話番号） | H22: =入力シート!C12&"" | J22: 社内において権限の委任を受けた役職者です。
A23: ・ | B23: 担当者 | C23: =入力シート!C13&"" | F23: （電話番号） | H23: =入力シート!C14&"" | J23: また、担当者とは、本件に関する事務を担当する者です。
J24: なお、発行責任者及び担当者は同一人物でも問題ありません。
J25: ※代表者印を押印する場合は、この欄は入力不要です。

Sheet B07契約保証金納付報告書
A1: 様式第１号（第８条関係） | P1: 入力シートへ戻る
A3: 契約保証金納付報告書
A4: =IFERROR(IF(OR(入力シート!D33="",入力シート!F33="",入力シート!H33=""),"年 月 日","令和"&入力シート!D33-2018&"年"&入力シート!F33&"月"&入力シート!H33&"日"),"年 月 日") -> 年 月 日 | P4: ※この様式集はJV用です。
A5: =IF(入力シート!C30="前橋市長","（宛先）前橋市長",IF(入力シート!C30="前橋市公営企業管理者","（宛先）前橋市公営企業管理者","「発注者」が未入力です。")) -> 「発注者」が未入力です。
A6: 特定建設工事共同企業体の名称 | K6: =IF(入力シート!C15="","「共同企業体名」が未入力です。",入力シート!C15) -> （例）○○・○○○・○○ 本庁管内 ○○○○○○○○○○○○○○○○○○工事特定建設工事共同企業体
H7: 所在地 | K7: =IF(入力シート!C46=入力シート!A16,入力シート!C19,IF(入力シート!C46=入力シート!A20,入力シート!C23,入力シート!C27)) -> （例）前橋市表町１－１－１
A8: =入力シート!B46 -> 代表者 | H8: 商号又は名称 | K8: =IF(入力シート!C46=入力シート!A16,入力シート!C16,IF(入力シート!C46=入力シート!A20,入力シート!C20,入力シート!C24)) -> （例）○○工業株式会社
H9: 代表者の氏名 | K9: =IF(入力シート!C46=入力シート!A16,入力シート!C17&入力シート!C18,IF(入力シート!C46=入力シート!A20,入力シート!C21&入力シート!C22,入力シート!C25&入力シート!C26)) -> （例）代表取締役（例）前橋 太朗 | P9: ←下欄[発行責任者及び担当者]を入力しない場合は、
P10: 代表者印の押印が必要です。
A11: 契約保証金を納付したので、当該領収書の写しを添付の上、報告します。 なお、完成引渡後は、当該契約保証金を下記の口座に振り込んでください。
A13: 記
A15: １ | B15: 件名 | H15: =IF(入力シート!C31="","「件名」が未入力です。",入力シート!C31) -> （例）本庁管内○○工事
A16: ２ | B16: 契約金額 | H16: 金 | I16: =IF(入力シート!C36="","「契約金額（税抜）」が未入力です。",入力シート!C37) -> 「契約金額（税抜）」が未入力です。 | M16: 円
A17: ３ | B17: 納付した契約保証金の額 | H17: 金 | I17: =IF(入力シート!C39="","「契約保証金」が未入力です。",入力シート!C39) -> 「契約保証金」が未入力です。 | M17: 円
A18: ４ | B18: 契約保証金の還付口座
B19: 口座名 | C19: カナ
C20: 漢字
B21: 口座番号 | F21: 銀行 | J21: 支店 | L21: １ 普通№
B24: 契約番号※ | L24: 担当者確認印※
A26: 発行責任者及び担当者 | P26: ←発行責任者とは、代表取締役又は支店長や営業所長等といった
A27: ・ | B27: 発行責任者 | E27: =入力シート!C11&"" | K27: （電話番号） | M27: =入力シート!C12&"" | P27: 社内において権限の委任を受けた役職者です。
A28: ・ | B28: 担当者 | E28: =入力シート!C13&"" | K28: （電話番号） | M28: =入力シート!C14&"" | P28: また、担当者とは、本件に関する事務を担当する者です。
P29: なお、発行責任者及び担当者は同一人物でも問題ありません。
P30: ※代表者印を押印する場合は、この欄は入力不要です。

Sheet B08契約保証金還付口座変更届
A1: 様式第２号（第８条関係） | Q1: 入力シートへ戻る
A3: 契約保証金還付口座変更届
M4: =IFERROR(IF(OR(入力シート!D10="",入力シート!F10="",入力シート!H10=""),"年 月 日","令和"&入力シート!D10-2018&"年"&入力シート!F10&"月"&入力シート!H10&"日"),"年 月 日") -> 年 月 日 | Q4: ※この様式集はJV用です。
A5: =IF(入力シート!C30="前橋市長","（宛先）前橋市長",IF(入力シート!C30="前橋市公営企業管理者","（宛先）前橋市公営企業管理者","「発注者」が未入力です。")) -> 「発注者」が未入力です。
A6: 特定建設工事共同企業体の名称 | M6: =IF(入力シート!C15="","「共同企業体名」が未入力です。",入力シート!C15) -> （例）○○・○○○・○○ 本庁管内 ○○○○○○○○○○○○○○○○○○工事特定建設工事共同企業体
I7: 所在地 | M7: =IF(入力シート!C46=入力シート!A16,入力シート!C19,IF(入力シート!C46=入力シート!A20,入力シート!C23,入力シート!C27)) -> （例）前橋市表町１－１－１
A8: =入力シート!B46 -> 代表者 | I8: 商号又は名称 | M8: =IF(入力シート!C46=入力シート!A16,入力シート!C16,IF(入力シート!C46=入力シート!A20,入力シート!C20,入力シート!C24)) -> （例）○○工業株式会社
I9: 代表者の氏名 | M9: =IF(入力シート!C46=入力シート!A16,入力シート!C17&入力シート!C18,IF(入力シート!C46=入力シート!A20,入力シート!C21&入力シート!C22,入力シート!C25&入力シート!C26)) -> （例）代表取締役（例）前橋 太朗 | Q9: ←下欄[発行責任者及び担当者]を入力しない場合は、
Q10: 代表者印の押印が必要です。
C11: =IFERROR(IF(OR(入力シート!D33="",入力シート!F33="",入力シート!H33=""),"年 月 日","令和"&入力シート!D33-2018&"年"&入力シート!F33&"月"&入力シート!H33&"日"),"年 月 日") -> 年 月 日 | G11: 付けで提出した契約保証金納付報告書について、下記のとおり
B12: 契約保証金の還付口座を変更するので、届け出ます。
A14: 記
A16: １ | B16: 変更後の契約保証金の還付口座
B17: 口座名 | D17: カナ
D18: 漢字
B19: 口座番号 | G19: 銀行 | K19: 支店 | M19: １ 普通№
A22: ２ | B22: 件名 | H22: =IF(入力シート!C31="","「件名」が未入力です。",入力シート!C31) -> （例）本庁管内○○工事
B24: 契約番号※ | M24: 担当者確認印※
B25: ※印は記入不要
A27: 発行責任者及び担当者 | Q27: ←発行責任者とは、代表取締役又は支店長や営業所長等といった
A28: ・ | B28: 発行責任者 | F28: =入力シート!C11&"" | L28: （電話番号） | N28: =入力シート!C12&"" | Q28: 社内において権限の委任を受けた役職者です。
A29: ・ | B29: 担当者 | F29: =入力シート!C13&"" | L29: （電話番号） | N29: =入力シート!C14&"" | Q29: また、担当者とは、本件に関する事務を担当する者です。
Q30: なお、発行責任者及び担当者は同一人物でも問題ありません。
Q31: ※代表者印を押印する場合は、この欄は入力不要です。

Sheet B09保証書に係る受領書
A1: 様式第３号（第９条関係） | M1: 入力シートへ戻る
A3: 保証書に係る受領書
M4: ※この様式集はJV用です。
G5: =IFERROR(IF(OR(入力シート!D10="",入力シート!F10="",入力シート!H10=""),"年 月 日","令和"&入力シート!D10-2018&"年"&入力シート!F10&"月"&入力シート!H10&"日"),"年 月 日") -> 年 月 日
A6: =IF(入力シート!C30="前橋市長","（宛先）前橋市長",IF(入力シート!C30="前橋市公営企業管理者","（宛先）前橋市公営企業管理者","「発注者」が未入力です。")) -> 「発注者」が未入力です。
A7: 特定建設工事共同企業体の名称 | H7: =IF(入力シート!C15="","「共同企業体名」が未入力です。",入力シート!C15) -> （例）○○・○○○・○○ 本庁管内 ○○○○○○○○○○○○○○○○○○工事特定建設工事共同企業体
F8: 所在地 | H8: =IF(入力シート!C46=入力シート!A16,入力シート!C19,IF(入力シート!C46=入力シート!A20,入力シート!C23,入力シート!C27)) -> （例）前橋市表町１－１－１
A9: =入力シート!B46 -> 代表者 | F9: 商号又は名称 | H9: =IF(入力シート!C46=入力シート!A16,入力シート!C16,IF(入力シート!C46=入力シート!A20,入力シート!C20,入力シート!C24)) -> （例）○○工業株式会社
F10: 代表者の氏名 | H10: =IF(入力シート!C46=入力シート!A16,入力シート!C17&入力シート!C18,IF(入力シート!C46=入力シート!A20,入力シート!C21&入力シート!C22,入力シート!C25&入力シート!C26)) -> （例）代表取締役（例）前橋 太朗 | M10: ←下欄[発行責任者及び担当者]を入力しない場合は、
M11: 代表者印の押印が必要です。
A12: 契約の締結時に提出した保証書（保証内容変更契約書がある場合は、当該保証内容
A13: 変更契約書を含む。）を受領したので、銀行等に返還すること、及び今後、保証書の
A14: 滅失、き損等について一切の責任を負うことを約します。
A16: 記
A18: １ | B18: 件名 | D18: =IF(入力シート!C31="","「件名」が未入力です。",入力シート!C31) -> （例）本庁管内○○工事
A20: ２ | B20: 契約金額 | D20: 金 | E20: =IF(入力シート!C36="","「契約金額（税抜）」が未入力です。",入力シート!C37) -> 「契約金額（税抜）」が未入力です。 | H20: 円
A22: 発行責任者及び担当者 | M22: ←発行責任者とは、代表取締役又は支店長や営業所長等といった
A23: ・ | B23: 発行責任者 | D23: =入力シート!C11&"" | G23: （電話番号） | J23: =入力シート!C12&"" | M23: 社内において権限の委任を受けた役職者です。
A24: ・ | B24: 担当者 | D24: =入力シート!C13&"" | G24: （電話番号） | J24: =入力シート!C14&"" | M24: また、担当者とは、本件に関する事務を担当する者です。
M25: なお、発行責任者及び担当者は同一人物でも問題ありません。
M26: ※代表者印を押印する場合は、この欄は入力不要です。

Sheet B10労働環境報告書
A1: 様式第１号（第４条関係） | P1: 入力シートへ戻る
D3: 労働環境報告書
P4: ※JVの場合、各会社から提出が必要です。
K5: =IFERROR(IF(OR(入力シート!D10="",入力シート!F10="",入力シート!H10=""),"年 月 日","令和"&入力シート!D10-2018&"年"&入力シート!F10&"月"&入力シート!H10&"日"),"年 月 日") -> 年 月 日
A6: =IF(入力シート!C30="前橋市長","（宛先）前橋市長",IF(入力シート!C30="前橋市公営企業管理者","（宛先）前橋市公営企業管理者","「発注者」が未入力です。")) -> 「発注者」が未入力です。
G7: 件名 | I7: =IF(入力シート!C31="","「件名」が未入力です。",入力シート!C31) -> （例）本庁管内○○工事 | P7: 共同企業体名は入力不要です。
I8: 所在地 | J8: =IF(入力シート!C46=入力シート!A16,入力シート!C19,IF(入力シート!C46=入力シート!A20,入力シート!C23,入力シート!C27)) -> （例）前橋市表町１－１－１
G9: 受注者 | I9: 商号又は名称 | J9: =IF(入力シート!C46=入力シート!A16,入力シート!C16,IF(入力シート!C46=入力シート!A20,入力シート!C20,入力シート!C24)) -> （例）○○工業株式会社
I10: 代表者の氏名 | J10: =IF(入力シート!C46=入力シート!A16,入力シート!C17&入力シート!C18,IF(入力シート!C46=入力シート!A20,入力シート!C21&入力シート!C22,入力シート!C25&入力シート!C26)) -> （例）代表取締役（例）前橋 太朗 | Q10: ←下欄[発行責任者及び担当者]を入力しない場合は、
Q11: 代表者印の押印が必要です。
A12: 区 分 | C12: 項 目 | L12: 回 答
A13: 労働条件 | C13: (1)労働契約・雇用契約の締結に際し、労働者に対して賃金、始動時間、就業時間、時間外労働の有無等その他の労働条件を文書で明示していますか。 | L13: □ | M13: はい
L14: □ | M14: いいえ
C15: (2)就業規則を作成し、適正な方法で周知していますか。 また、事業場単位で労働者が10人以上いる場合は、労働基準監督署に届出されていますか。 | L15: □ | M15: はい
L16: □ | M16: いいえ
C17: (3)３６協定が労働基準監督署に届出されていますか。また、３６協定を含め労使協定の締結・運用は適正ですか。 | L17: □ | M17: はい
L18: □ | M18: いいえ
A19: 労働時間 | C19: (4)労働者が働いた実際の労働時間を適正に把握し、記録していますか。 | L19: □ | M19: はい
L20: □ | M20: いいえ
C21: (5)有給休暇・休日を適切に付与していますか。 | L21: □ | M21: はい
L22: □ | M22: いいえ | S22: 該当するものにチェック（□→■）してください。
A23: 賃金 | C23: (6)時間外、休日等に労働させた場合、適正な割増賃金を支払っていますか。 | L23: □ | M23: はい
L24: □ | M24: いいえ
C25: (7)賃金について、通貨で全額を、労働者に直接、毎月１回以上、一定期日を定めて支払っていますか。 | L25: □ | M25: はい
L26: □ | M26: いいえ
C27: (8)当該契約に従事する従業員で最も低い労働時間単価はいくらですか（下請等を含む。）。 | L27: 時間額
N28: 円 | S28: ←(8)は金額を入力してください。
A29: 安全衛生 | C29: (9)事業主は労働者に対して安全配慮義務がありますが、安全衛生管理体制は、適正に整備、運用していますか。 | L29: □ | M29: はい
L30: □ | M30: いいえ
C31: (10)労働安全衛生法に基づく健康診断を適正に実施していますか。 | L31: □ | M31: はい
L32: □ | M32: いいえ
A33: 各種保険 | C33: (11)労働保険の加入及び社会保険の加入等の手続きを適正に行っていますか。 | L33: □ | M33: はい
L34: □ | M34: いいえ
B36: 「いいえ」に■をつけた場合は設問番号とその理由を記入してください。
A37: 設問番号 | C37: 理由
A44: 発行責任者及び担当者 | P44: ←発行責任者とは、代表取締役又は支店長や営業所長等といった
A45: ・ | B45: 発行責任者 | D45: =入力シート!C11&"" | I45: （電話番号） | K45: =入力シート!C12&"" | P45: 社内において権限の委任を受けた役職者です。
A46: ・ | B46: 担当者 | D46: =入力シート!C13&"" | I46: （電話番号） | K46: =入力シート!C14&"" | P46: また、担当者とは、本件に関する事務を担当する者です。
P47: なお、発行責任者及び担当者は同一人物でも問題ありません。
B48: 注１ 回答欄のいずれかの□を■にすること。 | P48: ※代表者印を押印する場合は、この欄は入力不要です。
...

Sheet B11改善報告書
A1: 様式第４号（第５条第３項関係） | Q1: 入力シートへ戻る
E3: 労働環境改善報告書
A5: =IFERROR(IF(OR(入力シート!D10="",入力シート!F10="",入力シート!H10=""),"年 月 日","令和"&入力シート!D10-2018&"年"&入力シート!F10&"月"&入力シート!H10&"日"),"年 月 日") -> 年 月 日
A7: =IF(入力シート!C30="前橋市長","（宛先）前橋市長",IF(入力シート!C30="前橋市公営企業管理者","（宛先）前橋市公営企業管理者","「発注者」が未入力です。")) -> 「発注者」が未入力です。
K9: 所在地 | M9: =IF(入力シート!C46=入力シート!A16,入力シート!C19,IF(入力シート!C46=入力シート!A20,入力シート!C23,入力シート!C27)) -> （例）前橋市表町１－１－１
J10: 受注者 | K10: 商号又は名称 | M10: =IF(入力シート!C46=入力シート!A16,入力シート!C16,IF(入力シート!C46=入力シート!A20,入力シート!C20,入力シート!C24)) -> （例）○○工業株式会社
K11: 代表者の氏名 | M11: =IF(入力シート!C46=入力シート!A16,入力シート!C17&入力シート!C18,IF(入力シート!C46=入力シート!A20,入力シート!C21&入力シート!C22,入力シート!C25&入力シート!C26)) -> （例）代表取締役（例）前橋 太朗 | Q11: ←下欄[発行責任者及び担当者]を入力しない場合は、
Q12: 代表者印の押印が必要です。
B13: 令和 | D13: 年 | F13: 月 | H13: 日 | I13: ="付労働環境改善通知書で通知された、"&LEFT(IF(入力シート!C31="","「件名」が未入力です。",入力シート!C31),9) -> 付労働環境改善通知書で通知された、（例）本庁管内○○
A14: =RIGHT(IF(入力シート!C31="","「件名」が未入力です。",入力シート!C31),LEN(IF(入力シート!C31="","「件名」が未入力です。",入力シート!C31))-9)&"に係る指示内容については、下記のとおり改善いたしましたので報告いたします。" -> 工事に係る指示内容については、下記のとおり改善いたしましたので報告いたします。
A16: 記
A18: 区分 | I18: 改善措置の内容 | N18: 措置日
A22: 発行責任者及び担当者 | Q22: ←発行責任者とは、代表取締役又は支店長や営業所長等といった
A23: ・ | B23: 発行責任者 | H23: =入力シート!C11&"" | M23: （電話番号） | O23: =入力シート!C12&"" | Q23: 社内において権限の委任を受けた役職者です。
A24: ・ | B24: 担当者 | H24: =入力シート!C13&"" | M24: （電話番号） | O24: =入力シート!C14&"" | Q24: また、担当者とは、本件に関する事務を担当する者です。
Q25: なお、発行責任者及び担当者は同一人物でも問題ありません。
Q26: ※代表者印を押印する場合は、この欄は入力不要です。

Sheet B12中間前金払・部分払選択届
A1: 様式第２号（第１４条関係） | R1: 入力シートへ戻る
A2: =IFERROR(IF(OR(入力シート!D2="",入力シート!F2="",入力シート!H2=""),"年 月 日",TEXT(DATE(入力シート!D2,入力シート!F2,入力シート!H2),"ggge年M月ｄ日")),"年 月 日") -> 年 月 日
A3: =IF(入力シート!C30="前橋市長","（宛先）前橋市長",IF(入力シート!C30="前橋市公営企業管理者","（宛先）前橋市公営企業管理者","「発注者」が未入力です。")) -> 「発注者」が未入力です。
G4: 受注者 | J4: =IF(入力シート!C15="","「共同企業体名」が未入力です。",入力シート!C15) -> （例）○○・○○○・○○ 本庁管内 ○○○○○○○○○○○○○○○○○○工事特定建設工事共同企業体 | R4: ※この様式集はJV用です。
J5: 所在地 | M5: =IF(入力シート!C46=入力シート!A16,入力シート!C19,IF(入力シート!C46=入力シート!A20,入力シート!C23,入力シート!C27)) -> （例）前橋市表町１－１－１
G6: =入力シート!B46 -> 代表者 | J6: 商号又は名称 | M6: =IF(入力シート!C46=入力シート!A16,入力シート!C16,IF(入力シート!C46=入力シート!A20,入力シート!C20,入力シート!C24)) -> （例）○○工業株式会社
J7: 代表者の氏名 | M7: =IF(入力シート!C46=入力シート!A16,入力シート!C17&入力シート!C18,IF(入力シート!C46=入力シート!A20,入力シート!C21&入力シート!C22,入力シート!C25&入力シート!C26)) -> （例）代表取締役（例）前橋 太朗 | S7: ←下欄[発行責任者及び担当者]を入力しない場合は、
S8: 代表者印の押印が必要です。
C9: 中間前金払・部分払選択届
I11: □ | J11: 中間前金払 | S11: ←該当するものにチェック（□→■）してください。
B12: 下記工事については、 | M12: を選択します。
I13: □ | J13: 部分払
A15: 記
A17: 工事名 | F17: =IF(入力シート!C31="","「件名」が未入力です。",入力シート!C31) -> （例）本庁管内○○工事
A18: 工事場所 | F18: =IF(入力シート!C32="","「工事箇所」が未入力です。",入力シート!C32) -> （例）前橋市表町２－２－２
A19: 契約年月日 | F19: =IFERROR(IF(OR(入力シート!D33="",入力シート!F33="",入力シート!H33=""),"「契約日」が未入力です。","令和"&入力シート!D33-2018&"年"&入力シート!F33&"月"&入力シート!H33&"日"),"「契約日」が未入力です。") -> 「契約日」が未入力です。
A20: 請負代金額 | F20: 金 | H20: =IFERROR(IF(入力シート!C36="","「契約金額(税抜)」が未入力です。",入力シート!C37),"「契約金額(税抜)」が未入力です。") -> 「契約金額(税抜)」が未入力です。 | O20: 円
A21: 工期 | F21: =IFERROR(IF(OR(入力シート!D34="",入力シート!F34="",入力シート!H34=""),"「着工日」が未入力です。","令和"&入力シート!D34-2018&"年"&入力シート!F34&"月"&入力シート!H34&"日"),"「着工日」が未入力です。") -> 「着工日」が未入力です。 | K21: から | M21: =IFERROR(IF(OR(入力シート!D35="",入力シート!F35="",入力シート!H35=""),"「完成予定日」が未入力です。","令和"&入力シート!D35-2018&"年"&入力シート!F35&"月"&入力シート!H35&"日"),"「完成予定日」が未入力です。") -> 「完成予定日」が未入力です。 | P21: まで
A23: 発行責任者及び担当者 | R23: ←発行責任者とは、代表取締役又は支店長や営業所長等といった
A24: ・ | B24: 発行責任者 | H24: =入力シート!C11&"" | M24: （電話番号） | O24: =入力シート!C12&"" | R24: 社内において権限の委任を受けた役職者です。
A25: ・ | B25: 担当者 | H25: =入力シート!C13&"" | M25: （電話番号） | O25: =入力シート!C14&"" | R25: また、担当者とは、本件に関する事務を担当する者です。
A26: （注） | C26: １ | E26: 中間前金払または部分払のどちらか一方を選択してください。 | R26: なお、発行責任者及び担当者は同一人物でも問題ありません。
C27: ２ | E27: 契約締結後は、選択した支払方法の変更はできません。 | R27: ※代表者印を押印する場合は、この欄は入力不要です。

Sheet B18工事請負請書
D1: 工事請負請書 | N1: 入力シートへ戻る
A3: 1 | B3: 工事名 | E3: =IF(入力シート!C31="","「件名」が未入力です。",入力シート!C31) -> （例）本庁管内○○工事
A4: 2 | B4: 契約番号 | E4: 令和 | G4: 年度 | H4: 第 | J4: 号 | N4: ※この様式集はJV用です。
A5: 3 | B5: 工事場所 | E5: =IF(入力シート!C32="","「工事箇所」が未入力です。",入力シート!C32) -> （例）前橋市表町２－２－２
A6: 4 | B6: 工期 | E6: =IFERROR(IF(OR(入力シート!D34="",入力シート!F34="",入力シート!H34=""),"令和 年 月 日","令和"&入力シート!D34-2018&"年"&入力シート!F34&"月"&入力シート!H34&"日"),"令和 年 月 日") -> 令和 年 月 日 | G6: から | H6: =IFERROR(IF(OR(入力シート!D35="",入力シート!F35="",入力シート!H35=""),"令和 年 月 日","令和"&入力シート!D35-2018&"年"&入力シート!F35&"月"&入力シート!H35&"日"),"令和 年 月 日") -> 令和 年 月 日 | J6: まで
A7: 5 | B7: 請負代金額 | E7: =IFERROR(IF(入力シート!C36="","「契約金額(税抜)」が未入力です。",入力シート!C37),"「契約金額(税抜)」が未入力です。") -> 「契約金額(税抜)」が未入力です。 | I7: 円
B8: うち取引に係る消費税及び地方消費税の額 | J8: =入力シート!C38 -> 0 | L8: 円
B10: 上記の工事について、次の事項を守り、信義に従って誠実にこれを施工することを請け負います。
A11: 1 | B11: 頭書の工事を、頭書の工期内に別冊の設計書、図面及び仕様書(以下これらを「設計図書」とい
B12: う。)に基づき完成すること。
A13: 2 | B13: この契約によって生ずる権利義務を、発注者の承認を得ることなく第三者に譲渡し、又は承継し
B14: ないこと。
A15: 3 | B15: 工事の施工に関しては、すべて、発注者の指定した監督員(以下「監督員」という。)の指揮監督
B16: に従うこと。
A17: 4 | B17: 工事の使用材料は、使用前に監督員の検査を受け、合格したものを使用すること。検査の結果不
B18: 合格となった材料は、直ちに引き取ること。
A19: 5 | B19: 水中又は地下に埋設する工事その他完成後外部から確認できない工事を施工するときは、監督員
B20: の立会いの下に施工すること。
A21: 6 | B21: 工事の施工が設計図書に適合しない場合において、発注者又は監督員から設計図書に基づく改造
B22: の請求があったときは、これに従うこと。この場合において、請負代金額の増額又は工期の延長
B23: の請求はできないこと。
A24: 7 | B24: 受注者の責めに帰する理由により、頭書の工期内に工事を完成することができないときは、その
B25: 理由を明らかにして工期内に届け出ること。この場合において、工期を超えて完成する見込みが
B26: あるときは、延期の期間を明らかにして発注者の承認を受け、遅滞違約金(請負代金額から出来形
B27: 部分に相応する請負代金額を控除した額につき、遅延日数に応じ、契約日における政府契約の支払
B28: 遅延防止等に関する法律（昭和24年法律第256号）第8条第1項の規定に基づき財務大臣が決定する
B29: 遅延利息の率（年当たりの割合は、閏（じゅん）年の日を含む期間についても365日当たりの割合
B30: とする。）を乗じて計算した額)を支払い、工事を完成すること。
A31: 8 | B31: 受注者の責めに帰する理由により、この契約が解除されたときは、違約金として、請負代金額の
B32: 10分の1に相当する額を発注者の指定する期間内に支払うこと。
A33: 9 | B33: 工事が完成したときは、書面で通知し、検査に合格した工事の目的物は直ちに引き渡すこと。
A34: 10 | B34: 本書に定めのない事項については、建設工事請負契約約款の定めによるほか、必要に応じて、
B35: 発注者と受注者が協議して定める。
B37: =IFERROR(IF(OR(入力シート!D33="",入力シート!F33="",入力シート!H33=""),"令和 年 月 日","令和"&入力シート!D33-2018&"年"&入力シート!F33&"月"&入力シート!H33&"日"),"令和 年 月 日") -> 令和 年 月 日
A39: =IF(入力シート!C30="前橋市長","（宛先）前橋市長",IF(入力シート!C30="前橋市公営企業管理者","（宛先）前橋市公営企業管理者","「発注者」が未入力です。")) -> 「発注者」が未入力です。
F41: 受注者 | G41: 商号又は名称 | I41: =IF(入力シート!C15=""," 「共同企業体名」が未入力です。"," "&入力シート!C15) -> （例）○○・○○○・○○ 本庁管内 ○○○○○○○○○○○○○○○○○○工事特定建設工事共同企業体
G42: 所在地 | I42: =IF(入力シート!C19=""," 代表者の「住所」が未入力です。"," "&入力シート!C19) -> （例）前橋市表町１－１－１
F43: 代表者 | G43: 商号又は名称 | I43: =IF(入力シート!C16=""," 代表者の「会社名」が未入力です。"," "&入力シート!C16) -> （例）○○工業株式会社 | N43: ←下欄[発行責任者及び担当者]を入力しない場合は、
G44: 代表者の氏名 | I44: =IF(入力シート!C18=""," 代表者の「代表者(氏名)」が未入力です。"," "&入力シート!C17&" "&入力シート!C18) -> （例）代表取締役 （例）前橋 太朗 | N44: 代表者印の押印が必要です。
G46: 所在地 | I46: =IF(入力シート!C23=""," 構成員１の 「住所」が未入力です。"," "&入力シート!C23) -> （例）前橋市表町２－２－２
...

Sheet B19通知書
P1: 入力シートへ戻る
A2: =IFERROR(IF(OR(入力シート!D10="",入力シート!F10="",入力シート!H10=""),"年 月 日","令和"&入力シート!D10-2018&"年"&入力シート!F10&"月"&入力シート!H10&"日"),"年 月 日") -> 年 月 日
A3: =IF(入力シート!C30="前橋市長","（宛先）前橋市長",IF(入力シート!C30="前橋市公営企業管理者","（宛先）前橋市公営企業管理者","「発注者」が未入力です。")) -> 「発注者」が未入力です。
P4: ※この様式集はJV用です。
I5: 名称 | L5: =IF(入力シート!C15="","「会社名」が未入力です。",入力シート!C15) -> （例）○○・○○○・○○ 本庁管内 ○○○○○○○○○○○○○○○○○○工事特定建設工事共同企業体
I6: 所在地 | L6: =IF(入力シート!C46=入力シート!A16,入力シート!C19,IF(入力シート!C46=入力シート!A20,入力シート!C23,入力シート!C27)) -> （例）前橋市表町１－１－１
A7: 代表者 | I7: 商号又は名称 | L7: =IF(入力シート!C46=入力シート!A16,入力シート!C16,IF(入力シート!C46=入力シート!A20,入力シート!C20,入力シート!C24)) -> （例）○○工業株式会社
I8: 代表者名 | L8: =IF(入力シート!C46=入力シート!A16,入力シート!C17&入力シート!C18,IF(入力シート!C46=入力シート!A20,入力シート!C21&入力シート!C22,入力シート!C25&入力シート!C26)) -> （例）代表取締役（例）前橋 太朗
A10: 通知書
B12: 下記のとおり、建設業法第２０条の２第２項に基づき、発生するおそれがあると認める
A13: 工期又は請負代金の額に影響を及ぼす事象に関する情報を通知します。
A15: 記
A17: 工事名 | F17: ： | H17: =IF(入力シート!C31="","「件名」が未入力です。",入力シート!C31) -> （例）本庁管内○○工事
B19: 主要な資機材の供給の不足若しくは遅延又は資機材の価格の高騰
B20: （建設業法施行規則第１３条の１４第２項第１号）
B22: 発生するおそれのある事象 | I22: : | J22: （例）○○地震の復旧工事の本格化による交通誘導員の不足
H23: ※
B24: 上記事象の状況の把握のため 必要な情報の入手先 | I24: : | J24: （例）報道等のURL を記載又はファイルを別添
B26: ※ | C26: 天災その他自然的又は人為的な事象により生じる発注者と受注者の双方の責めに帰することができないものを記載
B29: 特定の建設工事の種類における労務の供給の不足又は価格の高騰
B30: （建設業法施行規則第１３条の１４第２項第２号）
B32: 発生するおそれのある事象 | I32: : | J32: （例）○○地震の復旧工事の本格化による交通誘導員の不足
H33: ※
B34: 上記事象の状況の把握のため 必要な情報の入手先 | I34: : | J34: （例）報道等のURL を記載又はファイルを別添
B36: ※ | C36: 天災その他自然的又は人為的な事象により生じる発注者と受注者の双方の責めに帰することができないものを記載
A38: 以上
B39: その他連絡事項（空欄可） | I39: : | J39: （自由記述：上記のほか工期等に影響を与えることが想定される情報等）
A44: （ | B44: 注 | C44: ） | D44: １． | E44: 本通知書については、建設業法施行規則第１３条の１４第２項に規定する事象が発生するおそれがあると認めるときに提出するものであり、当該事象の発生するおそれが認められない場合は、提出を求めるものではない。
D48: ２． | E48: 本通知書を提出する場合は、落札決定（随意契約の場合にあっては、契約の相手方の決定）から契約締結までに提出するものとする。
D51: ３． | E51: 「上記事象の状況の把握のため必要な情報の入手先」欄においては、受注予定者の通常の事業活動において把握でき、メディア記事、資材業者の記者発表あるいは公的主体や業界団体などにより作成・更新された一定の客観性を有する統計資料等に裏付けられた情報を用いること。（一の資材業者の口頭のみによる情報など、真偽を確認することが困難である情報は除かれることに留意すること。）
D57: ４． | E57: 本通知書により通知した事象が契約締結後に顕在化した場合は、建設業法第２０条の２第３項により、請負契約の変更についての協議を受注者から発注者に対して申し出ることができるが、当該協議については、本件工事の請負契約の規定等（スライド条項の運用基準等を含む。）に基づき対応を行うものであることに留意すること。
D62: ５． | E62: 本通知書を提出していない場合であっても、本件工事の請負契約の規定に基づき、請負契約の変更について発注者に対して受注者から協議を申し出ることができる。
A76: 発行責任者及び担当者
A77: ・ | B77: 発行責任者 | H77: =入力シート!C11&"" | L77: （電話番号） | N77: =入力シート!C12&""
A78: ・ | B78: 担当者 | H78: =入力シート!C13&"" | L78: （電話番号） | N78: =入力シート!C14&""
